BEGIN:VCALENDAR
VERSION:2.0
PRODID:-//Prior Lake Events - ECPv6.15.20//NONSGML v1.0//EN
CALSCALE:GREGORIAN
METHOD:PUBLISH
X-ORIGINAL-URL:https://priorlakeevents.com
X-WR-CALDESC:Events for Prior Lake Events
REFRESH-INTERVAL;VALUE=DURATION:PT1H
X-Robots-Tag:noindex
X-PUBLISHED-TTL:PT1H
BEGIN:VTIMEZONE
TZID:America/Chicago
BEGIN:DAYLIGHT
TZOFFSETFROM:-0600
TZOFFSETTO:-0500
TZNAME:CDT
DTSTART:20250309T080000
END:DAYLIGHT
BEGIN:STANDARD
TZOFFSETFROM:-0500
TZOFFSETTO:-0600
TZNAME:CST
DTSTART:20251102T070000
END:STANDARD
BEGIN:DAYLIGHT
TZOFFSETFROM:-0600
TZOFFSETTO:-0500
TZNAME:CDT
DTSTART:20260308T080000
END:DAYLIGHT
BEGIN:STANDARD
TZOFFSETFROM:-0500
TZOFFSETTO:-0600
TZNAME:CST
DTSTART:20261101T070000
END:STANDARD
BEGIN:DAYLIGHT
TZOFFSETFROM:-0600
TZOFFSETTO:-0500
TZNAME:CDT
DTSTART:20270314T080000
END:DAYLIGHT
BEGIN:STANDARD
TZOFFSETFROM:-0500
TZOFFSETTO:-0600
TZNAME:CST
DTSTART:20271107T070000
END:STANDARD
END:VTIMEZONE
BEGIN:VEVENT
DTSTART;TZID=America/Chicago:20260228T100000
DTEND;TZID=America/Chicago:20260228T130000
DTSTAMP:20260421T061402
CREATED:20260214T142316Z
LAST-MODIFIED:20260223T141816Z
UID:10003136-1772272800-1772283600@priorlakeevents.com
SUMMARY:Terrarium Workshop
DESCRIPTION:Terrarium & Succulent Container Workshop\nSaturday\, February 28th | 10 AM & 1 PM\nJoin us for a fun\, hands-on botanical workshop and create your very own little plant world 🌱 Whether you’re a seasoned plant lover or just getting started\, this workshop is full of creativity and inspiration.\nDuring the workshop\, you’ll have the option to create either a lush terrarium or a stylish succulent container—both perfect for adding a touch of green to your home or office. We’ll have everything you need on hand\, including vessels\, soil\, plants\, moss\, stones\, and decorative accents. You’re also welcome to bring your own vessel if you have something special you’d like to plant up. Our friendly and knowledgeable team will guide you every step of the way\, from choosing the right plants to designing a piece that will thrive long after you take it home.\nStart by selecting from our eclectic mix of glass vases\, jars\, bottles\, and containers—there’s something to fit every style and budget. Then choose your vibe:\n\n\nTerrariums: Create a charming mini ecosystem using low-growing plants\, mosses\, ferns\, and other lush greenery. Terrariums are a fun way to build a living\, self-contained environment that’s both beautiful and surprisingly easy to care for.\n\n\nSucculent Containers: Prefer something low-maintenance? Our easy-to-grow succulents and desert-style designs are perfect for bright spaces and busy schedules. These hardy plants thrive with minimal watering and lots of light.\n\n\nFinish off your creation with a little personality—add whimsical mini garden accessories and tiny creatures to bring your piece to life.\nThis workshop is perfect for all ages and makes a wonderful creative outing with friends\, family\, or coworkers. Come get your hands dirty\, have some fun\, and leave with something living and beautiful 💚\nPlease only register if you know you can attend. Please do not bring in any outside material other than a vessel.
URL:https://priorlakeevents.com/event/terrarium-workshop/
LOCATION:Sailer’s Greenhouse\, 1610 170th Street E\, Shakopee\, MN\, United States
CATEGORIES:Kids & Family
END:VEVENT
BEGIN:VEVENT
DTSTART;TZID=America/Chicago:20260228T173000
DTEND;TZID=America/Chicago:20260228T230000
DTSTAMP:20260421T061402
CREATED:20260211T014444Z
LAST-MODIFIED:20260211T014444Z
UID:10003133-1772299800-1772319600@priorlakeevents.com
SUMMARY:Edina Realty Foundation Fundraiser
DESCRIPTION:Edina Realty invites the community to a fun night out at Savage Tap in support of the Edina Realty Foundation. \nEnjoy live music\, a silent auction\, a gift card pull\, and more while helping raise funds for local community organizations supported by the foundation. \n🎶 What to Expect\n• Live music• Silent auction• Gift card pull• Community fundraiser atmosphere \n🍽 Dinner Tickets\n• $20 — includes catered food and one free tap drink courtesy of Savage Tap• Kids 10 & under: $10• Entry is free for those not eating \nAll are welcome\, and proceeds benefit local community organizations through the Edina Realty Foundation. \n📅 Friday\, February 28\, 2026🕠 5:30 PM – 11:00 PM📍 Savage Tap
URL:https://priorlakeevents.com/event/edina-realty-foundation-fundraiser/
LOCATION:The Savage Tap\, 12925 Eagle Creek Parkway\, MN\, United States
CATEGORIES:Arts/Entertainment|Legacy Amendment|Special Events,Bars & Breweries,Community,Fundraiser
ATTACH;FMTTYPE=image/jpeg:https://priorlakeevents.com/wp-content/uploads/2026/02/IMG_0458.jpeg
END:VEVENT
BEGIN:VEVENT
DTSTART;TZID=America/Chicago:20260228T180000
DTEND;TZID=America/Chicago:20260228T210000
DTSTAMP:20260421T061402
CREATED:20260223T133536Z
LAST-MODIFIED:20260223T141858Z
UID:10003169-1772301600-1772312400@priorlakeevents.com
SUMMARY:Next Stop Comedy Show at T.J. Hooligans
DESCRIPTION:Next Stop Comedy returns to T.J. Hooligans in Prior Lake on Saturday\, February 28. Dinner service starts at 6 PM with the comedy show kicking off at 8 PM. The previous show sold out\, so grab tickets early. \nTickets: https://nextstopcomedy.com/events/t-j-hooligans-prior-lake-2026-02-28/
URL:https://priorlakeevents.com/event/next-stop-comedy-show-at-t-j-hooligans/
LOCATION:T.J. Hooligans Prior Lake\, MN\, United States
CATEGORIES:Bars & Breweries,Comedy & Live Entertainment
END:VEVENT
BEGIN:VEVENT
DTSTART;TZID=America/Chicago:20260228T183000
DTEND;TZID=America/Chicago:20260228T210000
DTSTAMP:20260421T061402
CREATED:20260220T134611Z
LAST-MODIFIED:20260223T135351Z
UID:10003166-1772303400-1772312400@priorlakeevents.com
SUMMARY:Dance with Me Ball
DESCRIPTION:The 15th annual Dance with Me Ball returns to Prior Lake High School on Saturday\, February 28 from 6:30 to 9 p.m. Kids ages 5–12 are invited to bring a favorite adult for an evening of dancing\, DJ music\, princess appearances\, party favors\, and light snacks. Professional photos available for purchase. Presented by Prior Lake-Savage Community Education. \nREGISTER HERE
URL:https://priorlakeevents.com/event/dance-with-me-ball/
LOCATION:Prior Lake Senior High School\, 7575 150th St W\, Savage\, MN\, 55378\, United States
CATEGORIES:Community Education,Kids & Family,Special Events
ATTACH;FMTTYPE=image/png:https://priorlakeevents.com/wp-content/uploads/2026/02/DanceWithMeBallPortrait.png
END:VEVENT
BEGIN:VEVENT
DTSTART;TZID=America/Chicago:20260228T200000
DTEND;TZID=America/Chicago:20260228T230000
DTSTAMP:20260421T061402
CREATED:20251209T161953Z
LAST-MODIFIED:20260108T154454Z
UID:10002317-1772308800-1772319600@priorlakeevents.com
SUMMARY:Russell Peters: RELAX World Tour at Mystic Lake
DESCRIPTION:International comedy superstar Russell Peters brings his RELAX World Tour to the Mystic Showroom at Mystic Lake Casino Hotel. \nNamed one of Rolling Stone’s 50 Best Comics of All Time\, Peters is known for his razor-sharp wit\, fast-paced delivery\, and globally relatable humor. His stand-up specials have aired on Showtime\, Comedy Central\, Netflix\, and Amazon Prime\, and his Deported World Tour played to more than 400\,000 fans worldwide. A Peabody\, Emmy\, and Gemini Award winner\, Peters continues to be one of the most successful touring comedians on the planet. \n🎤 Stand-up comedy⏰ Showtime: 8:00 PM🎟️ Tickets: Starting at $49 at the Mystic Box Office or available via Ticketmaster (fees may apply) \n⏳ Please arrive 45 minutes early to allow time for security screening and seating. The show will begin promptly at the listed time.
URL:https://priorlakeevents.com/event/russell-peters-relax-world-tour/
LOCATION:Mystic Lake Casino Hotel\, Prior Lake\, MN\, United States
CATEGORIES:Comedy & Live Entertainment
END:VEVENT
BEGIN:VEVENT
DTSTART;TZID=America/Chicago:20260228T210000
DTEND;TZID=America/Chicago:20260301T000000
DTSTAMP:20260421T061402
CREATED:20260227T140142Z
LAST-MODIFIED:20260227T140142Z
UID:10003202-1772312400-1772323200@priorlakeevents.com
SUMMARY:DJ DIESEL at The Pointe
DESCRIPTION:DJ DIESEL hits the decks at The Pointe on Saturday\, February 28. The party starts at 9 p.m. Head out for a high-energy night of music at one of Prior Lake’s go-to spots.
URL:https://priorlakeevents.com/event/dj-diesel-at-the-pointe/
LOCATION:The Pointe\, 16691 State Hwy 13\, Prior Lake\, MN\, 55372\, United States
CATEGORIES:Bars & Breweries,Live Music
END:VEVENT
END:VCALENDAR