BEGIN:VCALENDAR
VERSION:2.0
PRODID:-//Prior Lake Events - ECPv6.15.20//NONSGML v1.0//EN
CALSCALE:GREGORIAN
METHOD:PUBLISH
X-WR-CALNAME:Prior Lake Events
X-ORIGINAL-URL:https://priorlakeevents.com
X-WR-CALDESC:Events for Prior Lake Events
REFRESH-INTERVAL;VALUE=DURATION:PT1H
X-Robots-Tag:noindex
X-PUBLISHED-TTL:PT1H
BEGIN:VTIMEZONE
TZID:America/Chicago
BEGIN:DAYLIGHT
TZOFFSETFROM:-0600
TZOFFSETTO:-0500
TZNAME:CDT
DTSTART:20250309T080000
END:DAYLIGHT
BEGIN:STANDARD
TZOFFSETFROM:-0500
TZOFFSETTO:-0600
TZNAME:CST
DTSTART:20251102T070000
END:STANDARD
BEGIN:DAYLIGHT
TZOFFSETFROM:-0600
TZOFFSETTO:-0500
TZNAME:CDT
DTSTART:20260308T080000
END:DAYLIGHT
BEGIN:STANDARD
TZOFFSETFROM:-0500
TZOFFSETTO:-0600
TZNAME:CST
DTSTART:20261101T070000
END:STANDARD
BEGIN:DAYLIGHT
TZOFFSETFROM:-0600
TZOFFSETTO:-0500
TZNAME:CDT
DTSTART:20270314T080000
END:DAYLIGHT
BEGIN:STANDARD
TZOFFSETFROM:-0500
TZOFFSETTO:-0600
TZNAME:CST
DTSTART:20271107T070000
END:STANDARD
END:VTIMEZONE
BEGIN:VEVENT
DTSTART;TZID=America/Chicago:20260307T210000
DTEND;TZID=America/Chicago:20260308T010000
DTSTAMP:20260420T080825
CREATED:20260302T140525Z
LAST-MODIFIED:20260302T140525Z
UID:10003224-1772917200-1772931600@priorlakeevents.com
SUMMARY:Classic British Rock with Jiggs Lee Invasion
DESCRIPTION:Jiggs Lee Invasion performs an evening of acoustic classic British rock at Mystic Lake Casino Hotel. Expect a laid-back set covering iconic British artists and bands. Music starts at 9 p.m. on Saturday\, March 7.
URL:https://priorlakeevents.com/event/classic-british-rock-with-jiggs-lee-invasion/
LOCATION:Mystic Lake Casino Hotel\, Prior Lake\, MN\, United States
CATEGORIES:Casino,Live Music
END:VEVENT
BEGIN:VEVENT
DTSTART;TZID=America/Chicago:20260308T120000
DTEND;TZID=America/Chicago:20260308T150000
DTSTAMP:20260420T080825
CREATED:20260301T184035Z
LAST-MODIFIED:20260301T184124Z
UID:10003206-1772971200-1772982000@priorlakeevents.com
SUMMARY:Pottery\, Paint & Pints
DESCRIPTION:Sign up to paint your own handcrafted ceramic piece at Boathouse Brothers Brewing Co. in Prior Lake on Sunday\, March 8. Choose a mug or bowl to paint with all paints\, tools\, and guided instruction included. A creative afternoon paired with craft beer in one of Prior Lake’s favorite local breweries.
URL:https://priorlakeevents.com/event/pottery-paint-pints/
LOCATION:Boathouse Brothers Brewing Co.\, 16211 Main Ave SE\, Prior Lake\, MN\, United States
CATEGORIES:Arts/Entertainment,Bars & Breweries,Create
END:VEVENT
END:VCALENDAR