BEGIN:VCALENDAR
VERSION:2.0
PRODID:-//Prior Lake Events - ECPv6.15.20//NONSGML v1.0//EN
CALSCALE:GREGORIAN
METHOD:PUBLISH
X-WR-CALNAME:Prior Lake Events
X-ORIGINAL-URL:https://priorlakeevents.com
X-WR-CALDESC:Events for Prior Lake Events
REFRESH-INTERVAL;VALUE=DURATION:PT1H
X-Robots-Tag:noindex
X-PUBLISHED-TTL:PT1H
BEGIN:VTIMEZONE
TZID:America/Chicago
BEGIN:DAYLIGHT
TZOFFSETFROM:-0600
TZOFFSETTO:-0500
TZNAME:CDT
DTSTART:20250309T080000
END:DAYLIGHT
BEGIN:STANDARD
TZOFFSETFROM:-0500
TZOFFSETTO:-0600
TZNAME:CST
DTSTART:20251102T070000
END:STANDARD
BEGIN:DAYLIGHT
TZOFFSETFROM:-0600
TZOFFSETTO:-0500
TZNAME:CDT
DTSTART:20260308T080000
END:DAYLIGHT
BEGIN:STANDARD
TZOFFSETFROM:-0500
TZOFFSETTO:-0600
TZNAME:CST
DTSTART:20261101T070000
END:STANDARD
BEGIN:DAYLIGHT
TZOFFSETFROM:-0600
TZOFFSETTO:-0500
TZNAME:CDT
DTSTART:20270314T080000
END:DAYLIGHT
BEGIN:STANDARD
TZOFFSETFROM:-0500
TZOFFSETTO:-0600
TZNAME:CST
DTSTART:20271107T070000
END:STANDARD
END:VTIMEZONE
BEGIN:VEVENT
DTSTART;TZID=America/Chicago:20260313T100000
DTEND;TZID=America/Chicago:20260317T150000
DTSTAMP:20260422T145055
CREATED:20260311T201648Z
LAST-MODIFIED:20260313T135932Z
UID:10003258-1773396000-1773759600@priorlakeevents.com
SUMMARY:Container Gardening Workshop - Multiple dates
DESCRIPTION:CONTAINER GARDENING WORKSHOPS\nYou plant it\, we grow it! \nShake off the winter blues and get your hands in the dirt at our March Planting Workshop! Drop in on our selected dates throughout March and create gorgeous spring containers before spring even arrives. Bright blooms\, fresh soil\, and a warm greenhouse—what’s not to love? \nOur expert planting team at Sailer’s Greenhouse will help you design and plant a stunning hanging basket or patio container\, sharing the tips and tricks we use to grow the most beautiful baskets around. We provide everything: a cozy greenhouse\, fresh soil\, quality pots\, and thousands of starter plants—including the newest must-have varieties before they sell out. \nIn just four easy steps\, you’ll build a container you’ll be proud of and watch it grow from start to finish. \nStep 1: Pick a 14” or 16” hanging basket or patio container.\nStep 2: Choose your plants—sun or shade\, bold or trailing. Follow your own vision or use one of our foolproof planting recipes.\nStep 3: Get planting! Our pros will guide you and share care tips to keep your container lush all summer.\nStep 4: The magic happens. We’ll nurture your containers in our greenhouse while they grow big and beautiful. You simply pick them up before Mother’s Day (hello\, perfect gift). \n📸 Don’t forget to snap a before-and-after photo! \nWhen \nWeek 1: March 5–8 | 10:00 am–5:00 pm\nWeek 2: March 12–15 | 10:00 am–5:00 pm \nDrop in anytime on your registered day. \nCost \nPatio pot or hanging basket (priced by container) \nRegistration \nPlease register for the day you plan to attend so we can prep supplies.
URL:https://priorlakeevents.com/event/container-gardening-workshop-3/
LOCATION:Sailer’s Greenhouse\, 1610 170th Street E\, Shakopee\, MN\, United States
CATEGORIES:Nature
ATTACH;FMTTYPE=image/png:https://priorlakeevents.com/wp-content/uploads/2026/03/Green-and-Yellow-Modern-Plants-Gardening-Presentation-2160-x-1080-px-2160-x-1080-px.png
ORGANIZER;CN="Sailer's Greenhouse":MAILTO:hello@sailersgreenhouse.com
END:VEVENT
BEGIN:VEVENT
DTSTART;TZID=America/Chicago:20260314T080000
DTEND;TZID=America/Chicago:20260314T120000
DTSTAMP:20260422T145055
CREATED:20260309T120748Z
LAST-MODIFIED:20260309T120748Z
UID:10003228-1773475200-1773489600@priorlakeevents.com
SUMMARY:Senate District 54 DFL Convention
DESCRIPTION:The Senate District 54 DFL will hold its convention at Twin Oaks Middle School on Saturday\, March 14. Doors open at 8 a.m. with registration\, and the official call begins at 9 a.m. Delegates will vote on DFL Party platform items and legislative priorities\, elect local party leadership\, and endorse candidates for the Minnesota House and Senate. Non-delegates are welcome to attend and observe.
URL:https://priorlakeevents.com/event/senate-district-54-dfl-convention/
LOCATION:Twin Oaks Middle School\, 15860 Fish Point Road SE\, Prior Lake\, MN\, 55372\, USA
CATEGORIES:Community,Government
END:VEVENT
BEGIN:VEVENT
DTSTART;TZID=America/Chicago:20260314T100000
DTEND;TZID=America/Chicago:20260314T120000
DTSTAMP:20260422T145055
CREATED:20251027T174856Z
LAST-MODIFIED:20251216T173350Z
UID:10000657-1773482400-1773489600@priorlakeevents.com
SUMMARY:Flowers & Friends Partner Painting (Ages 5+ w/Adult) - NEW!
DESCRIPTION:Join us for a fun-filled morning of painting with your child! This class is all about spending quality time together and having fun—no experience needed. Each participant will receive a 16 x 20 canvas\, acrylic paints\, and all the supplies necessary to create their own masterpiece. Your finished pieces can stand alone or be hung side-by-side to form a combined work of art. Our instructor will guide you step-by-step through the painting process. — Min age: 5 yr. \nRegistration required: Register & pay via Prior Lake–Savage Community Education.
URL:https://priorlakeevents.com/event/flowers-friends-partner-painting-ages-5-w-adult-new/
LOCATION:Twin Oaks Middle School\, 15860 Fish Point Road SE\, Prior Lake\, MN\, 55372\, USA
END:VEVENT
BEGIN:VEVENT
DTSTART;TZID=America/Chicago:20260314T140000
DTEND;TZID=America/Chicago:20260314T170000
DTSTAMP:20260422T145055
CREATED:20260220T214729Z
LAST-MODIFIED:20260313T134511Z
UID:10003167-1773496800-1773507600@priorlakeevents.com
SUMMARY:BrrrFEST 2026: A Social Beer & Wine Experience
DESCRIPTION:BrrrFEST 2026 returns to the Prior Lake VFW for an afternoon of craft beverages\, good conversation\, and community spirit. \nGuests can sample standout beer\, wine\, and spirits from local favorites and well-known national names — all in a lively\, social atmosphere designed for discovery (without the long festival lines). This intentionally relaxed tasting experience gives attendees the chance to connect directly with beverage vendors\, ask questions\, and find new favorites. \nMusic and food details will be announced soon. \nBrrrFEST is proudly held in partnership with the Prior Lake Veterans of Foreign Wars. A portion of event proceeds will be donated back to the Prior Lake VFW to support its programs\, operations\, and local veterans. \nWhether you’re a seasoned craft enthusiast or simply looking for a fun Saturday afternoon out\, BrrrFEST blends community\, conversation\, and purpose in one welcoming space. \nSaturday\, March 14\, 2026 · 2:00–5:00 PM📍 Prior Lake VFW Post 6208🔞 21+ Event
URL:https://priorlakeevents.com/event/brrrfest-2026-prior-lake/
LOCATION:Prior Lake VFW 6208\, 16306 Main Ave SE\, Prior Lake\, MN\, 55372\, United States
CATEGORIES:Bars & Breweries,Food & Drink
END:VEVENT
BEGIN:VEVENT
DTSTART;TZID=America/Chicago:20260314T203000
DTEND;TZID=America/Chicago:20260315T003000
DTSTAMP:20260422T145055
CREATED:20260312T211148Z
LAST-MODIFIED:20260312T211148Z
UID:10003273-1773520200-1773534600@priorlakeevents.com
SUMMARY:Solid Gold Band at Prior Lake VFW
DESCRIPTION:Solid Gold Band takes the stage at the Prior Lake VFW on Saturday\, March 14 starting at 8:30 p.m. It’s steak fry night\, so bring your appetite along with your dancing shoes. Kick off your St. Patrick’s Day weekend with live music and great food at one of Prior Lake’s go-to community spots.
URL:https://priorlakeevents.com/event/solid-gold-band-at-prior-lake-vfw/
LOCATION:Prior Lake VFW 6208\, 16306 Main Ave SE\, Prior Lake\, MN\, 55372\, United States
CATEGORIES:Community,Live Music
END:VEVENT
BEGIN:VEVENT
DTSTART;TZID=America/Chicago:20260314T210000
DTEND;TZID=America/Chicago:20260315T000000
DTSTAMP:20260422T145055
CREATED:20260312T211146Z
LAST-MODIFIED:20260312T211146Z
UID:10003272-1773522000-1773532800@priorlakeevents.com
SUMMARY:Jered Graff
DESCRIPTION:Jered Graff performs live at The Pointe on Saturday\, March 14. Music kicks off at 9 p.m. Head out to one of Prior Lake’s favorite nightlife spots for a Saturday night of live music and good times.
URL:https://priorlakeevents.com/event/jered-graff/
LOCATION:The Pointe\, 16691 State Hwy 13\, Prior Lake\, MN\, 55372\, United States
CATEGORIES:Bars & Breweries,Live Music
END:VEVENT
END:VCALENDAR