BEGIN:VCALENDAR
VERSION:2.0
PRODID:-//Prior Lake Events - ECPv6.15.20//NONSGML v1.0//EN
CALSCALE:GREGORIAN
METHOD:PUBLISH
X-WR-CALNAME:Prior Lake Events
X-ORIGINAL-URL:https://priorlakeevents.com
X-WR-CALDESC:Events for Prior Lake Events
REFRESH-INTERVAL;VALUE=DURATION:PT1H
X-Robots-Tag:noindex
X-PUBLISHED-TTL:PT1H
BEGIN:VTIMEZONE
TZID:America/Chicago
BEGIN:DAYLIGHT
TZOFFSETFROM:-0600
TZOFFSETTO:-0500
TZNAME:CDT
DTSTART:20250309T080000
END:DAYLIGHT
BEGIN:STANDARD
TZOFFSETFROM:-0500
TZOFFSETTO:-0600
TZNAME:CST
DTSTART:20251102T070000
END:STANDARD
BEGIN:DAYLIGHT
TZOFFSETFROM:-0600
TZOFFSETTO:-0500
TZNAME:CDT
DTSTART:20260308T080000
END:DAYLIGHT
BEGIN:STANDARD
TZOFFSETFROM:-0500
TZOFFSETTO:-0600
TZNAME:CST
DTSTART:20261101T070000
END:STANDARD
BEGIN:DAYLIGHT
TZOFFSETFROM:-0600
TZOFFSETTO:-0500
TZNAME:CDT
DTSTART:20270314T080000
END:DAYLIGHT
BEGIN:STANDARD
TZOFFSETFROM:-0500
TZOFFSETTO:-0600
TZNAME:CST
DTSTART:20271107T070000
END:STANDARD
END:VTIMEZONE
BEGIN:VEVENT
DTSTART;TZID=America/Chicago:20260422T163000
DTEND;TZID=America/Chicago:20260422T163000
DTSTAMP:20260422T051217
CREATED:20251101T164615Z
LAST-MODIFIED:20251216T173345Z
UID:10001026-1776875400-1776875400@priorlakeevents.com
SUMMARY:Baseball: Varsity  vs. Burnsville (Home)
DESCRIPTION:Baseball – Varsity vs Burnsville – 4:30 PM at Memorial Park – Prior Lake
URL:https://priorlakeevents.com/event/baseball-varsity-vs-burnsville-home/
LOCATION:MN
ATTACH;FMTTYPE=image/webp:https://priorlakeevents.com/wp-content/uploads/2025/10/PL_FullColor1.webp
END:VEVENT
BEGIN:VEVENT
DTSTART;TZID=America/Chicago:20260422T163000
DTEND;TZID=America/Chicago:20260422T163000
DTSTAMP:20260422T051217
CREATED:20251101T164616Z
LAST-MODIFIED:20251216T173344Z
UID:10001027-1776875400-1776875400@priorlakeevents.com
SUMMARY:Softball: Girls Varsity  vs. Lakeville South (Home)
DESCRIPTION:Softball – Girls Varsity vs Lakeville South – 4:30 PM at Prior Lake High School
URL:https://priorlakeevents.com/event/softball-girls-varsity-vs-lakeville-south-home/
LOCATION:Prior Lake High School\, 7575 150th St. West\, Savage\, MN\, 55378
ATTACH;FMTTYPE=image/webp:https://priorlakeevents.com/wp-content/uploads/2025/10/PL_FullColor1.webp
END:VEVENT
END:VCALENDAR