BEGIN:VCALENDAR
VERSION:2.0
PRODID:-//Prior Lake Events - ECPv6.15.20//NONSGML v1.0//EN
CALSCALE:GREGORIAN
METHOD:PUBLISH
X-ORIGINAL-URL:https://priorlakeevents.com
X-WR-CALDESC:Events for Prior Lake Events
REFRESH-INTERVAL;VALUE=DURATION:PT1H
X-Robots-Tag:noindex
X-PUBLISHED-TTL:PT1H
BEGIN:VTIMEZONE
TZID:America/Chicago
BEGIN:DAYLIGHT
TZOFFSETFROM:-0600
TZOFFSETTO:-0500
TZNAME:CDT
DTSTART:20250309T080000
END:DAYLIGHT
BEGIN:STANDARD
TZOFFSETFROM:-0500
TZOFFSETTO:-0600
TZNAME:CST
DTSTART:20251102T070000
END:STANDARD
BEGIN:DAYLIGHT
TZOFFSETFROM:-0600
TZOFFSETTO:-0500
TZNAME:CDT
DTSTART:20260308T080000
END:DAYLIGHT
BEGIN:STANDARD
TZOFFSETFROM:-0500
TZOFFSETTO:-0600
TZNAME:CST
DTSTART:20261101T070000
END:STANDARD
BEGIN:DAYLIGHT
TZOFFSETFROM:-0600
TZOFFSETTO:-0500
TZNAME:CDT
DTSTART:20270314T080000
END:DAYLIGHT
BEGIN:STANDARD
TZOFFSETFROM:-0500
TZOFFSETTO:-0600
TZNAME:CST
DTSTART:20271107T070000
END:STANDARD
END:VTIMEZONE
BEGIN:VEVENT
DTSTART;TZID=America/Chicago:20260728T183000
DTEND;TZID=America/Chicago:20260728T213000
DTSTAMP:20260422T223621
CREATED:20260413T122509Z
LAST-MODIFIED:20260413T122511Z
UID:10003355-1785263400-1785274200@priorlakeevents.com
SUMMARY:The Black Crowes and Whiskey Myers at Mystic Lake Amphitheater
DESCRIPTION:The Black Crowes and Whiskey Myers brings the Southern Hospitality Tour to Mystic Lake Amphitheater in Shakopee on July 28\, 2026 at 6:30 PM.
URL:https://priorlakeevents.com/event/the-black-crowes-and-whiskey-myers-at-mystic-lake-amphitheater/
LOCATION:Mystic Lake Amphitheater\, 712 Canterbury Rd\, Shakopee\, 55379\, United States
CATEGORIES:Live Music
END:VEVENT
BEGIN:VEVENT
DTSTART;TZID=America/Chicago:20260728T190000
DTEND;TZID=America/Chicago:20260728T200000
DTSTAMP:20260422T223621
CREATED:20260108T132843Z
LAST-MODIFIED:20260108T150626Z
UID:10002383-1785265200-1785268800@priorlakeevents.com
SUMMARY:Prior Lake City Council Meeting
DESCRIPTION:The City of Prior Lake City Council meets regularly to discuss and act on city business. Meetings are open to the public and residents are encouraged to attend. \nCity Council meetings are held on the second and fourth Tuesday of each month at City Hall. \n🏛️ Work Session: 5:00 PM🕖 City Council Meeting: 7:00 PM📍 Location: Prior Lake City Hall👥 Open to the public \nMeeting agendas and materials are typically available through the city prior to each meeting.
URL:https://priorlakeevents.com/event/city-council-meeting-8/2026-07-28/
LOCATION:City of Prior Lake – City Hall\, 4646 Dakota St SE\, Prior Lake\, MN\, 55372\, United States
CATEGORIES:Government
GEO:44.718271;-93.419505
X-APPLE-STRUCTURED-LOCATION;VALUE=URI;X-ADDRESS=City of Prior Lake – City Hall 4646 Dakota St SE Prior Lake MN 55372 United States;X-APPLE-RADIUS=500;X-TITLE=4646 Dakota St SE:geo:-93.419505,44.718271
END:VEVENT
END:VCALENDAR