BEGIN:VCALENDAR
VERSION:2.0
PRODID:-//Prior Lake Events - ECPv6.15.20//NONSGML v1.0//EN
CALSCALE:GREGORIAN
METHOD:PUBLISH
X-WR-CALNAME:Prior Lake Events
X-ORIGINAL-URL:https://priorlakeevents.com
X-WR-CALDESC:Events for Prior Lake Events
REFRESH-INTERVAL;VALUE=DURATION:PT1H
X-Robots-Tag:noindex
X-PUBLISHED-TTL:PT1H
BEGIN:VTIMEZONE
TZID:America/Chicago
BEGIN:DAYLIGHT
TZOFFSETFROM:-0600
TZOFFSETTO:-0500
TZNAME:CDT
DTSTART:20250309T080000
END:DAYLIGHT
BEGIN:STANDARD
TZOFFSETFROM:-0500
TZOFFSETTO:-0600
TZNAME:CST
DTSTART:20251102T070000
END:STANDARD
BEGIN:DAYLIGHT
TZOFFSETFROM:-0600
TZOFFSETTO:-0500
TZNAME:CDT
DTSTART:20260308T080000
END:DAYLIGHT
BEGIN:STANDARD
TZOFFSETFROM:-0500
TZOFFSETTO:-0600
TZNAME:CST
DTSTART:20261101T070000
END:STANDARD
BEGIN:DAYLIGHT
TZOFFSETFROM:-0600
TZOFFSETTO:-0500
TZNAME:CDT
DTSTART:20270314T080000
END:DAYLIGHT
BEGIN:STANDARD
TZOFFSETFROM:-0500
TZOFFSETTO:-0600
TZNAME:CST
DTSTART:20271107T070000
END:STANDARD
END:VTIMEZONE
BEGIN:VEVENT
DTSTART;TZID=America/Chicago:20260926T100000
DTEND;TZID=America/Chicago:20260926T160000
DTSTAMP:20260423T012331
CREATED:20260301T184100Z
LAST-MODIFIED:20260301T184100Z
UID:10003220-1790416800-1790438400@priorlakeevents.com
SUMMARY:2026 Pleasant Street Art Walk
DESCRIPTION:The 8th Annual Pleasant Street Art Walk returns to Prior Lake on Saturday\, September 26 from 10 a.m. to 4 p.m. Stroll the Pleasant Street SE neighborhood and visit local artists and their studios. For more information\, visit anmpottery.com/pleasant-street-art-walk.
URL:https://priorlakeevents.com/event/2026-pleasant-street-art-walk/
LOCATION:ANM Pottery\, 4667 Pleasant St SE\, Prior Lake\, MN\, 55372\, United States
CATEGORIES:Arts/Entertainment,Community
GEO:44.682763;-93.464428
X-APPLE-STRUCTURED-LOCATION;VALUE=URI;X-ADDRESS=ANM Pottery 4667 Pleasant St SE Prior Lake MN 55372 United States;X-APPLE-RADIUS=500;X-TITLE=4667 Pleasant St SE:geo:-93.464428,44.682763
END:VEVENT
BEGIN:VEVENT
DTSTART;TZID=America/Chicago:20260926T200000
DTEND;TZID=America/Chicago:20260926T230000
DTSTAMP:20260423T012331
CREATED:20260413T122630Z
LAST-MODIFIED:20260413T122632Z
UID:10003377-1790452800-1790463600@priorlakeevents.com
SUMMARY:Pitbull at Mystic Lake Amphitheater
DESCRIPTION:Pitbull brings the I’m Back with special guest Lil Jon to Mystic Lake Amphitheater in Shakopee on September 26\, 2026 at 8:00 PM.
URL:https://priorlakeevents.com/event/pitbull-at-mystic-lake-amphitheater/
LOCATION:Mystic Lake Amphitheater\, 712 Canterbury Rd\, Shakopee\, 55379\, United States
CATEGORIES:Live Music
END:VEVENT
END:VCALENDAR