BEGIN:VCALENDAR
VERSION:2.0
PRODID:-//Prior Lake Events - ECPv6.15.20//NONSGML v1.0//EN
CALSCALE:GREGORIAN
METHOD:PUBLISH
X-ORIGINAL-URL:https://priorlakeevents.com
X-WR-CALDESC:Events for Prior Lake Events
REFRESH-INTERVAL;VALUE=DURATION:PT1H
X-Robots-Tag:noindex
X-PUBLISHED-TTL:PT1H
BEGIN:VTIMEZONE
TZID:America/Chicago
BEGIN:DAYLIGHT
TZOFFSETFROM:-0600
TZOFFSETTO:-0500
TZNAME:CDT
DTSTART:20250309T080000
END:DAYLIGHT
BEGIN:STANDARD
TZOFFSETFROM:-0500
TZOFFSETTO:-0600
TZNAME:CST
DTSTART:20251102T070000
END:STANDARD
BEGIN:DAYLIGHT
TZOFFSETFROM:-0600
TZOFFSETTO:-0500
TZNAME:CDT
DTSTART:20260308T080000
END:DAYLIGHT
BEGIN:STANDARD
TZOFFSETFROM:-0500
TZOFFSETTO:-0600
TZNAME:CST
DTSTART:20261101T070000
END:STANDARD
BEGIN:DAYLIGHT
TZOFFSETFROM:-0600
TZOFFSETTO:-0500
TZNAME:CDT
DTSTART:20270314T080000
END:DAYLIGHT
BEGIN:STANDARD
TZOFFSETFROM:-0500
TZOFFSETTO:-0600
TZNAME:CST
DTSTART:20271107T070000
END:STANDARD
END:VTIMEZONE
BEGIN:VEVENT
DTSTART;TZID=America/Chicago:20260228T183000
DTEND;TZID=America/Chicago:20260228T210000
DTSTAMP:20260422T115233
CREATED:20260220T134611Z
LAST-MODIFIED:20260223T135351Z
UID:10003166-1772303400-1772312400@priorlakeevents.com
SUMMARY:Dance with Me Ball
DESCRIPTION:The 15th annual Dance with Me Ball returns to Prior Lake High School on Saturday\, February 28 from 6:30 to 9 p.m. Kids ages 5–12 are invited to bring a favorite adult for an evening of dancing\, DJ music\, princess appearances\, party favors\, and light snacks. Professional photos available for purchase. Presented by Prior Lake-Savage Community Education. \nREGISTER HERE
URL:https://priorlakeevents.com/event/dance-with-me-ball/
LOCATION:Prior Lake Senior High School\, 7575 150th St W\, Savage\, MN\, 55378\, United States
CATEGORIES:Community Education,Kids & Family,Special Events
ATTACH;FMTTYPE=image/png:https://priorlakeevents.com/wp-content/uploads/2026/02/DanceWithMeBallPortrait.png
END:VEVENT
END:VCALENDAR