BEGIN:VCALENDAR
VERSION:2.0
PRODID:-//Prior Lake Events - ECPv6.15.20//NONSGML v1.0//EN
CALSCALE:GREGORIAN
METHOD:PUBLISH
X-WR-CALNAME:Prior Lake Events
X-ORIGINAL-URL:https://priorlakeevents.com
X-WR-CALDESC:Events for Prior Lake Events
REFRESH-INTERVAL;VALUE=DURATION:PT1H
X-Robots-Tag:noindex
X-PUBLISHED-TTL:PT1H
BEGIN:VTIMEZONE
TZID:America/Chicago
BEGIN:DAYLIGHT
TZOFFSETFROM:-0600
TZOFFSETTO:-0500
TZNAME:CDT
DTSTART:20250309T080000
END:DAYLIGHT
BEGIN:STANDARD
TZOFFSETFROM:-0500
TZOFFSETTO:-0600
TZNAME:CST
DTSTART:20251102T070000
END:STANDARD
BEGIN:DAYLIGHT
TZOFFSETFROM:-0600
TZOFFSETTO:-0500
TZNAME:CDT
DTSTART:20260308T080000
END:DAYLIGHT
BEGIN:STANDARD
TZOFFSETFROM:-0500
TZOFFSETTO:-0600
TZNAME:CST
DTSTART:20261101T070000
END:STANDARD
BEGIN:DAYLIGHT
TZOFFSETFROM:-0600
TZOFFSETTO:-0500
TZNAME:CDT
DTSTART:20270314T080000
END:DAYLIGHT
BEGIN:STANDARD
TZOFFSETFROM:-0500
TZOFFSETTO:-0600
TZNAME:CST
DTSTART:20271107T070000
END:STANDARD
END:VTIMEZONE
BEGIN:VEVENT
DTSTART;TZID=America/Chicago:20260424T170000
DTEND;TZID=America/Chicago:20260424T210000
DTSTAMP:20260421T045012
CREATED:20260420T122844Z
LAST-MODIFIED:20260420T122918Z
UID:10003398-1777050000-1777064400@priorlakeevents.com
SUMMARY:Job Fair - Mystic Lake Amphitheater
DESCRIPTION:Mystic Lake Amphitheater hosts a job fair at Mystic Lake Center to staff its inaugural 2026 season. Drop in Friday\, April 24 from 5 to 9 p.m. to meet the team and discuss open venue and concessions positions. \nAdditional job fair dates: April 25-26 from 11 a.m. to 3 p.m.\, May 1 from 5 to 9 p.m.\, and May 2-3 from 11 a.m. to 3 p.m. Venue roles: bit.ly/4mwGE4E. Concessions roles: bit.ly/4mqjvAB.
URL:https://priorlakeevents.com/event/job-fair-mystic-lake-amphitheater/
LOCATION:Mystic Lake Casino Hotel\, Prior Lake\, MN\, United States
CATEGORIES:Casino,Community,Special Events
END:VEVENT
BEGIN:VEVENT
DTSTART;TZID=America/Chicago:20260425T080000
DTEND;TZID=America/Chicago:20260425T110000
DTSTAMP:20260421T045012
CREATED:20260420T123054Z
LAST-MODIFIED:20260420T123054Z
UID:10003399-1777104000-1777114800@priorlakeevents.com
SUMMARY:Huge Multi-Family Garage Sale
DESCRIPTION:Cornerstone Family Enrichment hosts a huge multi-family garage sale in Spring Lake Township on Saturday\, April 25 from 8 to 11 a.m. Stop by to shop a wide variety of items from multiple families.
URL:https://priorlakeevents.com/event/huge-multi-family-garage-sale/
LOCATION:Spring Lake Township Hall\, 20381 Fairlawn Ave\, Prior Lake\, MN\, 55372\, United States
CATEGORIES:Community,Market / Shopping
END:VEVENT
BEGIN:VEVENT
DTSTART;TZID=America/Chicago:20260425T090000
DTEND;TZID=America/Chicago:20260425T150000
DTSTAMP:20260421T045012
CREATED:20260420T125731Z
LAST-MODIFIED:20260420T125739Z
UID:10003402-1777107600-1777129200@priorlakeevents.com
SUMMARY:Big Book Sale - Friends of the Prior Lake Library
DESCRIPTION:The Friends of the Prior Lake Library host a one-day used book sale at the Prior Lake Library on Saturday\, April 25 from 9 a.m. to 3 p.m. Browse non-fiction\, picture books\, adult and young adult fiction\, children’s books\, and DVDs. \nPricing is donation-based with cash and checks accepted. All proceeds support programming and projects at the Prior Lake Library. Resellers are welcome from 2 to 3 p.m. only.
URL:https://priorlakeevents.com/event/big-book-sale-friends-of-the-prior-lake-library-3/
LOCATION:Prior Lake Library\, 16210 Eagle Creek Avenue SE\, Prior Lake\, MN\, 55372\, United States
CATEGORIES:Books/Authors,Community,Fundraiser,Market / Shopping
END:VEVENT
BEGIN:VEVENT
DTSTART;TZID=America/Chicago:20260425T110000
DTEND;TZID=America/Chicago:20260425T190000
DTSTAMP:20260421T045012
CREATED:20260410T004655Z
LAST-MODIFIED:20260410T004655Z
UID:10003338-1777114800-1777143600@priorlakeevents.com
SUMMARY:AprilFest 2026
DESCRIPTION:St. Michael Catholic Church hosts AprilFest 2026\, a fun-filled community celebration in Prior Lake! Enjoy food\, beverages\, kids games\, and more. \nTickets are $1 each and can be used for food\, beverages\, and kids games. Pre-order your tickets online and receive 5 free tickets for every 20 purchased. Pre-orders close Sunday\, April 19th. \nVolunteers are also needed — visit the event website to sign up.
URL:https://priorlakeevents.com/event/aprilfest-2026/
LOCATION:St. Michael’s Church\, 16311 Duluth Avenue\, Prior Lake\, MN\, 55372\, United States
CATEGORIES:Community,Festival,Food & Drink,Kids & Family
END:VEVENT
BEGIN:VEVENT
DTSTART;TZID=America/Chicago:20260426T070000
DTEND;TZID=America/Chicago:20260426T170000
DTSTAMP:20260421T045012
CREATED:20260301T184045Z
LAST-MODIFIED:20260301T184131Z
UID:10003210-1777186800-1777222800@priorlakeevents.com
SUMMARY:Prior Lake Hooksetters Annual Crappie Tournament
DESCRIPTION:The Prior Lake Hooksetters host their annual crappie tournament on Saturday\, April 26 based out of Charlie’s on Prior. Registration runs from 7 to 9 a.m.\, the tournament is 9 a.m. to 2 p.m.\, and weigh-in and prizes wrap up from 2 to 5 p.m. A 50/50 raffle is also available with tickets at $10. Contact PLhooksetters@gmail.com for sponsorship opportunities.
URL:https://priorlakeevents.com/event/prior-lake-hooksetters-annual-crappie-tournament/
LOCATION:Charlie’s On Prior\, 3950 Green Heights Trail SW\, Prior Lake\, MN\, 55372\, USA
CATEGORIES:Community,Outdoor & Recreation,Sports/Live Events
END:VEVENT
BEGIN:VEVENT
DTSTART;TZID=America/Chicago:20260426T083000
DTEND;TZID=America/Chicago:20260426T120000
DTSTAMP:20260421T045012
CREATED:20260420T130424Z
LAST-MODIFIED:20260420T133028Z
UID:10003403-1777192200-1777204800@priorlakeevents.com
SUMMARY:Knights of Columbus Pancake Breakfast
DESCRIPTION:The Knights of Columbus host a pancake breakfast at St. Michael’s Catholic Church on Sunday\, April 26 in Archangels Hall. Enjoy a hearty breakfast served by local Knights in a relaxed\, family-friendly setting. \nProceeds will benefit AprilFest\, the parish’s annual community celebration.
URL:https://priorlakeevents.com/event/knights-of-columbus-pancake-breakfast-2/
LOCATION:St. Michael’s Church\, 16311 Duluth Avenue\, Prior Lake\, MN\, 55372\, United States
CATEGORIES:Community,Food & Drink,Fundraiser
END:VEVENT
BEGIN:VEVENT
DTSTART;TZID=America/Chicago:20260430T170000
DTEND;TZID=America/Chicago:20260430T180000
DTSTAMP:20260421T045012
CREATED:20260126T133256Z
LAST-MODIFIED:20260126T133256Z
UID:10002908-1777568400-1777572000@priorlakeevents.com
SUMMARY:COMMUNITY PLATE - SECOND AND LAST THURSDAY MONTHLY 2026
DESCRIPTION:Community Plate is a beautiful opportunity to help meet a basic meal need in the community and to show others love!~ RF \n\n📍 Location\nGreat Room at SOLLC3611 N Berens Rd NWPrior Lake\, MN 55379 \n\n🗓 When\nSecond and last Thursday of each month (2026) \n\n⏰ Time\n5:00–6:00 PM \nHoliday schedules may vary. Thanksgiving and New Year’s Eve meals may be offered as grab-and-go distributions with adjusted times. \n\n🍽 2026 Dates\nServing time is 5:00–6:00 PM unless noted. \n\n\nJanuary: 8\, 29 \n\n\nFebruary: 12\, 26 (Red Cross Mobile Blood Drive on campus Feb 26\, noon–6 PM) \n\n\nMarch: 12\, 26 \n\n\nApril: 9\, 30 \n\n\nMay: 14\, 28 \n\n\nJune: 11\, 25 \n\n\nJuly: 9\, 30 \n\n\nAugust: 13\, 27 \n\n\nSeptember: 10\, 24 \n\n\nOctober: 8\, 29 \n\n\nNovember: 12\, 26 (Thanksgiving grab-and-go; registration required) \n\n\nDecember: 10\, 31 (New Year’s grab-and-go; registration required)
URL:https://priorlakeevents.com/event/community-plate-second-and-last-thursday-monthly-2026/2026-04-30/
LOCATION:Shepherd of the Lake Lutheran Church\, 3611 N Berens Rd NW\, Prior Lake\, MN\, United States
CATEGORIES:Community
ATTACH;FMTTYPE=image/jpeg:https://priorlakeevents.com/wp-content/uploads/2026/01/winter-flyer.jpg
ORGANIZER;CN="Smoke Signals":MAILTO:robbfrank8@comcast.net
END:VEVENT
END:VCALENDAR