BEGIN:VCALENDAR
VERSION:2.0
PRODID:-//Prior Lake Events - ECPv6.15.20//NONSGML v1.0//EN
CALSCALE:GREGORIAN
METHOD:PUBLISH
X-WR-CALNAME:Prior Lake Events
X-ORIGINAL-URL:https://priorlakeevents.com
X-WR-CALDESC:Events for Prior Lake Events
REFRESH-INTERVAL;VALUE=DURATION:PT1H
X-Robots-Tag:noindex
X-PUBLISHED-TTL:PT1H
BEGIN:VTIMEZONE
TZID:America/Chicago
BEGIN:DAYLIGHT
TZOFFSETFROM:-0600
TZOFFSETTO:-0500
TZNAME:CDT
DTSTART:20250309T080000
END:DAYLIGHT
BEGIN:STANDARD
TZOFFSETFROM:-0500
TZOFFSETTO:-0600
TZNAME:CST
DTSTART:20251102T070000
END:STANDARD
BEGIN:DAYLIGHT
TZOFFSETFROM:-0600
TZOFFSETTO:-0500
TZNAME:CDT
DTSTART:20260308T080000
END:DAYLIGHT
BEGIN:STANDARD
TZOFFSETFROM:-0500
TZOFFSETTO:-0600
TZNAME:CST
DTSTART:20261101T070000
END:STANDARD
BEGIN:DAYLIGHT
TZOFFSETFROM:-0600
TZOFFSETTO:-0500
TZNAME:CDT
DTSTART:20270314T080000
END:DAYLIGHT
BEGIN:STANDARD
TZOFFSETFROM:-0500
TZOFFSETTO:-0600
TZNAME:CST
DTSTART:20271107T070000
END:STANDARD
END:VTIMEZONE
BEGIN:VEVENT
DTSTART;TZID=America/Chicago:20260502T160000
DTEND;TZID=America/Chicago:20260502T190000
DTSTAMP:20260421T050129
CREATED:20260420T213907Z
LAST-MODIFIED:20260420T213907Z
UID:10003440-1777737600-1777748400@priorlakeevents.com
SUMMARY:Prior Lake Robotics Burger Bash at the VFW
DESCRIPTION:The PLHS Robotics Boosters team up with the Prior Lake VFW for a Burger Bash fundraiser on Friday\, May 2 from 4 to 7 p.m. Proceeds support team KING TeC as they head to the FIRST Championship (the robotics world finals) in Houston\, Texas after winning the Northern Lights Regional earlier this season. \nTickets are $10 for a burger basket or $20 for a burger basket and beer. Presale tickets are available from Prior Lake robotics students\, or pay at the door. \nPrior Lake VFW Post 6208 is located at 16306 Main Ave SE in downtown Prior Lake. Come out and send our students to Worlds.
URL:https://priorlakeevents.com/event/prior-lake-robotics-burger-bash-at-the-vfw/
LOCATION:Prior Lake VFW 6208\, 16306 Main Ave SE\, Prior Lake\, MN\, 55372\, United States
CATEGORIES:Community,Food & Drink,Fundraiser,School Fundraiser
END:VEVENT
END:VCALENDAR