BEGIN:VCALENDAR
VERSION:2.0
PRODID:-//Prior Lake Events - ECPv6.15.20//NONSGML v1.0//EN
CALSCALE:GREGORIAN
METHOD:PUBLISH
X-ORIGINAL-URL:https://priorlakeevents.com
X-WR-CALDESC:Events for Prior Lake Events
REFRESH-INTERVAL;VALUE=DURATION:PT1H
X-Robots-Tag:noindex
X-PUBLISHED-TTL:PT1H
BEGIN:VTIMEZONE
TZID:America/Chicago
BEGIN:DAYLIGHT
TZOFFSETFROM:-0600
TZOFFSETTO:-0500
TZNAME:CDT
DTSTART:20250309T080000
END:DAYLIGHT
BEGIN:STANDARD
TZOFFSETFROM:-0500
TZOFFSETTO:-0600
TZNAME:CST
DTSTART:20251102T070000
END:STANDARD
BEGIN:DAYLIGHT
TZOFFSETFROM:-0600
TZOFFSETTO:-0500
TZNAME:CDT
DTSTART:20260308T080000
END:DAYLIGHT
BEGIN:STANDARD
TZOFFSETFROM:-0500
TZOFFSETTO:-0600
TZNAME:CST
DTSTART:20261101T070000
END:STANDARD
BEGIN:DAYLIGHT
TZOFFSETFROM:-0600
TZOFFSETTO:-0500
TZNAME:CDT
DTSTART:20270314T080000
END:DAYLIGHT
BEGIN:STANDARD
TZOFFSETFROM:-0500
TZOFFSETTO:-0600
TZNAME:CST
DTSTART:20271107T070000
END:STANDARD
END:VTIMEZONE
BEGIN:VEVENT
DTSTART;TZID=America/Chicago:20260625T160000
DTEND;TZID=America/Chicago:20260627T220000
DTSTAMP:20260423T164404
CREATED:20260423T195055Z
LAST-MODIFIED:20260423T195055Z
UID:10003454-1782403200-1782597600@priorlakeevents.com
SUMMARY:The Great Midwest Rib Fest
DESCRIPTION:Free\, all-ages admission to three days of BBQ\, live concerts\, and competition at Mystic Lake Casino Hotel. Thursday\, June 25\, 4-10 p.m.; Friday\, June 26\, 4-10 p.m.; Saturday\, June 27\, 1-10 p.m. \nFree concerts feature Old Crow Medicine Show and Drew Holcomb and The Neighbors on June 25\, Gabby Barrett and Parmalee on June 26\, and Cheap Trick on June 27. \nAward-winning pitmasters compete for more than $19\,000 in cash prizes. The World Rib Eating Championship pits competitive eaters against the 13.76-pound world record. Beverage tents\, Kernel’s Sweet Corn\, Original Hockey Mom Brownies\, and Ben & Jerry’s round out the food lineup.
URL:https://priorlakeevents.com/event/the-great-midwest-rib-fest/
LOCATION:Mystic Lake Casino Hotel\, Prior Lake\, MN\, United States
CATEGORIES:Casino,Festival,Food & Drink,Live Music
END:VEVENT
END:VCALENDAR