BEGIN:VCALENDAR
VERSION:2.0
PRODID:-//Prior Lake Events - ECPv6.15.20//NONSGML v1.0//EN
CALSCALE:GREGORIAN
METHOD:PUBLISH
X-ORIGINAL-URL:https://priorlakeevents.com
X-WR-CALDESC:Events for Prior Lake Events
REFRESH-INTERVAL;VALUE=DURATION:PT1H
X-Robots-Tag:noindex
X-PUBLISHED-TTL:PT1H
BEGIN:VTIMEZONE
TZID:America/Chicago
BEGIN:DAYLIGHT
TZOFFSETFROM:-0600
TZOFFSETTO:-0500
TZNAME:CDT
DTSTART:20250309T080000
END:DAYLIGHT
BEGIN:STANDARD
TZOFFSETFROM:-0500
TZOFFSETTO:-0600
TZNAME:CST
DTSTART:20251102T070000
END:STANDARD
BEGIN:DAYLIGHT
TZOFFSETFROM:-0600
TZOFFSETTO:-0500
TZNAME:CDT
DTSTART:20260308T080000
END:DAYLIGHT
BEGIN:STANDARD
TZOFFSETFROM:-0500
TZOFFSETTO:-0600
TZNAME:CST
DTSTART:20261101T070000
END:STANDARD
BEGIN:DAYLIGHT
TZOFFSETFROM:-0600
TZOFFSETTO:-0500
TZNAME:CDT
DTSTART:20270314T080000
END:DAYLIGHT
BEGIN:STANDARD
TZOFFSETFROM:-0500
TZOFFSETTO:-0600
TZNAME:CST
DTSTART:20271107T070000
END:STANDARD
END:VTIMEZONE
BEGIN:VEVENT
DTSTART;TZID=America/Chicago:20260328T090000
DTEND;TZID=America/Chicago:20260328T120000
DTSTAMP:20260425T162201
CREATED:20260327T135844Z
LAST-MODIFIED:20260327T135857Z
UID:10003319-1774688400-1774699200@priorlakeevents.com
SUMMARY:Bunny Brunch at Horse & Hunt Club
DESCRIPTION:Bring the family to the Minnesota Horse and Hunt Club for a festive Easter brunch. Enjoy a full breakfast with visits from the Easter Bunny\, kids crafts\, a balloon animal artist\, and outdoor egg hunts for the little ones. Breakfast seatings run from 9 a.m. to noon. \nBalloon artist and egg hunt are included with the purchase of breakfast. Please have kids bring their own basket for the outdoor egg hunts. \nPricing: Adults $25.95\, Kids $18.95\, Under 3 $5.95 (tax included in ticket price). Tickets are non-refundable and may sell out — no guarantee of availability at the door. \nPurchase tickets at horseandhunt.com
URL:https://priorlakeevents.com/event/bunny-brunch-at-horse-hunt-club/
LOCATION:Minnesota Horse and Hunt Club\, 2920 220th St E\, Prior Lake\, MN\, 55372\, United States
CATEGORIES:Food & Drink,Holiday Events,Kids & Family
END:VEVENT
BEGIN:VEVENT
DTSTART;TZID=America/Chicago:20260328T100000
DTEND;TZID=America/Chicago:20260328T130000
DTSTAMP:20260425T162201
CREATED:20260327T135125Z
LAST-MODIFIED:20260327T135140Z
UID:10003317-1774692000-1774702800@priorlakeevents.com
SUMMARY:Kids Club: Donuts with the Easter Bunny
DESCRIPTION:Hop into spring at this free family event at Hy-Vee in Savage. Kids can enjoy fresh bakery donuts\, take photos with the Easter Bunny\, and create their own Bunny Trail Mix at the Make & Take station. There will also be an Easter-themed coloring contest — two lucky winners take home a $10 Hy-Vee gift card. \nThis event is completely free and no registration is required. All ages welcome.
URL:https://priorlakeevents.com/event/kids-club-donuts-with-the-easter-bunny/
LOCATION:Hy-Vee Savage\, 6150 Egan Dr\, Savage\, MN\, United States
CATEGORIES:Food & Drink,Holiday Events,Kids & Family
END:VEVENT
BEGIN:VEVENT
DTSTART;TZID=America/Chicago:20260328T110000
DTEND;TZID=America/Chicago:20260328T123000
DTSTAMP:20260425T162201
CREATED:20260312T211155Z
LAST-MODIFIED:20260312T211221Z
UID:10003276-1774695600-1774701000@priorlakeevents.com
SUMMARY:Queen Bee'z Easter Egg Hunt
DESCRIPTION:Bring the kids out to Queen Bee’z Lawn and Garden in Prior Lake for a fun Easter egg hunt on the farm. The event runs from 11 a.m. to 12:30 p.m. on Saturday\, March 28 at 17860 Panama Ave. \nKids can hunt for eggs (5 per kid)\, hang out with bunnies and chicks\, and snap some cute photos. Tickets are $15 per child (12 months and up). Add on a Resurrection Planter for $30. \nSpots are limited and filling up fast. \nRegister online in advance.
URL:https://priorlakeevents.com/event/queen-beez-easter-egg-hunt/
LOCATION:Queen Bee’z Lawn & Garden\, 17860 Panama Ave\, Prior Lake\, MN\, 17860\, United States
CATEGORIES:Holiday Events,Kids & Family
GEO:44.690133;-93.434863
X-APPLE-STRUCTURED-LOCATION;VALUE=URI;X-ADDRESS=Queen Bee’z Lawn & Garden 17860 Panama Ave Prior Lake MN 17860 United States;X-APPLE-RADIUS=500;X-TITLE=17860 Panama Ave:geo:-93.434863,44.690133
END:VEVENT
END:VCALENDAR