BEGIN:VCALENDAR
VERSION:2.0
PRODID:-//Prior Lake Events - ECPv6.15.20//NONSGML v1.0//EN
CALSCALE:GREGORIAN
METHOD:PUBLISH
X-WR-CALNAME:Prior Lake Events
X-ORIGINAL-URL:https://priorlakeevents.com
X-WR-CALDESC:Events for Prior Lake Events
REFRESH-INTERVAL;VALUE=DURATION:PT1H
X-Robots-Tag:noindex
X-PUBLISHED-TTL:PT1H
BEGIN:VTIMEZONE
TZID:America/Chicago
BEGIN:DAYLIGHT
TZOFFSETFROM:-0600
TZOFFSETTO:-0500
TZNAME:CDT
DTSTART:20250309T080000
END:DAYLIGHT
BEGIN:STANDARD
TZOFFSETFROM:-0500
TZOFFSETTO:-0600
TZNAME:CST
DTSTART:20251102T070000
END:STANDARD
BEGIN:DAYLIGHT
TZOFFSETFROM:-0600
TZOFFSETTO:-0500
TZNAME:CDT
DTSTART:20260308T080000
END:DAYLIGHT
BEGIN:STANDARD
TZOFFSETFROM:-0500
TZOFFSETTO:-0600
TZNAME:CST
DTSTART:20261101T070000
END:STANDARD
BEGIN:DAYLIGHT
TZOFFSETFROM:-0600
TZOFFSETTO:-0500
TZNAME:CDT
DTSTART:20270314T080000
END:DAYLIGHT
BEGIN:STANDARD
TZOFFSETFROM:-0500
TZOFFSETTO:-0600
TZNAME:CST
DTSTART:20271107T070000
END:STANDARD
END:VTIMEZONE
BEGIN:VEVENT
DTSTART;TZID=America/Chicago:20260410T100000
DTEND;TZID=America/Chicago:20260412T150000
DTSTAMP:20260425T115048
CREATED:20260406T121942Z
LAST-MODIFIED:20260406T124042Z
UID:10003330-1775815200-1776006000@priorlakeevents.com
SUMMARY:Kids Gardening Weekend at Sailer's Greenhouse
DESCRIPTION:Get ready for a weekend full of dirt\, creativity\, and a whole lot of magic! Sailer’s Greenhouse is so excited to welcome back our annual Kids Gardening Weekend happening \nApril 10th\, 11th & 12th from 10 am–3 pm. \nThis is a drop-in event where kids can create their very own miniature garden world! Think mermaids splashing in tiny ponds\, fairies tucked under leafy canopies\, dragons guarding succulent forests\, and gnomes hiding among mossy paths. \nWe’ll have our famous “Mini Garden Buffet” fully stocked with:\nTiny figurines & whimsical accessories\nMini succulents\, cacti\, outdoor plants and houseplants\nColorful stones\, moss\, and magical little extras\nContainers. \nOur friendly greenhouse team will be there to guide your young gardeners\, help spark ideas\, and share easy care tips so their creations can thrive long after the weekend ends. \nPerfect for kids of all ages (and yes… grown-ups who still believe in fairy gardens ). And the best part? All the mess stays here! \nEven More Weekend Fun!\nWhile you’re here\, enjoy:\nPot decorating stations\nColoring contests with prizes\nAnd what makes it even sweeter? \nMNice Cream Ice Cream Truck will be here Saturday & Sunday serving up their famous glitter-sprinkled ice cream! It’s the perfect treat after a busy day of planting. Be sure to check them out on Instagram @MNiceCream. \nCOST\nYou simply pay for the plants and materials you choose for your garden. \nREGISTRATION \nhttps://www.eventbrite.com/e/1984464498736?aff=oddtdtcreator\nPlease register for the day you plan to attend.\nOnly register for the number of pots you plan to create.\nYou can arrive anytime between 10 am–3 pm on your selected day. \nA quick note: You can bring a pot or planting container if you’d like — we will also have some super fun\, inexpensive options available here! However\, please do not bring fairy accessories from home. It gets a little too confusing during the event — save room in your garden and you can always add special pieces when you get home. \nLet their creativity grow\, let their imaginations bloom\, and kick off spring in the most magical way possible!
URL:https://priorlakeevents.com/event/kids-gardening-weekend-at-sailers-greenhouse/
LOCATION:Sailer’s Greenhouse\, 1610 170th Street E\, Shakopee\, MN\, United States
CATEGORIES:Create,Kids & Family
END:VEVENT
BEGIN:VEVENT
DTSTART;TZID=America/Chicago:20260411T090000
DTEND;TZID=America/Chicago:20260412T180000
DTSTAMP:20260425T115048
CREATED:20260406T121934Z
LAST-MODIFIED:20260406T121934Z
UID:10003328-1775898000-1776016800@priorlakeevents.com
SUMMARY:68th Annual GSTA Rod & Custom Spectacular Car Show
DESCRIPTION:The 68th Annual GSTA Rod & Custom Spectacular Car Show takes over Canterbury Park Expo Center on Saturday\, April 11 (9 a.m. to 8 p.m.) and Sunday\, April 12 (9 a.m. to 6 p.m.). Minnesota’s oldest motorized show features hot rods\, customs\, street machines\, motorcycles\, and commercial vendors — all indoors. Kids can enjoy a scavenger hunt\, sit in a real race car\, and pick up free Hot Wheels cars from Sgt Hot Wheels while supplies last. The Model Car Extravaganza lets kids and adults display homebuilt models. Live music by the Rockin’ Hep Cats on Saturday from 5 to 8 p.m. \nTickets: Adults $20\, Juniors (ages 6–15) $7\, kids under 6 free. Discounted advance tickets available at vancoevents.com. Free parking\, with preferred spots for hot rods and classic cars. Details at gstarod-custom.com.
URL:https://priorlakeevents.com/event/68th-annual-gsta-rod-custom-spectacular-car-show-2/
LOCATION:Canterbury Park\, 1100 Canterbury Park Rd S\, Shakopee\, MN\, 55379\, United States
CATEGORIES:Kids & Family,Special Events,Sports/Live Events
END:VEVENT
BEGIN:VEVENT
DTSTART;TZID=America/Chicago:20260417T190000
DTEND;TZID=America/Chicago:20260417T220000
DTSTAMP:20260425T115048
CREATED:20260413T130715Z
LAST-MODIFIED:20260413T130715Z
UID:10003380-1776452400-1776463200@priorlakeevents.com
SUMMARY:Shrek The Musical – Opening Night
DESCRIPTION:The Prior Lake Players bring the Tony Award-winning Shrek The Musical to the stage at Twin Oaks Middle School. Opening night is Friday\, April 17. The show features a lovable ogre\, a wisecracking donkey\, a feisty princess\, and a full cast of fairy tale characters. Expect original songs\, colorful costumes\, and a fire-breathing dragon. This is a family-friendly production with something for all ages. Tickets are available online through Vanco Events.
URL:https://priorlakeevents.com/event/shrek-the-musical-opening-night/
LOCATION:Twin Oaks Middle School\, 15860 Fish Point Road SE\, Prior Lake\, MN\, 55372\, USA
CATEGORIES:Kids & Family,Theater & Performing Arts
END:VEVENT
BEGIN:VEVENT
DTSTART;TZID=America/Chicago:20260418T190000
DTEND;TZID=America/Chicago:20260419T160000
DTSTAMP:20260425T115048
CREATED:20260418T122224Z
LAST-MODIFIED:20260418T122952Z
UID:10003396-1776538800-1776614400@priorlakeevents.com
SUMMARY:Little Women at Prior Lake High School
DESCRIPTION:The PLHS spring play\, Little Women\, takes the stage this weekend with a special connection to the source material — students recently met playwright Marisha Chamberlain\, whose adaptation of the beloved Louisa May Alcott novel was originally commissioned and produced by the Children’s Theatre Company. During her visit\, Chamberlain shared stories from her career\, answered student questions\, and recited poetry for the cast and crew. \nRemaining show dates: \n\nSaturday\, April 18 at 7:00 PM\nSunday\, April 19 at 2:00 PM\n\nTickets: $10 general admission. Purchase online at gofan.co/app/school/MN9803 or at the door.
URL:https://priorlakeevents.com/event/little-women-at-prior-lake-high-school/
LOCATION:Prior Lake High School\, 7575 150th St. West\, Savage\, MN\, 55378
CATEGORIES:Community,Kids & Family,Theater & Performing Arts
ATTACH;FMTTYPE=image/jpeg:https://priorlakeevents.com/wp-content/uploads/2026/04/672672807_122231701670114135_5374180094760844002_n.jpg
END:VEVENT
BEGIN:VEVENT
DTSTART;TZID=America/Chicago:20260419T160000
DTEND;TZID=America/Chicago:20260419T190000
DTSTAMP:20260425T115048
CREATED:20260413T130723Z
LAST-MODIFIED:20260413T130723Z
UID:10003383-1776614400-1776625200@priorlakeevents.com
SUMMARY:Kiddo Birthday BINGO
DESCRIPTION:Boathouse Brothers Brewing Co. hosts a free kids BINGO event on Sunday\, April 19 starting at 4 p.m. Prizes for all the little ones playing in the big hall. Parents can grab a pint while helping their kids mark their cards. Pizza by the slice and hot dogs will be available\, so dinner is covered. A laid-back Sunday afternoon for families at one of Prior Lake’s favorite local spots.
URL:https://priorlakeevents.com/event/kiddo-birthday-bingo/
LOCATION:Boathouse Brothers Brewing Co.\, 16211 Main Ave SE\, Prior Lake\, MN\, United States
CATEGORIES:Bars & Breweries,Games & Trivia,Kids & Family
END:VEVENT
BEGIN:VEVENT
DTSTART;TZID=America/Chicago:20260424T190000
DTEND;TZID=America/Chicago:20260424T214500
DTSTAMP:20260425T115048
CREATED:20260423T194958Z
LAST-MODIFIED:20260423T194958Z
UID:10003442-1777057200-1777067100@priorlakeevents.com
SUMMARY:Shrek The Musical
DESCRIPTION:The Prior Lake Players bring the Tony Award-winning fairy tale adventure Shrek The Musical to Twin Oaks Middle School on Friday\, April 24. Showtime is 7 p.m. \nJoin a lovable ogre\, a wisecracking donkey\, a feisty princess\, and a cast of fairy tale misfits for a journey filled with all-new songs\, dazzling costumes\, and even a fire-breathing dragon. A family-friendly production that proves true beauty really is in the eye of the ogre. \nTickets: vancoevents.com
URL:https://priorlakeevents.com/event/shrek-the-musical/
LOCATION:Twin Oaks Middle School\, 15860 Fish Point Road SE\, Prior Lake\, MN\, 55372\, USA
CATEGORIES:Kids & Family,Theater & Performing Arts
END:VEVENT
BEGIN:VEVENT
DTSTART;TZID=America/Chicago:20260425T110000
DTEND;TZID=America/Chicago:20260425T190000
DTSTAMP:20260425T115048
CREATED:20260410T004655Z
LAST-MODIFIED:20260420T133235Z
UID:10003338-1777114800-1777143600@priorlakeevents.com
SUMMARY:AprilFest 2026
DESCRIPTION:St. Michael’s Catholic Church hosts AprilFest 2026\, its annual spring community celebration in Prior Lake. The day runs 11 a.m. to 7 p.m. and includes live music\, fair food and beverages\, a beer tent\, kids’ games\, face painting\, bingo\, a silent auction\, bake sale\, cake walk\, and craft boutique. \nTickets are $1 each and can be used for food\, beverages\, and kids’ games. Volunteers are still needed. Visit the event website to sign up or learn more.
URL:https://priorlakeevents.com/event/aprilfest-2026/
LOCATION:St. Michael’s Church\, 16311 Duluth Avenue\, Prior Lake\, MN\, 55372\, United States
CATEGORIES:Community,Festival,Food & Drink,Kids & Family
END:VEVENT
BEGIN:VEVENT
DTSTART;TZID=America/Chicago:20260425T140000
DTEND;TZID=America/Chicago:20260425T164500
DTSTAMP:20260425T115048
CREATED:20260423T195003Z
LAST-MODIFIED:20260423T195003Z
UID:10003443-1777125600-1777135500@priorlakeevents.com
SUMMARY:Shrek The Musical — Sensory Friendly Matinee
DESCRIPTION:The Prior Lake Players present a sensory-friendly matinee performance of Shrek The Musical at Twin Oaks Middle School on Saturday\, April 25 at 2 p.m. \nThis performance is designed to be accessible and welcoming for individuals with sensory sensitivities. Features include reduced lighting and sound\, partial house lights on\, limited capacity\, a relaxed environment\, and an available quiet area. A pre-show announcement will cover accommodations. \nTickets: vancoevents.com
URL:https://priorlakeevents.com/event/shrek-the-musical-sensory-friendly-matinee/
LOCATION:Twin Oaks Middle School\, 15860 Fish Point Road SE\, Prior Lake\, MN\, 55372\, USA
CATEGORIES:Kids & Family,Theater & Performing Arts
END:VEVENT
BEGIN:VEVENT
DTSTART;TZID=America/Chicago:20260430T170000
DTEND;TZID=America/Chicago:20260430T183000
DTSTAMP:20260425T115048
CREATED:20260423T195006Z
LAST-MODIFIED:20260423T195006Z
UID:10003444-1777568400-1777573800@priorlakeevents.com
SUMMARY:Motormania 2026
DESCRIPTION:Prior Lake-Savage Community Education hosts its first-ever vehicle fair\, Motormania\, at Hidden Oaks Middle School on Thursday\, April 30 from 5 to 6:30 p.m. \nThe lineup features a wide range of vehicles — everything from helicopters to Lightning McQueen. Bring the kids for an up-close look. \nFood trucks on site: Fatbellies BBQ\, OG Zaza’s Pizza\, Lakeside Lemonade\, and Nothing Bundt Cakes. Park at Twin Oaks MS or in the upper lot at Hidden Oaks MS.
URL:https://priorlakeevents.com/event/motormania-2026/
LOCATION:Hidden Oaks Middle School\, 15855 Fish Point Road SE\, Prior Lake\, MN\, 55372\, USA
CATEGORIES:Community,Community Education,Kids & Family
END:VEVENT
BEGIN:VEVENT
DTSTART;VALUE=DATE:20260504
DTEND;VALUE=DATE:20260505
DTSTAMP:20260425T115048
CREATED:20260406T122418Z
LAST-MODIFIED:20260406T122418Z
UID:10003331-1777852800-1777939199@priorlakeevents.com
SUMMARY:PLAY Competition Cheer — Pre-Tryout Clinics & Tryouts
DESCRIPTION:PLAY is holding pre-tryout clinics and tryouts for competition cheerleading for the 2026–2027 season\, open to current K–7th graders. All sessions take place at Twin Oaks Middle School. \nClinic Sessions:Sunday\, May 4 — Clinic #1Wednesday\, May 6 — Clinic #2 (mandatory for anyone trying out)Thursday\, May 7 — Clinic #3 \nMandatory Parent Meeting:Wednesday\, May 6\, 6:45–7:45 p.m. in the auditorium \nTryouts:Monday\, May 11Wednesday\, May 13 \nRegistration is required. Full details\, times\, and registration at playinfo.org/CHEER. Questions: compcheer@playinfo.org.
URL:https://priorlakeevents.com/event/play-competition-cheer-pre-tryout-clinics-tryouts/
LOCATION:Twin Oaks Middle School\, 15860 Fish Point Road SE\, Prior Lake\, MN\, 55372\, USA
CATEGORIES:Community,Kids & Family
END:VEVENT
BEGIN:VEVENT
DTSTART;TZID=America/Chicago:20260515T100000
DTEND;TZID=America/Chicago:20260517T200000
DTSTAMP:20260425T115048
CREATED:20260423T195021Z
LAST-MODIFIED:20260423T195021Z
UID:10003447-1778839200-1779048000@priorlakeevents.com
SUMMARY:Story Stroll at Lakefront Park
DESCRIPTION:Lakefront Park hosts a Story Stroll May 15–17. Self-guided and family-friendly\, the 0.6-mile wooded loop starts near the bandshell and displays the Watercress storyboards along the trail so walkers can read as they stroll. \nVisit any time during park open hours. Free. Presented by Scott County Library and Scott County Parks in partnership with Three Rivers\, Prior Lake Parks & Recreation\, and Savage Parks & Recreation. \nWatch for more Story Stroll opportunities at Community Park in Savage and Cleary Lake Park.
URL:https://priorlakeevents.com/event/story-stroll-at-lakefront-park/
LOCATION:Lakefront Park\, 5000 Kop Pkwy SE\, Prior Lake\, MN\, 55372\, United States
CATEGORIES:Kids & Family,Outdoor & Recreation,Parks & Recreation
GEO:44.718271;-93.419505
X-APPLE-STRUCTURED-LOCATION;VALUE=URI;X-ADDRESS=Lakefront Park 5000 Kop Pkwy SE Prior Lake MN 55372 United States;X-APPLE-RADIUS=500;X-TITLE=5000 Kop Pkwy SE:geo:-93.419505,44.718271
END:VEVENT
BEGIN:VEVENT
DTSTART;TZID=America/Chicago:20260519T160000
DTEND;TZID=America/Chicago:20260519T190000
DTSTAMP:20260425T115048
CREATED:20260423T195031Z
LAST-MODIFIED:20260423T195031Z
UID:10003449-1779206400-1779217200@priorlakeevents.com
SUMMARY:Somethin' 'Bout A Truck: Public Works Open House
DESCRIPTION:The City of Prior Lake celebrates National Public Works Week with a family-friendly open house at the Prior Lake Maintenance Center on Tuesday\, May 19 from 4 to 7 p.m. \nCome explore the vehicles and equipment that help maintain the city. Kids (and adults) can climb in the equipment and learn more about the day-to-day activities in Public Works. \nLocation: Prior Lake Maintenance Center\, 17073 Adelmann St SE. Weather backup date: Wednesday\, May 20.
URL:https://priorlakeevents.com/event/somethin-bout-a-truck-public-works-open-house/
LOCATION:Prior Lake Maintenance Center\, 17073 Adelmann St SE\, Prior Lake\, MN\, 55372
CATEGORIES:Community,Government,Kids & Family
END:VEVENT
BEGIN:VEVENT
DTSTART;TZID=America/Chicago:20260528T170000
DTEND;TZID=America/Chicago:20260528T200000
DTSTAMP:20260425T115048
CREATED:20260417T211533Z
LAST-MODIFIED:20260417T211542Z
UID:10003395-1779987600-1779998400@priorlakeevents.com
SUMMARY:Grandparent Picnic at Cleary Lake Regional Park
DESCRIPTION:The City of Prior Lake invites grandparents and their grandchildren to a free picnic at Cleary Lake Regional Park on Thursday\, May 28. Bring your own food and drink\, play lawn games\, and enjoy the outdoors together. \nPaddleboats will be available on a first-come\, first-served basis in 30-minute intervals. The event runs 5 p.m. to 8 p.m. and is presented in collaboration with Scott County and the Three Rivers Park District. \nRegistration is encouraged so organizers know how many to expect: Register here.
URL:https://priorlakeevents.com/event/grandparent-picnic-at-cleary-lake-regional-park/
LOCATION:Cleary Lake Regional Park\, 18106 Texas Avenue\, Prior Lake\, MN\, 55372\, United States
CATEGORIES:Cleary Lake,Community,Government,Kids & Family,Parks & Recreation
END:VEVENT
BEGIN:VEVENT
DTSTART;TZID=America/Chicago:20260610T160000
DTEND;TZID=America/Chicago:20260610T190000
DTSTAMP:20260425T115048
CREATED:20260423T195051Z
LAST-MODIFIED:20260423T195051Z
UID:10003453-1781107200-1781118000@priorlakeevents.com
SUMMARY:Prior Lake Dental Grand Re-Opening & 40th Anniversary
DESCRIPTION:Prior Lake Dental celebrates two milestones with a free\, family-friendly Carnival of Smiles on Wednesday\, June 10 from 4 to 7 p.m. — the grand re-opening of their new space and 40 years serving the community. \nActivities include bounce houses\, a petting zoo\, face painting\, a dunk tank\, an ice cream truck\, and games and prizes throughout the evening. Whether you’ve been part of the Prior Lake Dental family for years or are new to the practice\, everyone is welcome.
URL:https://priorlakeevents.com/event/prior-lake-dental-grand-re-opening-40th-anniversary/
LOCATION:Prior Lake Dental\, 14093 Commerce Ave NE\, Prior Lake\, MN\, 55372\, USA
CATEGORIES:Community,Kids & Family
END:VEVENT
BEGIN:VEVENT
DTSTART;TZID=America/Chicago:20260612T160000
DTEND;TZID=America/Chicago:20260612T190000
DTSTAMP:20260425T115048
CREATED:20260423T195046Z
LAST-MODIFIED:20260423T195046Z
UID:10003452-1781280000-1781290800@priorlakeevents.com
SUMMARY:Coin Carnival
DESCRIPTION:Kids’ Coin Carnival returns to Lakefront Park on Friday\, June 12 from 4 to 7 p.m. Bring your coins — they won’t be available on-site — and try each game for a chance to win carnival prizes. \nActivities include face painting\, the Lucky Duck Pond\, Plinko\, inflatables\, and more. Any game can be played with any coin. No change will be available\, so come prepared. \nFood on-site from HaDa Foodie\, Kona Ice\, Traveling Tom’s Coffee\, Paulson’s Pronto Pups\, Shoo-Ga\, and the Weenie Wagon. \nIn case of inclement weather\, check priorlakemn.gov/weather before heading out.
URL:https://priorlakeevents.com/event/coin-carnival/
LOCATION:Lakefront Park\, 5000 Kop Pkwy SE\, Prior Lake\, MN\, 55372\, United States
CATEGORIES:Kids & Family,Parks & Recreation
GEO:44.718271;-93.419505
X-APPLE-STRUCTURED-LOCATION;VALUE=URI;X-ADDRESS=Lakefront Park 5000 Kop Pkwy SE Prior Lake MN 55372 United States;X-APPLE-RADIUS=500;X-TITLE=5000 Kop Pkwy SE:geo:-93.419505,44.718271
END:VEVENT
BEGIN:VEVENT
DTSTART;TZID=America/Chicago:20260710T110000
DTEND;TZID=America/Chicago:20260710T140000
DTSTAMP:20260425T115048
CREATED:20260423T195108Z
LAST-MODIFIED:20260423T195108Z
UID:10003457-1783681200-1783692000@priorlakeevents.com
SUMMARY:Beach Party at Sand Point
DESCRIPTION:The City of Prior Lake Recreation staff hosts a summer Beach Party at Sand Point Beach on Friday\, July 10 from 11 a.m. to 2 p.m. Free activities include face painting\, games\, crafts\, music\, contests\, and entertainment from Kidsdance. \nFood trucks on-site: Brick Oven Bus\, Smoke\, The Weenie Wagon\, and Kona Ice. Bring a swimsuit\, towel\, and sunscreen for a proper summer beach bash. \nIn case of inclement weather\, check priorlakemn.gov/weather before heading out.
URL:https://priorlakeevents.com/event/beach-party-at-sand-point/
LOCATION:Sand Point Beach\, 14349 Crest Ave NE\, Prior Lake\, MN\, 55372\, United States
CATEGORIES:Community,Kids & Family
END:VEVENT
END:VCALENDAR