BEGIN:VCALENDAR
VERSION:2.0
PRODID:-//Prior Lake Events - ECPv6.15.20//NONSGML v1.0//EN
CALSCALE:GREGORIAN
METHOD:PUBLISH
X-WR-CALNAME:Prior Lake Events
X-ORIGINAL-URL:https://priorlakeevents.com
X-WR-CALDESC:Events for Prior Lake Events
REFRESH-INTERVAL;VALUE=DURATION:PT1H
X-Robots-Tag:noindex
X-PUBLISHED-TTL:PT1H
BEGIN:VTIMEZONE
TZID:America/Chicago
BEGIN:DAYLIGHT
TZOFFSETFROM:-0600
TZOFFSETTO:-0500
TZNAME:CDT
DTSTART:20250309T080000
END:DAYLIGHT
BEGIN:STANDARD
TZOFFSETFROM:-0500
TZOFFSETTO:-0600
TZNAME:CST
DTSTART:20251102T070000
END:STANDARD
BEGIN:DAYLIGHT
TZOFFSETFROM:-0600
TZOFFSETTO:-0500
TZNAME:CDT
DTSTART:20260308T080000
END:DAYLIGHT
BEGIN:STANDARD
TZOFFSETFROM:-0500
TZOFFSETTO:-0600
TZNAME:CST
DTSTART:20261101T070000
END:STANDARD
BEGIN:DAYLIGHT
TZOFFSETFROM:-0600
TZOFFSETTO:-0500
TZNAME:CDT
DTSTART:20270314T080000
END:DAYLIGHT
BEGIN:STANDARD
TZOFFSETFROM:-0500
TZOFFSETTO:-0600
TZNAME:CST
DTSTART:20271107T070000
END:STANDARD
END:VTIMEZONE
BEGIN:VEVENT
DTSTART;TZID=America/Chicago:20260309T180000
DTEND;TZID=America/Chicago:20260309T190000
DTSTAMP:20260423T093440
CREATED:20260309T120754Z
LAST-MODIFIED:20260309T125658Z
UID:10003230-1773079200-1773082800@priorlakeevents.com
SUMMARY:PLAY Cheer Info Night
DESCRIPTION:PLAY Cheer hosts an info night at Twin Oaks Middle School on Monday\, March 9 at 6 p.m. Learn about Sideline Cheer\, Competition Cheer\, and Laker Prep programs. Find out about upcoming sign-ups\, tryouts\, and clinics. \nRegister at https://forms.gle/oQNsXcUAkbtbnHBW8 or contact CompCheer@Playinfo.org with questions.
URL:https://priorlakeevents.com/event/play-cheer-info-night/
LOCATION:Twin Oaks Middle School\, 15860 Fish Point Road SE\, Prior Lake\, MN\, 55372\, USA
CATEGORIES:Community,Kids & Family
END:VEVENT
BEGIN:VEVENT
DTSTART;TZID=America/Chicago:20260315T160000
DTEND;TZID=America/Chicago:20260315T170000
DTSTAMP:20260423T093440
CREATED:20260309T120800Z
LAST-MODIFIED:20260309T120800Z
UID:10003232-1773590400-1773594000@priorlakeevents.com
SUMMARY:Kiddo BINGO
DESCRIPTION:Boathouse Brothers Brewing Co. hosts Kiddo BINGO on Sunday\, March 15 at 4 p.m. This free\, family-friendly event features prizes for the little ones playing in the big hall. Pizza by the slice and hot dogs will be available\, so dinner is covered. Grownups can grab a pint while helping the kiddos with their cards.
URL:https://priorlakeevents.com/event/kiddo-bingo/
LOCATION:Boathouse Brothers Brewing Co.\, 16211 Main Ave SE\, Prior Lake\, MN\, United States
CATEGORIES:Bars & Breweries,Games & Trivia,Kids & Family
END:VEVENT
END:VCALENDAR