BEGIN:VCALENDAR
VERSION:2.0
PRODID:-//Prior Lake Events - ECPv6.15.20//NONSGML v1.0//EN
CALSCALE:GREGORIAN
METHOD:PUBLISH
X-ORIGINAL-URL:https://priorlakeevents.com
X-WR-CALDESC:Events for Prior Lake Events
REFRESH-INTERVAL;VALUE=DURATION:PT1H
X-Robots-Tag:noindex
X-PUBLISHED-TTL:PT1H
BEGIN:VTIMEZONE
TZID:America/Chicago
BEGIN:DAYLIGHT
TZOFFSETFROM:-0600
TZOFFSETTO:-0500
TZNAME:CDT
DTSTART:20250309T080000
END:DAYLIGHT
BEGIN:STANDARD
TZOFFSETFROM:-0500
TZOFFSETTO:-0600
TZNAME:CST
DTSTART:20251102T070000
END:STANDARD
BEGIN:DAYLIGHT
TZOFFSETFROM:-0600
TZOFFSETTO:-0500
TZNAME:CDT
DTSTART:20260308T080000
END:DAYLIGHT
BEGIN:STANDARD
TZOFFSETFROM:-0500
TZOFFSETTO:-0600
TZNAME:CST
DTSTART:20261101T070000
END:STANDARD
BEGIN:DAYLIGHT
TZOFFSETFROM:-0600
TZOFFSETTO:-0500
TZNAME:CDT
DTSTART:20270314T080000
END:DAYLIGHT
BEGIN:STANDARD
TZOFFSETFROM:-0500
TZOFFSETTO:-0600
TZNAME:CST
DTSTART:20271107T070000
END:STANDARD
END:VTIMEZONE
BEGIN:VEVENT
DTSTART;TZID=America/Chicago:20260321T100000
DTEND;TZID=America/Chicago:20260321T111500
DTSTAMP:20260423T093550
CREATED:20251222T221716Z
LAST-MODIFIED:20260310T214717Z
UID:10002347-1774087200-1774091700@priorlakeevents.com
SUMMARY:🎉 Party in the Club: Miss Nina
DESCRIPTION:Join Miss Nina for a fun-filled Party in the Club event designed especially for young kids and their families. \nFamilies can enjoy crafts and activities from 10:00–10:30 AM\, followed by engaging live entertainment from 10:30–11:15 AM that encourages movement\, laughter\, and participation. \nThis free event is part of the Party in the Club winter series. Attendance is capped at 250. \nSponsored by the City of Prior Lake and the Prior Lake Library; funded in part by the Minnesota Arts & Cultural Heritage (Legacy) Fund.
URL:https://priorlakeevents.com/event/%f0%9f%8e%89-party-in-the-club-miss-nina/
LOCATION:Prior Lake Library  – Club Prior\, 16210 Eagle Creek Ave SE\, Prior Lake\, MN\, United States
CATEGORIES:Kids & Family
END:VEVENT
BEGIN:VEVENT
DTSTART;TZID=America/Chicago:20260322T130000
DTEND;TZID=America/Chicago:20260322T160000
DTSTAMP:20260423T093550
CREATED:20260316T124933Z
LAST-MODIFIED:20260316T124958Z
UID:10003281-1774184400-1774195200@priorlakeevents.com
SUMMARY:Easter Bunny Bake Sale Fundraiser
DESCRIPTION:Hop on over to Spot’s Last Stop Canine Rescue for an Easter Bunny Bake Sale on Sunday\, March 22 from 1 to 4 p.m. Get your photo taken with the Easter Bunny and browse a selection of homemade baked goods. All proceeds support Spot’s Last Stop Canine Rescue\, a volunteer-run nonprofit matching homeless dogs with loving families in the Twin Cities. A fun afternoon for the whole family — and a great way to support a local cause.
URL:https://priorlakeevents.com/event/easter-bunny-bake-sale-fundraiser/
LOCATION:Spot’s Last Stop Canine Rescue\, 6025 170th St E\, Prior Lake\, MN\, 55372\, United States
CATEGORIES:Community,Fundraiser,Kids & Family
END:VEVENT
END:VCALENDAR