BEGIN:VCALENDAR
VERSION:2.0
PRODID:-//Prior Lake Events - ECPv6.15.20//NONSGML v1.0//EN
CALSCALE:GREGORIAN
METHOD:PUBLISH
X-ORIGINAL-URL:https://priorlakeevents.com
X-WR-CALDESC:Events for Prior Lake Events
REFRESH-INTERVAL;VALUE=DURATION:PT1H
X-Robots-Tag:noindex
X-PUBLISHED-TTL:PT1H
BEGIN:VTIMEZONE
TZID:America/Chicago
BEGIN:DAYLIGHT
TZOFFSETFROM:-0600
TZOFFSETTO:-0500
TZNAME:CDT
DTSTART:20250309T080000
END:DAYLIGHT
BEGIN:STANDARD
TZOFFSETFROM:-0500
TZOFFSETTO:-0600
TZNAME:CST
DTSTART:20251102T070000
END:STANDARD
BEGIN:DAYLIGHT
TZOFFSETFROM:-0600
TZOFFSETTO:-0500
TZNAME:CDT
DTSTART:20260308T080000
END:DAYLIGHT
BEGIN:STANDARD
TZOFFSETFROM:-0500
TZOFFSETTO:-0600
TZNAME:CST
DTSTART:20261101T070000
END:STANDARD
BEGIN:DAYLIGHT
TZOFFSETFROM:-0600
TZOFFSETTO:-0500
TZNAME:CDT
DTSTART:20270314T080000
END:DAYLIGHT
BEGIN:STANDARD
TZOFFSETFROM:-0500
TZOFFSETTO:-0600
TZNAME:CST
DTSTART:20271107T070000
END:STANDARD
END:VTIMEZONE
BEGIN:VEVENT
DTSTART;TZID=America/Chicago:20260507T163000
DTEND;TZID=America/Chicago:20260507T190000
DTSTAMP:20260422T071553
CREATED:20260420T213553Z
LAST-MODIFIED:20260420T213553Z
UID:10003439-1778171400-1778180400@priorlakeevents.com
SUMMARY:Ladies Night Out in Downtown Prior Lake
DESCRIPTION:The Prior Lake Chamber of Commerce hosts Ladies Night Out on Thursday\, May 7 from 4:30 to 7 p.m. in Downtown Prior Lake. Shop\, sip\, and mingle with friends while exploring local vendors and downtown businesses. \nWristband winners at every booth\, plus additional prize drawings throughout the night and a grand finale giveaway. Enjoy tasty drinks\, delicious eats\, and fantastic shopping\, all in one evening. \nCheck-in is at The Radiance Lounge\, 4769 Dakota St SE. Early bird tickets are $15 through May 1\, then $20 after May 1 and for walk-ups. \nGet tickets and full details
URL:https://priorlakeevents.com/event/ladies-night-out-in-downtown-prior-lake/
LOCATION:Downtown Prior Lake\, Main Ave SE\, Prior Lake\, MN\, United States
CATEGORIES:Community,Market / Shopping,Special Events
END:VEVENT
END:VCALENDAR