BEGIN:VCALENDAR
VERSION:2.0
PRODID:-//Prior Lake Events - ECPv6.15.20//NONSGML v1.0//EN
CALSCALE:GREGORIAN
METHOD:PUBLISH
X-ORIGINAL-URL:https://priorlakeevents.com
X-WR-CALDESC:Events for Prior Lake Events
REFRESH-INTERVAL;VALUE=DURATION:PT1H
X-Robots-Tag:noindex
X-PUBLISHED-TTL:PT1H
BEGIN:VTIMEZONE
TZID:America/Chicago
BEGIN:DAYLIGHT
TZOFFSETFROM:-0600
TZOFFSETTO:-0500
TZNAME:CDT
DTSTART:20250309T080000
END:DAYLIGHT
BEGIN:STANDARD
TZOFFSETFROM:-0500
TZOFFSETTO:-0600
TZNAME:CST
DTSTART:20251102T070000
END:STANDARD
BEGIN:DAYLIGHT
TZOFFSETFROM:-0600
TZOFFSETTO:-0500
TZNAME:CDT
DTSTART:20260308T080000
END:DAYLIGHT
BEGIN:STANDARD
TZOFFSETFROM:-0500
TZOFFSETTO:-0600
TZNAME:CST
DTSTART:20261101T070000
END:STANDARD
BEGIN:DAYLIGHT
TZOFFSETFROM:-0600
TZOFFSETTO:-0500
TZNAME:CDT
DTSTART:20270314T080000
END:DAYLIGHT
BEGIN:STANDARD
TZOFFSETFROM:-0500
TZOFFSETTO:-0600
TZNAME:CST
DTSTART:20271107T070000
END:STANDARD
END:VTIMEZONE
BEGIN:VEVENT
DTSTART;TZID=America/Chicago:20260310T180000
DTEND;TZID=America/Chicago:20260310T210000
DTSTAMP:20260421T115305
CREATED:20251027T164707Z
LAST-MODIFIED:20251216T173351Z
UID:10000643-1773165600-1773176400@priorlakeevents.com
SUMMARY:Crepes
DESCRIPTION:Crepes are an easy\, versatile dish that’s perfect for impressing guests. In this class\, we’ll make Chicken Divan—chicken with broccoli in a creamy cheese sauce—as our main course. Then\, we’ll move on to Cheese Blintzes with Apricot Sauce and savory Mushroom Crepes with Sherry Sauce. For dessert\, enjoy Orange Crepe Suzette\, Italian and Sicilian Cannoli\, and even Flaming Crepes! Plus\, you’ll get hands-on practice making and flipping crepes to perfection. By the end\, you’ll be a crepe-making pro\, ready to wow any crowd! — Min age: 15 yr. \nRegistration required: Register & pay via Prior Lake–Savage Community Education.
URL:https://priorlakeevents.com/event/crepes/
LOCATION:Twin Oaks Middle School\, 15860 Fish Point Road SE\, Prior Lake\, MN\, 55372\, USA
CATEGORIES:Taste
END:VEVENT
END:VCALENDAR