BEGIN:VCALENDAR
VERSION:2.0
PRODID:-//Prior Lake Events - ECPv6.15.20//NONSGML v1.0//EN
CALSCALE:GREGORIAN
METHOD:PUBLISH
X-ORIGINAL-URL:https://priorlakeevents.com
X-WR-CALDESC:Events for Prior Lake Events
REFRESH-INTERVAL;VALUE=DURATION:PT1H
X-Robots-Tag:noindex
X-PUBLISHED-TTL:PT1H
BEGIN:VTIMEZONE
TZID:America/Chicago
BEGIN:DAYLIGHT
TZOFFSETFROM:-0600
TZOFFSETTO:-0500
TZNAME:CDT
DTSTART:20250309T080000
END:DAYLIGHT
BEGIN:STANDARD
TZOFFSETFROM:-0500
TZOFFSETTO:-0600
TZNAME:CST
DTSTART:20251102T070000
END:STANDARD
BEGIN:DAYLIGHT
TZOFFSETFROM:-0600
TZOFFSETTO:-0500
TZNAME:CDT
DTSTART:20260308T080000
END:DAYLIGHT
BEGIN:STANDARD
TZOFFSETFROM:-0500
TZOFFSETTO:-0600
TZNAME:CST
DTSTART:20261101T070000
END:STANDARD
BEGIN:DAYLIGHT
TZOFFSETFROM:-0600
TZOFFSETTO:-0500
TZNAME:CDT
DTSTART:20270314T080000
END:DAYLIGHT
BEGIN:STANDARD
TZOFFSETFROM:-0500
TZOFFSETTO:-0600
TZNAME:CST
DTSTART:20271107T070000
END:STANDARD
END:VTIMEZONE
BEGIN:VEVENT
DTSTART;TZID=America/Chicago:20260417T190000
DTEND;TZID=America/Chicago:20260417T220000
DTSTAMP:20260421T082630
CREATED:20260413T130715Z
LAST-MODIFIED:20260413T130715Z
UID:10003380-1776452400-1776463200@priorlakeevents.com
SUMMARY:Shrek The Musical – Opening Night
DESCRIPTION:The Prior Lake Players bring the Tony Award-winning Shrek The Musical to the stage at Twin Oaks Middle School. Opening night is Friday\, April 17. The show features a lovable ogre\, a wisecracking donkey\, a feisty princess\, and a full cast of fairy tale characters. Expect original songs\, colorful costumes\, and a fire-breathing dragon. This is a family-friendly production with something for all ages. Tickets are available online through Vanco Events.
URL:https://priorlakeevents.com/event/shrek-the-musical-opening-night/
LOCATION:Twin Oaks Middle School\, 15860 Fish Point Road SE\, Prior Lake\, MN\, 55372\, USA
CATEGORIES:Kids & Family,Theater & Performing Arts
END:VEVENT
BEGIN:VEVENT
DTSTART;TZID=America/Chicago:20260418T190000
DTEND;TZID=America/Chicago:20260419T160000
DTSTAMP:20260421T082630
CREATED:20260418T122224Z
LAST-MODIFIED:20260418T122952Z
UID:10003396-1776538800-1776614400@priorlakeevents.com
SUMMARY:Little Women at Prior Lake High School
DESCRIPTION:The PLHS spring play\, Little Women\, takes the stage this weekend with a special connection to the source material — students recently met playwright Marisha Chamberlain\, whose adaptation of the beloved Louisa May Alcott novel was originally commissioned and produced by the Children’s Theatre Company. During her visit\, Chamberlain shared stories from her career\, answered student questions\, and recited poetry for the cast and crew. \nRemaining show dates: \n\nSaturday\, April 18 at 7:00 PM\nSunday\, April 19 at 2:00 PM\n\nTickets: $10 general admission. Purchase online at gofan.co/app/school/MN9803 or at the door.
URL:https://priorlakeevents.com/event/little-women-at-prior-lake-high-school/
LOCATION:Prior Lake High School\, 7575 150th St. West\, Savage\, MN\, 55378
CATEGORIES:Community,Kids & Family,Theater & Performing Arts
ATTACH;FMTTYPE=image/jpeg:https://priorlakeevents.com/wp-content/uploads/2026/04/672672807_122231701670114135_5374180094760844002_n.jpg
END:VEVENT
END:VCALENDAR