BEGIN:VCALENDAR
VERSION:2.0
PRODID:-//Prior Lake Events - ECPv6.15.20//NONSGML v1.0//EN
CALSCALE:GREGORIAN
METHOD:PUBLISH
X-ORIGINAL-URL:https://priorlakeevents.com
X-WR-CALDESC:Events for Prior Lake Events
REFRESH-INTERVAL;VALUE=DURATION:PT1H
X-Robots-Tag:noindex
X-PUBLISHED-TTL:PT1H
BEGIN:VTIMEZONE
TZID:America/Chicago
BEGIN:DAYLIGHT
TZOFFSETFROM:-0600
TZOFFSETTO:-0500
TZNAME:CDT
DTSTART:20250309T080000
END:DAYLIGHT
BEGIN:STANDARD
TZOFFSETFROM:-0500
TZOFFSETTO:-0600
TZNAME:CST
DTSTART:20251102T070000
END:STANDARD
BEGIN:DAYLIGHT
TZOFFSETFROM:-0600
TZOFFSETTO:-0500
TZNAME:CDT
DTSTART:20260308T080000
END:DAYLIGHT
BEGIN:STANDARD
TZOFFSETFROM:-0500
TZOFFSETTO:-0600
TZNAME:CST
DTSTART:20261101T070000
END:STANDARD
BEGIN:DAYLIGHT
TZOFFSETFROM:-0600
TZOFFSETTO:-0500
TZNAME:CDT
DTSTART:20270314T080000
END:DAYLIGHT
BEGIN:STANDARD
TZOFFSETFROM:-0500
TZOFFSETTO:-0600
TZNAME:CST
DTSTART:20271107T070000
END:STANDARD
END:VTIMEZONE
BEGIN:VEVENT
DTSTART;TZID=America/Chicago:20260706T190000
DTEND;TZID=America/Chicago:20260706T220000
DTSTAMP:20260421T031619
CREATED:20260413T122434Z
LAST-MODIFIED:20260413T122436Z
UID:10003346-1783364400-1783375200@priorlakeevents.com
SUMMARY:Bob Dylan at Mystic Lake Amphitheater
DESCRIPTION:Bob Dylan performs live at Mystic Lake Amphitheater in Shakopee on July 6\, 2026 at 7:00 PM.
URL:https://priorlakeevents.com/event/bob-dylan-at-mystic-lake-amphitheater/
LOCATION:Mystic Lake Amphitheater\, 712 Canterbury Rd\, Shakopee\, 55379\, United States
CATEGORIES:Live Music
END:VEVENT
BEGIN:VEVENT
DTSTART;TZID=America/Chicago:20260708T183000
DTEND;TZID=America/Chicago:20260708T200000
DTSTAMP:20260421T031619
CREATED:20260227T130638Z
LAST-MODIFIED:20260227T130638Z
UID:10003197-1783535400-1783540800@priorlakeevents.com
SUMMARY:Backpacker's Pantry
DESCRIPTION:Learn how to dehydrate your own meals for better taste\, nutrition\, and cost savings on the trail. Instructor Heather Novak covers food dehydration techniques for backcountry meals including tacos\, stews\, chicken\, and vegetables. \nRegistration required: Register & pay via Prior Lake–Savage Community Education.
URL:https://priorlakeevents.com/event/backpackers-pantry/
LOCATION:Hidden Oaks Middle School\, 15855 Fish Point Road SE\, Prior Lake\, MN\, 55372\, USA
CATEGORIES:Classes,Community Education,Food & Drink,Outdoor & Recreation,Taste
END:VEVENT
BEGIN:VEVENT
DTSTART;TZID=America/Chicago:20260709T170000
DTEND;TZID=America/Chicago:20260709T180000
DTSTAMP:20260421T031619
CREATED:20260126T133617Z
LAST-MODIFIED:20260126T133725Z
UID:10003030-1783616400-1783620000@priorlakeevents.com
SUMMARY:COMMUNITY PLATE - SECOND AND LAST THURSDAY MONTHLY 2026
DESCRIPTION:Community Plate is a beautiful opportunity to help meet a basic meal need in the community and to show others love!~ RF \n\n📍 Location\nGreat Room at SOLLC3611 N Berens Rd NWPrior Lake\, MN 55379 \n\n🗓 When\nSecond and last Thursday of each month (2026) \n\n⏰ Time\n5:00–6:00 PM \nHoliday schedules may vary. Thanksgiving and New Year’s Eve meals may be offered as grab-and-go distributions with adjusted times. \n\n🍽 2026 Dates\nServing time is 5:00–6:00 PM unless noted. \n\n\nJanuary: 8\, 29 \n\n\nFebruary: 12\, 26 (Red Cross Mobile Blood Drive on campus Feb 26\, noon–6 PM) \n\n\nMarch: 12\, 26 \n\n\nApril: 9\, 30 \n\n\nMay: 14\, 28 \n\n\nJune: 11\, 25 \n\n\nJuly: 9\, 30 \n\n\nAugust: 13\, 27 \n\n\nSeptember: 10\, 24 \n\n\nOctober: 8\, 29 \n\n\nNovember: 12\, 26 (Thanksgiving grab-and-go; registration required) \n\n\nDecember: 10\, 31 (New Year’s grab-and-go; registration required)
URL:https://priorlakeevents.com/event/community-plate-second-and-last-thursday-monthly-2026-2/2026-07-09/
LOCATION:Shepherd of the Lake Lutheran Church\, 3611 N Berens Rd NW\, Prior Lake\, MN\, United States
CATEGORIES:Community
ATTACH;FMTTYPE=image/jpeg:https://priorlakeevents.com/wp-content/uploads/2026/01/winter-flyer.jpg
ORGANIZER;CN="Smoke Signals":MAILTO:robbfrank8@comcast.net
END:VEVENT
BEGIN:VEVENT
DTSTART;TZID=America/Chicago:20260710T170000
DTEND;TZID=America/Chicago:20260711T230000
DTSTAMP:20260421T031619
CREATED:20251020T123842Z
LAST-MODIFIED:20260320T154912Z
UID:10000350-1783702800-1783810800@priorlakeevents.com
SUMMARY:Prior Lake Rotary's Lakefront Music Fest
DESCRIPTION:The Lakefront Music Fest returns to Lakefront Park in Prior Lake for two nights of live music on July 10 and 11\, 2026. Put on by the Prior Lake Rotary\, this is the longest-running outdoor music festival in the Twin Cities area. \nFriday\, July 10\n\nBilly Idol (headliner)\nGeorge Thorogood & The Destroyers\nJefferson Starship\n\nEmcee: Adam West of KOOL 108 \nSaturday\, July 11\n\nKeith Urban (headliner)\nJackson Dean\nKarley Scott Collins\n\nEmcee: Muss of K102 \nGates open at 5 PM each night. Opening ceremony at approximately 6 PM. Set times are subject to change. \nFor tickets and more info\, visit lakefrontmusicfest.com.
URL:https://priorlakeevents.com/event/prior-lake-rotarys-lakefront-music-fest/
LOCATION:Lakefront Park\, 5000 Kop Pkwy SE\, Prior Lake\, MN\, 55372\, United States
CATEGORIES:Live Music
ORGANIZER;CN="Lakefront Music Fest":MAILTO:noreply@facebookmail.com
GEO:44.718271;-93.419505
X-APPLE-STRUCTURED-LOCATION;VALUE=URI;X-ADDRESS=Lakefront Park 5000 Kop Pkwy SE Prior Lake MN 55372 United States;X-APPLE-RADIUS=500;X-TITLE=5000 Kop Pkwy SE:geo:-93.419505,44.718271
END:VEVENT
BEGIN:VEVENT
DTSTART;TZID=America/Chicago:20260711T173000
DTEND;TZID=America/Chicago:20260711T203000
DTSTAMP:20260421T031619
CREATED:20260413T122438Z
LAST-MODIFIED:20260413T122439Z
UID:10003347-1783791000-1783801800@priorlakeevents.com
SUMMARY:Dirty Heads and 311 at Mystic Lake Amphitheater
DESCRIPTION:Dirty Heads and 311 brings the So Glad You Made It Tour to Mystic Lake Amphitheater in Shakopee on July 11\, 2026 at 5:30 PM.
URL:https://priorlakeevents.com/event/dirty-heads-and-311-at-mystic-lake-amphitheater-2/
LOCATION:Mystic Lake Amphitheater\, 712 Canterbury Rd\, Shakopee\, 55379\, United States
CATEGORIES:Live Music
END:VEVENT
BEGIN:VEVENT
DTSTART;TZID=America/Chicago:20260712T193000
DTEND;TZID=America/Chicago:20260712T223000
DTSTAMP:20260421T031619
CREATED:20260413T122441Z
LAST-MODIFIED:20260413T122443Z
UID:10003348-1783884600-1783895400@priorlakeevents.com
SUMMARY:Jack Johnson at Mystic Lake Amphitheater
DESCRIPTION:Jack Johnson brings the SURFILMUSIC Tour 2026 to Mystic Lake Amphitheater in Shakopee on July 12\, 2026 at 7:30 PM.
URL:https://priorlakeevents.com/event/jack-johnson-at-mystic-lake-amphitheater/
LOCATION:Mystic Lake Amphitheater\, 712 Canterbury Rd\, Shakopee\, 55379\, United States
CATEGORIES:Live Music
END:VEVENT
BEGIN:VEVENT
DTSTART;TZID=America/Chicago:20260713T180000
DTEND;TZID=America/Chicago:20260713T193000
DTSTAMP:20260421T031619
CREATED:20260227T130652Z
LAST-MODIFIED:20260227T130652Z
UID:10003198-1783965600-1783971000@priorlakeevents.com
SUMMARY:Rosé All Day Wine Tasting
DESCRIPTION:Explore the variations of summer’s perfect wine with WSET-certified educator Gayle Boje at Rhino Wine Bar. Learn about different rosé styles\, production methods\, and regions\, with pairing suggestions. Bottles available to purchase at special event prices. \nRegistration required: Register & pay via Prior Lake–Savage Community Education.
URL:https://priorlakeevents.com/event/rose-all-day-wine-tasting/
LOCATION:Rhino Wine Bar\, 16186 Main Ave SE\, Prior Lake\, MN\, United States
CATEGORIES:Classes,Community Education,Food & Drink,Taste
END:VEVENT
BEGIN:VEVENT
DTSTART;TZID=America/Chicago:20260714T183000
DTEND;TZID=America/Chicago:20260714T203000
DTSTAMP:20260421T031619
CREATED:20260227T130652Z
LAST-MODIFIED:20260227T130652Z
UID:10003199-1784053800-1784061000@priorlakeevents.com
SUMMARY:Basic Canning 101
DESCRIPTION:Learn the essentials of home food preservation with instructor Heather Novak. This hands-on class covers making homemade jams\, salsas\, pickled beans\, and fermented cabbage\, with emphasis on tools\, food safety\, and produce selection. \nRegistration required: Register & pay via Prior Lake–Savage Community Education.
URL:https://priorlakeevents.com/event/basic-canning-101/
LOCATION:Hidden Oaks Middle School\, 15855 Fish Point Road SE\, Prior Lake\, MN\, 55372\, USA
CATEGORIES:Classes,Community Education,Food & Drink,Taste
END:VEVENT
BEGIN:VEVENT
DTSTART;TZID=America/Chicago:20260714T190000
DTEND;TZID=America/Chicago:20260714T200000
DTSTAMP:20260421T031619
CREATED:20260108T132843Z
LAST-MODIFIED:20260108T150850Z
UID:10002442-1784055600-1784059200@priorlakeevents.com
SUMMARY:Prior Lake City Council Meeting
DESCRIPTION:The City of Prior Lake City Council meets regularly to discuss and act on city business. Meetings are open to the public and residents are encouraged to attend. \nCity Council meetings are held on the second and fourth Tuesday of each month at City Hall. \n🏛️ Work Session: 5:00 PM🕖 City Council Meeting: 7:00 PM📍 Location: Prior Lake City Hall👥 Open to the public \nMeeting agendas and materials are typically available through the city prior to each meeting.
URL:https://priorlakeevents.com/event/city-council-meeting-9/2026-07-14/
LOCATION:City of Prior Lake – City Hall\, 4646 Dakota St SE\, Prior Lake\, MN\, 55372\, United States
CATEGORIES:Government
GEO:44.718271;-93.419505
X-APPLE-STRUCTURED-LOCATION;VALUE=URI;X-ADDRESS=City of Prior Lake – City Hall 4646 Dakota St SE Prior Lake MN 55372 United States;X-APPLE-RADIUS=500;X-TITLE=4646 Dakota St SE:geo:-93.419505,44.718271
END:VEVENT
BEGIN:VEVENT
DTSTART;TZID=America/Chicago:20260714T200000
DTEND;TZID=America/Chicago:20260714T230000
DTSTAMP:20260421T031619
CREATED:20260413T122445Z
LAST-MODIFIED:20260413T122447Z
UID:10003349-1784059200-1784070000@priorlakeevents.com
SUMMARY:John Mellencamp at Mystic Lake Amphitheater
DESCRIPTION:John Mellencamp brings the Dancing Words Tour to Mystic Lake Amphitheater in Shakopee on July 14\, 2026 at 8:00 PM.
URL:https://priorlakeevents.com/event/john-mellencamp-at-mystic-lake-amphitheater/
LOCATION:Mystic Lake Amphitheater\, 712 Canterbury Rd\, Shakopee\, 55379\, United States
CATEGORIES:Live Music
END:VEVENT
BEGIN:VEVENT
DTSTART;TZID=America/Chicago:20260716T190000
DTEND;TZID=America/Chicago:20260716T220000
DTSTAMP:20260421T031619
CREATED:20260413T122449Z
LAST-MODIFIED:20260413T122451Z
UID:10003350-1784228400-1784239200@priorlakeevents.com
SUMMARY:Creed at Mystic Lake Amphitheater
DESCRIPTION:Creed brings the 93x Summer Bash to Mystic Lake Amphitheater in Shakopee on July 16\, 2026 at 7:00 PM.
URL:https://priorlakeevents.com/event/creed-at-mystic-lake-amphitheater/
LOCATION:Mystic Lake Amphitheater\, 712 Canterbury Rd\, Shakopee\, 55379\, United States
CATEGORIES:Live Music
END:VEVENT
BEGIN:VEVENT
DTSTART;TZID=America/Chicago:20260718T190000
DTEND;TZID=America/Chicago:20260718T220000
DTSTAMP:20260421T031619
CREATED:20260413T122453Z
LAST-MODIFIED:20260413T122455Z
UID:10003351-1784401200-1784412000@priorlakeevents.com
SUMMARY:Lil Wayne at Mystic Lake Amphitheater
DESCRIPTION:Lil Wayne brings the 20 Years of Carter Classics with 2 Chainz to Mystic Lake Amphitheater in Shakopee on July 18\, 2026 at 7:00 PM.
URL:https://priorlakeevents.com/event/lil-wayne-at-mystic-lake-amphitheater/
LOCATION:Mystic Lake Amphitheater\, 712 Canterbury Rd\, Shakopee\, 55379\, United States
CATEGORIES:Live Music
END:VEVENT
BEGIN:VEVENT
DTSTART;TZID=America/Chicago:20260722T200000
DTEND;TZID=America/Chicago:20260722T230000
DTSTAMP:20260421T031619
CREATED:20260413T122456Z
LAST-MODIFIED:20260413T122459Z
UID:10003352-1784750400-1784761200@priorlakeevents.com
SUMMARY:5 Seconds of Summer at Mystic Lake Amphitheater
DESCRIPTION:5 Seconds of Summer brings the EVERYONE’S A STAR! World Tour to Mystic Lake Amphitheater in Shakopee on July 22\, 2026 at 8:00 PM.
URL:https://priorlakeevents.com/event/5-seconds-of-summer-at-mystic-lake-amphitheater/
LOCATION:Mystic Lake Amphitheater\, 712 Canterbury Rd\, Shakopee\, 55379\, United States
CATEGORIES:Live Music
END:VEVENT
BEGIN:VEVENT
DTSTART;TZID=America/Chicago:20260725T190000
DTEND;TZID=America/Chicago:20260725T220000
DTSTAMP:20260421T031619
CREATED:20260413T122501Z
LAST-MODIFIED:20260413T122503Z
UID:10003353-1785006000-1785016800@priorlakeevents.com
SUMMARY:Hilary Duff at Mystic Lake Amphitheater
DESCRIPTION:Hilary Duff brings the the lucky me tour to Mystic Lake Amphitheater in Shakopee on July 25\, 2026 at 7:00 PM.
URL:https://priorlakeevents.com/event/hilary-duff-at-mystic-lake-amphitheater/
LOCATION:Mystic Lake Amphitheater\, 712 Canterbury Rd\, Shakopee\, 55379\, United States
CATEGORIES:Live Music
END:VEVENT
BEGIN:VEVENT
DTSTART;TZID=America/Chicago:20260727T180000
DTEND;TZID=America/Chicago:20260727T210000
DTSTAMP:20260421T031619
CREATED:20260413T122505Z
LAST-MODIFIED:20260413T122507Z
UID:10003354-1785175200-1785186000@priorlakeevents.com
SUMMARY:Avenged Sevenfold and Good Charlotte at Mystic Lake Amphitheater
DESCRIPTION:Avenged Sevenfold and Good Charlotte brings the North American Tour 2026 to Mystic Lake Amphitheater in Shakopee on July 27\, 2026 at 6:00 PM.
URL:https://priorlakeevents.com/event/avenged-sevenfold-and-good-charlotte-at-mystic-lake-amphitheater/
LOCATION:Mystic Lake Amphitheater\, 712 Canterbury Rd\, Shakopee\, 55379\, United States
CATEGORIES:Live Music
END:VEVENT
BEGIN:VEVENT
DTSTART;TZID=America/Chicago:20260728T183000
DTEND;TZID=America/Chicago:20260728T213000
DTSTAMP:20260421T031619
CREATED:20260413T122509Z
LAST-MODIFIED:20260413T122511Z
UID:10003355-1785263400-1785274200@priorlakeevents.com
SUMMARY:The Black Crowes and Whiskey Myers at Mystic Lake Amphitheater
DESCRIPTION:The Black Crowes and Whiskey Myers brings the Southern Hospitality Tour to Mystic Lake Amphitheater in Shakopee on July 28\, 2026 at 6:30 PM.
URL:https://priorlakeevents.com/event/the-black-crowes-and-whiskey-myers-at-mystic-lake-amphitheater/
LOCATION:Mystic Lake Amphitheater\, 712 Canterbury Rd\, Shakopee\, 55379\, United States
CATEGORIES:Live Music
END:VEVENT
BEGIN:VEVENT
DTSTART;TZID=America/Chicago:20260728T190000
DTEND;TZID=America/Chicago:20260728T200000
DTSTAMP:20260421T031619
CREATED:20260108T132843Z
LAST-MODIFIED:20260108T150626Z
UID:10002383-1785265200-1785268800@priorlakeevents.com
SUMMARY:Prior Lake City Council Meeting
DESCRIPTION:The City of Prior Lake City Council meets regularly to discuss and act on city business. Meetings are open to the public and residents are encouraged to attend. \nCity Council meetings are held on the second and fourth Tuesday of each month at City Hall. \n🏛️ Work Session: 5:00 PM🕖 City Council Meeting: 7:00 PM📍 Location: Prior Lake City Hall👥 Open to the public \nMeeting agendas and materials are typically available through the city prior to each meeting.
URL:https://priorlakeevents.com/event/city-council-meeting-8/2026-07-28/
LOCATION:City of Prior Lake – City Hall\, 4646 Dakota St SE\, Prior Lake\, MN\, 55372\, United States
CATEGORIES:Government
GEO:44.718271;-93.419505
X-APPLE-STRUCTURED-LOCATION;VALUE=URI;X-ADDRESS=City of Prior Lake – City Hall 4646 Dakota St SE Prior Lake MN 55372 United States;X-APPLE-RADIUS=500;X-TITLE=4646 Dakota St SE:geo:-93.419505,44.718271
END:VEVENT
BEGIN:VEVENT
DTSTART;TZID=America/Chicago:20260729T193000
DTEND;TZID=America/Chicago:20260729T223000
DTSTAMP:20260421T031619
CREATED:20260413T122513Z
LAST-MODIFIED:20260413T122515Z
UID:10003356-1785353400-1785364200@priorlakeevents.com
SUMMARY:Chris Stapleton at Mystic Lake Amphitheater
DESCRIPTION:Chris Stapleton brings the All-American Road Show to Mystic Lake Amphitheater in Shakopee on July 29\, 2026 at 7:30 PM.
URL:https://priorlakeevents.com/event/chris-stapleton-at-mystic-lake-amphitheater/
LOCATION:Mystic Lake Amphitheater\, 712 Canterbury Rd\, Shakopee\, 55379\, United States
CATEGORIES:Live Music
END:VEVENT
BEGIN:VEVENT
DTSTART;TZID=America/Chicago:20260730T170000
DTEND;TZID=America/Chicago:20260730T180000
DTSTAMP:20260421T031619
CREATED:20260126T133256Z
LAST-MODIFIED:20260126T133256Z
UID:10002911-1785430800-1785434400@priorlakeevents.com
SUMMARY:COMMUNITY PLATE - SECOND AND LAST THURSDAY MONTHLY 2026
DESCRIPTION:Community Plate is a beautiful opportunity to help meet a basic meal need in the community and to show others love!~ RF \n\n📍 Location\nGreat Room at SOLLC3611 N Berens Rd NWPrior Lake\, MN 55379 \n\n🗓 When\nSecond and last Thursday of each month (2026) \n\n⏰ Time\n5:00–6:00 PM \nHoliday schedules may vary. Thanksgiving and New Year’s Eve meals may be offered as grab-and-go distributions with adjusted times. \n\n🍽 2026 Dates\nServing time is 5:00–6:00 PM unless noted. \n\n\nJanuary: 8\, 29 \n\n\nFebruary: 12\, 26 (Red Cross Mobile Blood Drive on campus Feb 26\, noon–6 PM) \n\n\nMarch: 12\, 26 \n\n\nApril: 9\, 30 \n\n\nMay: 14\, 28 \n\n\nJune: 11\, 25 \n\n\nJuly: 9\, 30 \n\n\nAugust: 13\, 27 \n\n\nSeptember: 10\, 24 \n\n\nOctober: 8\, 29 \n\n\nNovember: 12\, 26 (Thanksgiving grab-and-go; registration required) \n\n\nDecember: 10\, 31 (New Year’s grab-and-go; registration required)
URL:https://priorlakeevents.com/event/community-plate-second-and-last-thursday-monthly-2026/2026-07-30/
LOCATION:Shepherd of the Lake Lutheran Church\, 3611 N Berens Rd NW\, Prior Lake\, MN\, United States
CATEGORIES:Community
ATTACH;FMTTYPE=image/jpeg:https://priorlakeevents.com/wp-content/uploads/2026/01/winter-flyer.jpg
ORGANIZER;CN="Smoke Signals":MAILTO:robbfrank8@comcast.net
END:VEVENT
BEGIN:VEVENT
DTSTART;TZID=America/Chicago:20260730T193000
DTEND;TZID=America/Chicago:20260730T223000
DTSTAMP:20260421T031619
CREATED:20260413T122517Z
LAST-MODIFIED:20260413T122519Z
UID:10003357-1785439800-1785450600@priorlakeevents.com
SUMMARY:Chris Stapleton at Mystic Lake Amphitheater
DESCRIPTION:Chris Stapleton brings the All-American Road Show to Mystic Lake Amphitheater in Shakopee on July 30\, 2026 at 7:30 PM.
URL:https://priorlakeevents.com/event/chris-stapleton-at-mystic-lake-amphitheater-2/
LOCATION:Mystic Lake Amphitheater\, 712 Canterbury Rd\, Shakopee\, 55379\, United States
CATEGORIES:Live Music
END:VEVENT
BEGIN:VEVENT
DTSTART;TZID=America/Chicago:20260731T193000
DTEND;TZID=America/Chicago:20260731T223000
DTSTAMP:20260421T031619
CREATED:20260413T122521Z
LAST-MODIFIED:20260413T122522Z
UID:10003358-1785526200-1785537000@priorlakeevents.com
SUMMARY:Mumford & Sons at Mystic Lake Amphitheater
DESCRIPTION:Mumford & Sons brings the Prizefighter Tour to Mystic Lake Amphitheater in Shakopee on July 31\, 2026 at 7:30 PM.
URL:https://priorlakeevents.com/event/mumford-sons-at-mystic-lake-amphitheater/
LOCATION:Mystic Lake Amphitheater\, 712 Canterbury Rd\, Shakopee\, 55379\, United States
CATEGORIES:Live Music
END:VEVENT
BEGIN:VEVENT
DTSTART;TZID=America/Chicago:20260803T190000
DTEND;TZID=America/Chicago:20260803T220000
DTSTAMP:20260421T031619
CREATED:20260413T122524Z
LAST-MODIFIED:20260413T122526Z
UID:10003359-1785783600-1785794400@priorlakeevents.com
SUMMARY:Kesha at Mystic Lake Amphitheater
DESCRIPTION:Kesha brings the The Freedom Tour to Mystic Lake Amphitheater in Shakopee on August 3\, 2026 at 7:00 PM.
URL:https://priorlakeevents.com/event/kesha-at-mystic-lake-amphitheater-2/
LOCATION:Mystic Lake Amphitheater\, 712 Canterbury Rd\, Shakopee\, 55379\, United States
CATEGORIES:Live Music
END:VEVENT
BEGIN:VEVENT
DTSTART;TZID=America/Chicago:20260804T193000
DTEND;TZID=America/Chicago:20260804T223000
DTSTAMP:20260421T031619
CREATED:20260413T122528Z
LAST-MODIFIED:20260413T122530Z
UID:10003360-1785871800-1785882600@priorlakeevents.com
SUMMARY:Goo Goo Dolls at Mystic Lake Amphitheater
DESCRIPTION:Goo Goo Dolls brings the Summer 2026 to Mystic Lake Amphitheater in Shakopee on August 4\, 2026 at 7:30 PM.
URL:https://priorlakeevents.com/event/goo-goo-dolls-at-mystic-lake-amphitheater/
LOCATION:Mystic Lake Amphitheater\, 712 Canterbury Rd\, Shakopee\, 55379\, United States
CATEGORIES:Live Music
END:VEVENT
BEGIN:VEVENT
DTSTART;TZID=America/Chicago:20260805T200000
DTEND;TZID=America/Chicago:20260805T230000
DTSTAMP:20260421T031619
CREATED:20260413T122531Z
LAST-MODIFIED:20260413T122533Z
UID:10003361-1785960000-1785970800@priorlakeevents.com
SUMMARY:NE-YO & AKON at Mystic Lake Amphitheater
DESCRIPTION:NE-YO & AKON brings the Nights Like This Tour 2026 to Mystic Lake Amphitheater in Shakopee on August 5\, 2026 at 8:00 PM.
URL:https://priorlakeevents.com/event/ne-yo-akon-at-mystic-lake-amphitheater/
LOCATION:Mystic Lake Amphitheater\, 712 Canterbury Rd\, Shakopee\, 55379\, United States
CATEGORIES:Live Music
END:VEVENT
BEGIN:VEVENT
DTSTART;TZID=America/Chicago:20260808T182500
DTEND;TZID=America/Chicago:20260808T212500
DTSTAMP:20260421T031619
CREATED:20260413T122535Z
LAST-MODIFIED:20260413T122537Z
UID:10003362-1786213500-1786224300@priorlakeevents.com
SUMMARY:Guns N' Roses at Mystic Lake Amphitheater
DESCRIPTION:Guns N’ Roses brings the World Tour 2026 to Mystic Lake Amphitheater in Shakopee on August 8\, 2026 at 6:25 PM.
URL:https://priorlakeevents.com/event/guns-n-roses-at-mystic-lake-amphitheater/
LOCATION:Mystic Lake Amphitheater\, 712 Canterbury Rd\, Shakopee\, 55379\, United States
CATEGORIES:Live Music
END:VEVENT
BEGIN:VEVENT
DTSTART;TZID=America/Chicago:20260809T184500
DTEND;TZID=America/Chicago:20260809T214500
DTSTAMP:20260421T031619
CREATED:20260413T122539Z
LAST-MODIFIED:20260413T122540Z
UID:10003363-1786301100-1786311900@priorlakeevents.com
SUMMARY:Train at Mystic Lake Amphitheater
DESCRIPTION:Train brings the Drops of Jupiter: 25 Years in the Atmosphere to Mystic Lake Amphitheater in Shakopee on August 9\, 2026 at 6:45 PM.
URL:https://priorlakeevents.com/event/train-at-mystic-lake-amphitheater/
LOCATION:Mystic Lake Amphitheater\, 712 Canterbury Rd\, Shakopee\, 55379\, United States
CATEGORIES:Live Music
END:VEVENT
BEGIN:VEVENT
DTSTART;TZID=America/Chicago:20260810T180000
DTEND;TZID=America/Chicago:20260810T193000
DTSTAMP:20260421T031619
CREATED:20260227T130652Z
LAST-MODIFIED:20260227T130652Z
UID:10003200-1786384800-1786390200@priorlakeevents.com
SUMMARY:Nautical Nights Wine Tasting
DESCRIPTION:Experience wines curated for coastal-inspired summer nights with WSET-certified educator Gayle Boje at Rhino Wine Bar. Sample maritime-themed selections and purchase bottles at special event prices. \nRegistration required: Register & pay via Prior Lake–Savage Community Education.
URL:https://priorlakeevents.com/event/nautical-nights-wine-tasting/
LOCATION:Rhino Wine Bar\, 16186 Main Ave SE\, Prior Lake\, MN\, United States
CATEGORIES:Classes,Community Education,Food & Drink,Taste
END:VEVENT
BEGIN:VEVENT
DTSTART;TZID=America/Chicago:20260811T190000
DTEND;TZID=America/Chicago:20260811T200000
DTSTAMP:20260421T031619
CREATED:20260108T132843Z
LAST-MODIFIED:20260108T150850Z
UID:10002443-1786474800-1786478400@priorlakeevents.com
SUMMARY:Prior Lake City Council Meeting
DESCRIPTION:The City of Prior Lake City Council meets regularly to discuss and act on city business. Meetings are open to the public and residents are encouraged to attend. \nCity Council meetings are held on the second and fourth Tuesday of each month at City Hall. \n🏛️ Work Session: 5:00 PM🕖 City Council Meeting: 7:00 PM📍 Location: Prior Lake City Hall👥 Open to the public \nMeeting agendas and materials are typically available through the city prior to each meeting.
URL:https://priorlakeevents.com/event/city-council-meeting-9/2026-08-11/
LOCATION:City of Prior Lake – City Hall\, 4646 Dakota St SE\, Prior Lake\, MN\, 55372\, United States
CATEGORIES:Government
GEO:44.718271;-93.419505
X-APPLE-STRUCTURED-LOCATION;VALUE=URI;X-ADDRESS=City of Prior Lake – City Hall 4646 Dakota St SE Prior Lake MN 55372 United States;X-APPLE-RADIUS=500;X-TITLE=4646 Dakota St SE:geo:-93.419505,44.718271
END:VEVENT
BEGIN:VEVENT
DTSTART;TZID=America/Chicago:20260813T170000
DTEND;TZID=America/Chicago:20260813T180000
DTSTAMP:20260421T031619
CREATED:20260126T133617Z
LAST-MODIFIED:20260126T133725Z
UID:10003031-1786640400-1786644000@priorlakeevents.com
SUMMARY:COMMUNITY PLATE - SECOND AND LAST THURSDAY MONTHLY 2026
DESCRIPTION:Community Plate is a beautiful opportunity to help meet a basic meal need in the community and to show others love!~ RF \n\n📍 Location\nGreat Room at SOLLC3611 N Berens Rd NWPrior Lake\, MN 55379 \n\n🗓 When\nSecond and last Thursday of each month (2026) \n\n⏰ Time\n5:00–6:00 PM \nHoliday schedules may vary. Thanksgiving and New Year’s Eve meals may be offered as grab-and-go distributions with adjusted times. \n\n🍽 2026 Dates\nServing time is 5:00–6:00 PM unless noted. \n\n\nJanuary: 8\, 29 \n\n\nFebruary: 12\, 26 (Red Cross Mobile Blood Drive on campus Feb 26\, noon–6 PM) \n\n\nMarch: 12\, 26 \n\n\nApril: 9\, 30 \n\n\nMay: 14\, 28 \n\n\nJune: 11\, 25 \n\n\nJuly: 9\, 30 \n\n\nAugust: 13\, 27 \n\n\nSeptember: 10\, 24 \n\n\nOctober: 8\, 29 \n\n\nNovember: 12\, 26 (Thanksgiving grab-and-go; registration required) \n\n\nDecember: 10\, 31 (New Year’s grab-and-go; registration required)
URL:https://priorlakeevents.com/event/community-plate-second-and-last-thursday-monthly-2026-2/2026-08-13/
LOCATION:Shepherd of the Lake Lutheran Church\, 3611 N Berens Rd NW\, Prior Lake\, MN\, United States
CATEGORIES:Community
ATTACH;FMTTYPE=image/jpeg:https://priorlakeevents.com/wp-content/uploads/2026/01/winter-flyer.jpg
ORGANIZER;CN="Smoke Signals":MAILTO:robbfrank8@comcast.net
END:VEVENT
BEGIN:VEVENT
DTSTART;TZID=America/Chicago:20260814T193000
DTEND;TZID=America/Chicago:20260814T223000
DTSTAMP:20260421T031619
CREATED:20260413T122542Z
LAST-MODIFIED:20260413T122544Z
UID:10003364-1786735800-1786746600@priorlakeevents.com
SUMMARY:Empire of the Sun at Mystic Lake Amphitheater
DESCRIPTION:Empire of the Sun brings the Ask That God: Afterlife North American Tour to Mystic Lake Amphitheater in Shakopee on August 14\, 2026 at 7:30 PM.
URL:https://priorlakeevents.com/event/empire-of-the-sun-at-mystic-lake-amphitheater-2/
LOCATION:Mystic Lake Amphitheater\, 712 Canterbury Rd\, Shakopee\, 55379\, United States
CATEGORIES:Live Music
END:VEVENT
END:VCALENDAR