BEGIN:VCALENDAR
VERSION:2.0
PRODID:-//Prior Lake Events - ECPv6.15.20//NONSGML v1.0//EN
CALSCALE:GREGORIAN
METHOD:PUBLISH
X-ORIGINAL-URL:https://priorlakeevents.com
X-WR-CALDESC:Events for Prior Lake Events
REFRESH-INTERVAL;VALUE=DURATION:PT1H
X-Robots-Tag:noindex
X-PUBLISHED-TTL:PT1H
BEGIN:VTIMEZONE
TZID:America/Chicago
BEGIN:DAYLIGHT
TZOFFSETFROM:-0600
TZOFFSETTO:-0500
TZNAME:CDT
DTSTART:20250309T080000
END:DAYLIGHT
BEGIN:STANDARD
TZOFFSETFROM:-0500
TZOFFSETTO:-0600
TZNAME:CST
DTSTART:20251102T070000
END:STANDARD
BEGIN:DAYLIGHT
TZOFFSETFROM:-0600
TZOFFSETTO:-0500
TZNAME:CDT
DTSTART:20260308T080000
END:DAYLIGHT
BEGIN:STANDARD
TZOFFSETFROM:-0500
TZOFFSETTO:-0600
TZNAME:CST
DTSTART:20261101T070000
END:STANDARD
BEGIN:DAYLIGHT
TZOFFSETFROM:-0600
TZOFFSETTO:-0500
TZNAME:CDT
DTSTART:20270314T080000
END:DAYLIGHT
BEGIN:STANDARD
TZOFFSETFROM:-0500
TZOFFSETTO:-0600
TZNAME:CST
DTSTART:20271107T070000
END:STANDARD
END:VTIMEZONE
BEGIN:VEVENT
DTSTART;TZID=America/Chicago:20260206T100000
DTEND;TZID=America/Chicago:20260206T110000
DTSTAMP:20260421T195257
CREATED:20260126T164827Z
LAST-MODIFIED:20260127T215121Z
UID:10003085-1770372000-1770375600@priorlakeevents.com
SUMMARY:Valentine's Sensory Play
DESCRIPTION:Welcome to Heartfelt Fun\, where kids explore multiple sensory stations with a Valentine’s Theme! Activities include heart stamping\, making “heart-shaped cookies”\, and a sensory bin filled with red and white beads\, sparking imagination and sensory discovery in a love-filled adventure! What a great way to celebrate Valentine’s Day with your child! Children must be accompanied by a caregiver. \nRegistration closes Tuesday\, February 3.
URL:https://priorlakeevents.com/event/valentines-sensory-play/
LOCATION:Club Corner @ PL Library\, 16210 Eagle Creek Ave\, Prior Lake\, MN\, 55372\, United States
CATEGORIES:Arts/Entertainment|Special Events|Storytimes & Early Literacy Classes,Kids & Family,Outdoor & Recreation
ATTACH;FMTTYPE=image/png:https://priorlakeevents.com/wp-content/uploads/2026/01/3189-Little-Hands-Discovery-Valentines-Day-Sensory-Play.png
END:VEVENT
END:VCALENDAR