BEGIN:VCALENDAR
VERSION:2.0
PRODID:-//Prior Lake Events - ECPv6.15.20//NONSGML v1.0//EN
CALSCALE:GREGORIAN
METHOD:PUBLISH
X-ORIGINAL-URL:https://priorlakeevents.com
X-WR-CALDESC:Events for Prior Lake Events
REFRESH-INTERVAL;VALUE=DURATION:PT1H
X-Robots-Tag:noindex
X-PUBLISHED-TTL:PT1H
BEGIN:VTIMEZONE
TZID:America/Chicago
BEGIN:DAYLIGHT
TZOFFSETFROM:-0600
TZOFFSETTO:-0500
TZNAME:CDT
DTSTART:20250309T080000
END:DAYLIGHT
BEGIN:STANDARD
TZOFFSETFROM:-0500
TZOFFSETTO:-0600
TZNAME:CST
DTSTART:20251102T070000
END:STANDARD
BEGIN:DAYLIGHT
TZOFFSETFROM:-0600
TZOFFSETTO:-0500
TZNAME:CDT
DTSTART:20260308T080000
END:DAYLIGHT
BEGIN:STANDARD
TZOFFSETFROM:-0500
TZOFFSETTO:-0600
TZNAME:CST
DTSTART:20261101T070000
END:STANDARD
BEGIN:DAYLIGHT
TZOFFSETFROM:-0600
TZOFFSETTO:-0500
TZNAME:CDT
DTSTART:20270314T080000
END:DAYLIGHT
BEGIN:STANDARD
TZOFFSETFROM:-0500
TZOFFSETTO:-0600
TZNAME:CST
DTSTART:20271107T070000
END:STANDARD
END:VTIMEZONE
BEGIN:VEVENT
DTSTART;TZID=America/Chicago:20260427T123000
DTEND;TZID=America/Chicago:20260518T140000
DTSTAMP:20260422T101043
CREATED:20251105T215720Z
LAST-MODIFIED:20260115T170731Z
UID:10001072-1777293000-1779112800@priorlakeevents.com
SUMMARY:Homeschool Drop-off Series: Archery Club
DESCRIPTION:Join instructors from the Outdoor Recreation School to explore the sport of archery. Learn the fundamentals of archery in a safe and supportive environment. Participants will learn proper form\, safety techniques\, and target shooting through practice\, games and challenges. Whether you are a beginner or looking to improve your skills\, our club fosters confidence\, patience and empowerment. No prior experience is necessary. Equipment is provided. Reservations required. $48/four sessions. \n20% discount for groups of four or more. \n📋 Registration RequiredClick here to register for this event →
URL:https://priorlakeevents.com/event/homeschool-drop-off-series-archery-club/
LOCATION:Cleary Lake Regional Park\, 18106 Texas Avenue\, Prior Lake\, MN\, 55372\, United States
CATEGORIES:Cleary Lake
END:VEVENT
BEGIN:VEVENT
DTSTART;VALUE=DATE:20260504
DTEND;VALUE=DATE:20260505
DTSTAMP:20260422T101043
CREATED:20260406T122418Z
LAST-MODIFIED:20260406T122418Z
UID:10003331-1777852800-1777939199@priorlakeevents.com
SUMMARY:PLAY Competition Cheer — Pre-Tryout Clinics & Tryouts
DESCRIPTION:PLAY is holding pre-tryout clinics and tryouts for competition cheerleading for the 2026–2027 season\, open to current K–7th graders. All sessions take place at Twin Oaks Middle School. \nClinic Sessions:Sunday\, May 4 — Clinic #1Wednesday\, May 6 — Clinic #2 (mandatory for anyone trying out)Thursday\, May 7 — Clinic #3 \nMandatory Parent Meeting:Wednesday\, May 6\, 6:45–7:45 p.m. in the auditorium \nTryouts:Monday\, May 11Wednesday\, May 13 \nRegistration is required. Full details\, times\, and registration at playinfo.org/CHEER. Questions: compcheer@playinfo.org.
URL:https://priorlakeevents.com/event/play-competition-cheer-pre-tryout-clinics-tryouts/
LOCATION:Twin Oaks Middle School\, 15860 Fish Point Road SE\, Prior Lake\, MN\, 55372\, USA
CATEGORIES:Community,Kids & Family
END:VEVENT
BEGIN:VEVENT
DTSTART;TZID=America/Chicago:20260504T180000
DTEND;TZID=America/Chicago:20260518T200000
DTSTAMP:20260422T101043
CREATED:20251027T164515Z
LAST-MODIFIED:20251216T173342Z
UID:10000626-1777917600-1779134400@priorlakeevents.com
SUMMARY:Hooked on Growing
DESCRIPTION:Ready to take your crochet skills to the next level? This class is perfect for those who are confident with the basics—chain\, single crochet\, slip stitch\, magic ring\, increases\, and decreases—and are looking to move beyond beginner-level patterns. A list of 12 potential projects will be emailed to you five days before the first session. Choose one or more that match your interests and skill goals. During our two sessions\, you’ll work on your chosen project(s)\, receive guidance as needed\, and have the opportunity to share your own tips and techniques with others in the group. — Min age: 16 yr. \nRegistration required: Register & pay via Prior Lake–Savage Community Education.
URL:https://priorlakeevents.com/event/hooked-on-growing/
LOCATION:Twin Oaks Middle School\, 15860 Fish Point Road SE\, Prior Lake\, MN\, 55372\, USA
CATEGORIES:Create
END:VEVENT
BEGIN:VEVENT
DTSTART;TZID=America/Chicago:20260505T183000
DTEND;TZID=America/Chicago:20260505T191500
DTSTAMP:20260422T101043
CREATED:20260324T152853Z
LAST-MODIFIED:20260324T152853Z
UID:10003298-1778005800-1778008500@priorlakeevents.com
SUMMARY:Climate Change in Minnesota with Mike Augustyniak
DESCRIPTION:WCCO meteorologist Mike Augustyniak presents on how greenhouse gases are warming the planet and what that means for Minnesota. Hosted by Shepherd of the Lake Lutheran Church in Prior Lake. The talk runs from 6:30 to 7:15 p.m. and is open to the community.
URL:https://priorlakeevents.com/event/climate-change-in-minnesota-with-mike-augustyniak/
LOCATION:Shepherd of the Lake Lutheran Church\, 3611 N Berens Rd NW\, Prior Lake\, MN\, United States
CATEGORIES:Community
END:VEVENT
BEGIN:VEVENT
DTSTART;TZID=America/Chicago:20260505T183000
DTEND;TZID=America/Chicago:20260505T191500
DTSTAMP:20260422T101043
CREATED:20260415T200534Z
LAST-MODIFIED:20260415T200545Z
UID:10003388-1778005800-1778008500@priorlakeevents.com
SUMMARY:Climate Change in Minnesota with Mike Augustyniak
DESCRIPTION:WCCO Meteorologist Mike Augustyniak will explore how greenhouse gases warm the planet and what is happening right here in MN! \nThis free speaker event at Shepherd of the Lake Lutheran Church in Prior Lake is open to the community. Learn about climate science and its local impact on Minnesota.
URL:https://priorlakeevents.com/event/climate-change-in-minnesota-with-mike-augustyniak-2/
LOCATION:Shepherd of the Lake Lutheran Church\, 3611 N Berens Rd NW\, Prior Lake\, MN\, United States
END:VEVENT
BEGIN:VEVENT
DTSTART;TZID=America/Chicago:20260506T163000
DTEND;TZID=America/Chicago:20260506T163000
DTSTAMP:20260422T101043
CREATED:20251101T164629Z
LAST-MODIFIED:20251216T173341Z
UID:10001034-1778085000-1778085000@priorlakeevents.com
SUMMARY:Softball: Girls Varsity  vs. Lakeville North (Home)
DESCRIPTION:Softball – Girls Varsity vs Lakeville North – 4:30 PM at Prior Lake High School
URL:https://priorlakeevents.com/event/softball-girls-varsity-vs-lakeville-north-home/
LOCATION:Prior Lake High School\, 7575 150th St. West\, Savage\, MN\, 55378
ATTACH;FMTTYPE=image/webp:https://priorlakeevents.com/wp-content/uploads/2025/10/PL_FullColor1.webp
END:VEVENT
BEGIN:VEVENT
DTSTART;TZID=America/Chicago:20260506T180000
DTEND;TZID=America/Chicago:20260506T203000
DTSTAMP:20260422T101043
CREATED:20260227T130637Z
LAST-MODIFIED:20260227T130637Z
UID:10003193-1778090400-1778099400@priorlakeevents.com
SUMMARY:Drawing Basics
DESCRIPTION:Anyone can learn to draw with the right guidance. In this beginner-friendly class with instructor Vanessa Merry\, you’ll explore fundamental drawing and observation skills and create a simple still-life drawing while building artistic confidence. \nRegistration required: Register & pay via Prior Lake–Savage Community Education.
URL:https://priorlakeevents.com/event/drawing-basics-2/
LOCATION:Twin Oaks Middle School\, 15860 Fish Point Road SE\, Prior Lake\, MN\, 55372\, USA
CATEGORIES:Arts/Entertainment,Classes,Community Education,Create
END:VEVENT
BEGIN:VEVENT
DTSTART;TZID=America/Chicago:20260506T180000
DTEND;TZID=America/Chicago:20260506T210000
DTSTAMP:20260422T101043
CREATED:20251027T164737Z
LAST-MODIFIED:20251216T173341Z
UID:10000651-1778090400-1778101200@priorlakeevents.com
SUMMARY:Let Them Eat Cake
DESCRIPTION:Join us for an evening mixing\, baking\, and decorating your own charming 8-inch cake to take home and share with family\, friends or co-workers. No prior decorating experience is required\, and everything will be provided for you; you’ll see that great results don’t always need special tools. Nancy has all sorts of clever tricks up her sleeve to show just how easy—and downright fun—baking can be! — Min age: 18 yr. \nRegistration required: Register & pay via Prior Lake–Savage Community Education.
URL:https://priorlakeevents.com/event/let-them-eat-cake/
LOCATION:Twin Oaks Middle School\, 15860 Fish Point Road SE\, Prior Lake\, MN\, 55372\, USA
CATEGORIES:Taste
END:VEVENT
BEGIN:VEVENT
DTSTART;TZID=America/Chicago:20260507T163000
DTEND;TZID=America/Chicago:20260507T190000
DTSTAMP:20260422T101043
CREATED:20260420T213553Z
LAST-MODIFIED:20260420T213553Z
UID:10003439-1778171400-1778180400@priorlakeevents.com
SUMMARY:Ladies Night Out in Downtown Prior Lake
DESCRIPTION:The Prior Lake Chamber of Commerce hosts Ladies Night Out on Thursday\, May 7 from 4:30 to 7 p.m. in Downtown Prior Lake. Shop\, sip\, and mingle with friends while exploring local vendors and downtown businesses. \nWristband winners at every booth\, plus additional prize drawings throughout the night and a grand finale giveaway. Enjoy tasty drinks\, delicious eats\, and fantastic shopping\, all in one evening. \nCheck-in is at The Radiance Lounge\, 4769 Dakota St SE. Early bird tickets are $15 through May 1\, then $20 after May 1 and for walk-ups. \nGet tickets and full details
URL:https://priorlakeevents.com/event/ladies-night-out-in-downtown-prior-lake/
LOCATION:Downtown Prior Lake\, Main Ave SE\, Prior Lake\, MN\, United States
CATEGORIES:Community,Market / Shopping,Special Events
END:VEVENT
BEGIN:VEVENT
DTSTART;TZID=America/Chicago:20260507T173000
DTEND;TZID=America/Chicago:20260507T190000
DTSTAMP:20260422T101043
CREATED:20260415T201240Z
LAST-MODIFIED:20260415T201240Z
UID:10003393-1778175000-1778180400@priorlakeevents.com
SUMMARY:Boys Lacrosse: Prior Lake vs. Lakeville North
DESCRIPTION:Prior Lake Boys Lacrosse vs. Lakeville North at Dan Patch Stadium. Free admission — come out and support the Lakers!
URL:https://priorlakeevents.com/event/boys-lacrosse-prior-lake-vs-lakeville-north/
LOCATION:Prior Lake High School\, 7575 150th St. West\, Savage\, MN\, 55378
CATEGORIES:High School Sports
ATTACH;FMTTYPE=image/webp:https://priorlakeevents.com/wp-content/uploads/2025/10/PL_FullColor1.webp
END:VEVENT
BEGIN:VEVENT
DTSTART;TZID=America/Chicago:20260507T190000
DTEND;TZID=America/Chicago:20260507T190000
DTSTAMP:20260422T101043
CREATED:20251101T164632Z
LAST-MODIFIED:20251216T173340Z
UID:10001036-1778180400-1778180400@priorlakeevents.com
SUMMARY:Baseball: Varsity  vs. Farmington (Home)
DESCRIPTION:Baseball – Varsity vs Farmington – 7:00 PM at Memorial Park – Prior Lake
URL:https://priorlakeevents.com/event/baseball-varsity-vs-farmington-home/
LOCATION:MN
ATTACH;FMTTYPE=image/webp:https://priorlakeevents.com/wp-content/uploads/2025/10/PL_FullColor1.webp
END:VEVENT
BEGIN:VEVENT
DTSTART;TZID=America/Chicago:20260508T140000
DTEND;TZID=America/Chicago:20260509T220000
DTSTAMP:20260422T101043
CREATED:20260324T152855Z
LAST-MODIFIED:20260324T152855Z
UID:10003299-1778248800-1778364000@priorlakeevents.com
SUMMARY:Ladies Weekend at Mystic Lake
DESCRIPTION:Two days of fun at Mystic Lake Casino Hotel. The weekend features Purse Bingo on both Friday and Saturday at 2 p.m.\, with over $90\,000 in cash and designer handbags up for grabs. Free live entertainment at Hop House plus giveaways throughout the weekend. Friday night features Jo Dee Messina\, and Saturday night brings Ja Rule to the Mystic Showroom.
URL:https://priorlakeevents.com/event/ladies-weekend-at-mystic-lake/
LOCATION:Mystic Lake Casino Hotel\, Prior Lake\, MN\, United States
CATEGORIES:Casino,Special Events
END:VEVENT
BEGIN:VEVENT
DTSTART;TZID=America/Chicago:20260508T200000
DTEND;TZID=America/Chicago:20260508T230000
DTSTAMP:20260422T101043
CREATED:20260301T184048Z
LAST-MODIFIED:20260301T184135Z
UID:10003212-1778270400-1778281200@priorlakeevents.com
SUMMARY:Jo Dee Messina
DESCRIPTION:Chart-topping country artist Jo Dee Messina brings her high-energy show to Mystic Lake Casino Hotel on Friday\, May 8. Known for nine No. 1 singles and 16 Top 40 songs\, Messina delivers a night of classic country hits. Show starts at 8 p.m. Tickets start at $39 at the Mystic Box Office or $48.70 on Ticketmaster.
URL:https://priorlakeevents.com/event/jo-dee-messina/
LOCATION:Mystic Lake Casino Hotel\, Prior Lake\, MN\, United States
CATEGORIES:Casino,Live Music
END:VEVENT
BEGIN:VEVENT
DTSTART;TZID=America/Chicago:20260509T140000
DTEND;TZID=America/Chicago:20260509T170000
DTSTAMP:20260422T101043
CREATED:20260324T152858Z
LAST-MODIFIED:20260324T152858Z
UID:10003300-1778335200-1778346000@priorlakeevents.com
SUMMARY:Purse Bingo at Mystic Lake
DESCRIPTION:Purse Bingo returns to Mystic Lake Casino Hotel on Saturday\, May 9 at 2 p.m. Fourteen lucky bingo winners take home a designer handbag\, with over $45\,000 in cash and handbags at stake. Must be 18 or older to play. No refunds or exchanges. Public onsale begins Monday\, March 23 at noon.
URL:https://priorlakeevents.com/event/purse-bingo-at-mystic-lake/
LOCATION:Mystic Lake Casino Hotel\, Prior Lake\, MN\, United States
CATEGORIES:Casino,Special Events
END:VEVENT
BEGIN:VEVENT
DTSTART;TZID=America/Chicago:20260509T200000
DTEND;TZID=America/Chicago:20260509T230000
DTSTAMP:20260422T101043
CREATED:20260301T184051Z
LAST-MODIFIED:20260301T184051Z
UID:10003213-1778356800-1778367600@priorlakeevents.com
SUMMARY:Ja Rule
DESCRIPTION:Ja Rule takes the stage at Mystic Lake Casino Hotel on Saturday\, May 9. One of the most successful rappers of his generation\, Ja Rule brings his signature blend of hip-hop and R&B with hits that defined early-2000s radio. Show starts at 8 p.m. Tickets start at $49 at the Mystic Box Office or $59.50 on Ticketmaster.
URL:https://priorlakeevents.com/event/ja-rule/
LOCATION:Mystic Lake Casino Hotel\, Prior Lake\, MN\, United States
CATEGORIES:Casino,Live Music
END:VEVENT
END:VCALENDAR