BEGIN:VCALENDAR
VERSION:2.0
PRODID:-//Prior Lake Events - ECPv6.15.20//NONSGML v1.0//EN
CALSCALE:GREGORIAN
METHOD:PUBLISH
X-ORIGINAL-URL:https://priorlakeevents.com
X-WR-CALDESC:Events for Prior Lake Events
REFRESH-INTERVAL;VALUE=DURATION:PT1H
X-Robots-Tag:noindex
X-PUBLISHED-TTL:PT1H
BEGIN:VTIMEZONE
TZID:America/Chicago
BEGIN:DAYLIGHT
TZOFFSETFROM:-0600
TZOFFSETTO:-0500
TZNAME:CDT
DTSTART:20250309T080000
END:DAYLIGHT
BEGIN:STANDARD
TZOFFSETFROM:-0500
TZOFFSETTO:-0600
TZNAME:CST
DTSTART:20251102T070000
END:STANDARD
BEGIN:DAYLIGHT
TZOFFSETFROM:-0600
TZOFFSETTO:-0500
TZNAME:CDT
DTSTART:20260308T080000
END:DAYLIGHT
BEGIN:STANDARD
TZOFFSETFROM:-0500
TZOFFSETTO:-0600
TZNAME:CST
DTSTART:20261101T070000
END:STANDARD
BEGIN:DAYLIGHT
TZOFFSETFROM:-0600
TZOFFSETTO:-0500
TZNAME:CDT
DTSTART:20270314T080000
END:DAYLIGHT
BEGIN:STANDARD
TZOFFSETFROM:-0500
TZOFFSETTO:-0600
TZNAME:CST
DTSTART:20271107T070000
END:STANDARD
END:VTIMEZONE
BEGIN:VEVENT
DTSTART;TZID=America/Chicago:20260704T080000
DTEND;TZID=America/Chicago:20260704T110000
DTSTAMP:20260425T144027
CREATED:20260423T195059Z
LAST-MODIFIED:20260423T195059Z
UID:10003455-1783152000-1783162800@priorlakeevents.com
SUMMARY:Great Scott Classic Bike Ride
DESCRIPTION:The Great Scott Cycling Club hosts its Classic Bike Ride on Saturday\, July 4\, celebrating Independence Day with a fully supported ride through Scott County’s countryside. All routes start and end at Lakefront Park. \nOn-site registration begins at 7:15 a.m. at the Lakefront Park Pavilion. The 50-mile route rolls out at 8 a.m. and the 25-mile route at 8:15 a.m. Helmets required. SAG and mechanical support provided. Rest stops are well-stocked\, and a complete lunch is served after the ride. \nCash or check only for ride-day registration. To pay by credit card\, register in advance. Paper maps will not be distributed; routes will be similar to prior years.
URL:https://priorlakeevents.com/event/great-scott-classic-bike-ride/
LOCATION:Lakefront Park\, 5000 Kop Pkwy SE\, Prior Lake\, MN\, 55372\, United States
CATEGORIES:Fitness/Wellness,Holiday Events,Outdoor & Recreation
GEO:44.718271;-93.419505
X-APPLE-STRUCTURED-LOCATION;VALUE=URI;X-ADDRESS=Lakefront Park 5000 Kop Pkwy SE Prior Lake MN 55372 United States;X-APPLE-RADIUS=500;X-TITLE=5000 Kop Pkwy SE:geo:-93.419505,44.718271
END:VEVENT
END:VCALENDAR