BEGIN:VCALENDAR
VERSION:2.0
PRODID:-//Prior Lake Events - ECPv6.15.20//NONSGML v1.0//EN
CALSCALE:GREGORIAN
METHOD:PUBLISH
X-WR-CALNAME:Prior Lake Events
X-ORIGINAL-URL:https://priorlakeevents.com
X-WR-CALDESC:Events for Prior Lake Events
REFRESH-INTERVAL;VALUE=DURATION:PT1H
X-Robots-Tag:noindex
X-PUBLISHED-TTL:PT1H
BEGIN:VTIMEZONE
TZID:America/Chicago
BEGIN:DAYLIGHT
TZOFFSETFROM:-0600
TZOFFSETTO:-0500
TZNAME:CDT
DTSTART:20250309T080000
END:DAYLIGHT
BEGIN:STANDARD
TZOFFSETFROM:-0500
TZOFFSETTO:-0600
TZNAME:CST
DTSTART:20251102T070000
END:STANDARD
BEGIN:DAYLIGHT
TZOFFSETFROM:-0600
TZOFFSETTO:-0500
TZNAME:CDT
DTSTART:20260308T080000
END:DAYLIGHT
BEGIN:STANDARD
TZOFFSETFROM:-0500
TZOFFSETTO:-0600
TZNAME:CST
DTSTART:20261101T070000
END:STANDARD
BEGIN:DAYLIGHT
TZOFFSETFROM:-0600
TZOFFSETTO:-0500
TZNAME:CDT
DTSTART:20270314T080000
END:DAYLIGHT
BEGIN:STANDARD
TZOFFSETFROM:-0500
TZOFFSETTO:-0600
TZNAME:CST
DTSTART:20271107T070000
END:STANDARD
END:VTIMEZONE
BEGIN:VEVENT
DTSTART;TZID=America/Chicago:20260803T190000
DTEND;TZID=America/Chicago:20260803T220000
DTSTAMP:20260425T202842
CREATED:20260413T122524Z
LAST-MODIFIED:20260413T122526Z
UID:10003359-1785783600-1785794400@priorlakeevents.com
SUMMARY:Kesha at Mystic Lake Amphitheater
DESCRIPTION:Kesha brings the The Freedom Tour to Mystic Lake Amphitheater in Shakopee on August 3\, 2026 at 7:00 PM.
URL:https://priorlakeevents.com/event/kesha-at-mystic-lake-amphitheater-2/
LOCATION:Mystic Lake Amphitheater\, 712 Canterbury Rd\, Shakopee\, 55379\, United States
CATEGORIES:Live Music
END:VEVENT
BEGIN:VEVENT
DTSTART;TZID=America/Chicago:20260804T193000
DTEND;TZID=America/Chicago:20260804T223000
DTSTAMP:20260425T202842
CREATED:20260413T122528Z
LAST-MODIFIED:20260413T122530Z
UID:10003360-1785871800-1785882600@priorlakeevents.com
SUMMARY:Goo Goo Dolls at Mystic Lake Amphitheater
DESCRIPTION:Goo Goo Dolls brings the Summer 2026 to Mystic Lake Amphitheater in Shakopee on August 4\, 2026 at 7:30 PM.
URL:https://priorlakeevents.com/event/goo-goo-dolls-at-mystic-lake-amphitheater/
LOCATION:Mystic Lake Amphitheater\, 712 Canterbury Rd\, Shakopee\, 55379\, United States
CATEGORIES:Live Music
END:VEVENT
BEGIN:VEVENT
DTSTART;TZID=America/Chicago:20260805T200000
DTEND;TZID=America/Chicago:20260805T230000
DTSTAMP:20260425T202842
CREATED:20260413T122531Z
LAST-MODIFIED:20260413T122533Z
UID:10003361-1785960000-1785970800@priorlakeevents.com
SUMMARY:NE-YO & AKON at Mystic Lake Amphitheater
DESCRIPTION:NE-YO & AKON brings the Nights Like This Tour 2026 to Mystic Lake Amphitheater in Shakopee on August 5\, 2026 at 8:00 PM.
URL:https://priorlakeevents.com/event/ne-yo-akon-at-mystic-lake-amphitheater/
LOCATION:Mystic Lake Amphitheater\, 712 Canterbury Rd\, Shakopee\, 55379\, United States
CATEGORIES:Live Music
END:VEVENT
BEGIN:VEVENT
DTSTART;TZID=America/Chicago:20260808T182500
DTEND;TZID=America/Chicago:20260808T212500
DTSTAMP:20260425T202842
CREATED:20260413T122535Z
LAST-MODIFIED:20260413T122537Z
UID:10003362-1786213500-1786224300@priorlakeevents.com
SUMMARY:Guns N' Roses at Mystic Lake Amphitheater
DESCRIPTION:Guns N’ Roses brings the World Tour 2026 to Mystic Lake Amphitheater in Shakopee on August 8\, 2026 at 6:25 PM.
URL:https://priorlakeevents.com/event/guns-n-roses-at-mystic-lake-amphitheater/
LOCATION:Mystic Lake Amphitheater\, 712 Canterbury Rd\, Shakopee\, 55379\, United States
CATEGORIES:Live Music
END:VEVENT
BEGIN:VEVENT
DTSTART;TZID=America/Chicago:20260809T184500
DTEND;TZID=America/Chicago:20260809T214500
DTSTAMP:20260425T202842
CREATED:20260413T122539Z
LAST-MODIFIED:20260413T122540Z
UID:10003363-1786301100-1786311900@priorlakeevents.com
SUMMARY:Train at Mystic Lake Amphitheater
DESCRIPTION:Train brings the Drops of Jupiter: 25 Years in the Atmosphere to Mystic Lake Amphitheater in Shakopee on August 9\, 2026 at 6:45 PM.
URL:https://priorlakeevents.com/event/train-at-mystic-lake-amphitheater/
LOCATION:Mystic Lake Amphitheater\, 712 Canterbury Rd\, Shakopee\, 55379\, United States
CATEGORIES:Live Music
END:VEVENT
END:VCALENDAR