BEGIN:VCALENDAR
VERSION:2.0
PRODID:-//Prior Lake Events - ECPv6.15.20//NONSGML v1.0//EN
CALSCALE:GREGORIAN
METHOD:PUBLISH
X-ORIGINAL-URL:https://priorlakeevents.com
X-WR-CALDESC:Events for Prior Lake Events
REFRESH-INTERVAL;VALUE=DURATION:PT1H
X-Robots-Tag:noindex
X-PUBLISHED-TTL:PT1H
BEGIN:VTIMEZONE
TZID:America/Chicago
BEGIN:DAYLIGHT
TZOFFSETFROM:-0600
TZOFFSETTO:-0500
TZNAME:CDT
DTSTART:20250309T080000
END:DAYLIGHT
BEGIN:STANDARD
TZOFFSETFROM:-0500
TZOFFSETTO:-0600
TZNAME:CST
DTSTART:20251102T070000
END:STANDARD
BEGIN:DAYLIGHT
TZOFFSETFROM:-0600
TZOFFSETTO:-0500
TZNAME:CDT
DTSTART:20260308T080000
END:DAYLIGHT
BEGIN:STANDARD
TZOFFSETFROM:-0500
TZOFFSETTO:-0600
TZNAME:CST
DTSTART:20261101T070000
END:STANDARD
BEGIN:DAYLIGHT
TZOFFSETFROM:-0600
TZOFFSETTO:-0500
TZNAME:CDT
DTSTART:20270314T080000
END:DAYLIGHT
BEGIN:STANDARD
TZOFFSETFROM:-0500
TZOFFSETTO:-0600
TZNAME:CST
DTSTART:20271107T070000
END:STANDARD
END:VTIMEZONE
BEGIN:VEVENT
DTSTART;TZID=America/Chicago:20260810T180000
DTEND;TZID=America/Chicago:20260810T193000
DTSTAMP:20260423T012449
CREATED:20260227T130652Z
LAST-MODIFIED:20260227T130652Z
UID:10003200-1786384800-1786390200@priorlakeevents.com
SUMMARY:Nautical Nights Wine Tasting
DESCRIPTION:Experience wines curated for coastal-inspired summer nights with WSET-certified educator Gayle Boje at Rhino Wine Bar. Sample maritime-themed selections and purchase bottles at special event prices. \nRegistration required: Register & pay via Prior Lake–Savage Community Education.
URL:https://priorlakeevents.com/event/nautical-nights-wine-tasting/
LOCATION:Rhino Wine Bar\, 16186 Main Ave SE\, Prior Lake\, MN\, United States
CATEGORIES:Classes,Community Education,Food & Drink,Taste
END:VEVENT
BEGIN:VEVENT
DTSTART;TZID=America/Chicago:20260811T190000
DTEND;TZID=America/Chicago:20260811T200000
DTSTAMP:20260423T012449
CREATED:20260108T132843Z
LAST-MODIFIED:20260108T150850Z
UID:10002443-1786474800-1786478400@priorlakeevents.com
SUMMARY:Prior Lake City Council Meeting
DESCRIPTION:The City of Prior Lake City Council meets regularly to discuss and act on city business. Meetings are open to the public and residents are encouraged to attend. \nCity Council meetings are held on the second and fourth Tuesday of each month at City Hall. \n🏛️ Work Session: 5:00 PM🕖 City Council Meeting: 7:00 PM📍 Location: Prior Lake City Hall👥 Open to the public \nMeeting agendas and materials are typically available through the city prior to each meeting.
URL:https://priorlakeevents.com/event/city-council-meeting-9/2026-08-11/
LOCATION:City of Prior Lake – City Hall\, 4646 Dakota St SE\, Prior Lake\, MN\, 55372\, United States
CATEGORIES:Government
GEO:44.718271;-93.419505
X-APPLE-STRUCTURED-LOCATION;VALUE=URI;X-ADDRESS=City of Prior Lake – City Hall 4646 Dakota St SE Prior Lake MN 55372 United States;X-APPLE-RADIUS=500;X-TITLE=4646 Dakota St SE:geo:-93.419505,44.718271
END:VEVENT
BEGIN:VEVENT
DTSTART;TZID=America/Chicago:20260813T170000
DTEND;TZID=America/Chicago:20260813T180000
DTSTAMP:20260423T012449
CREATED:20260126T133617Z
LAST-MODIFIED:20260126T133725Z
UID:10003031-1786640400-1786644000@priorlakeevents.com
SUMMARY:COMMUNITY PLATE - SECOND AND LAST THURSDAY MONTHLY 2026
DESCRIPTION:Community Plate is a beautiful opportunity to help meet a basic meal need in the community and to show others love!~ RF \n\n📍 Location\nGreat Room at SOLLC3611 N Berens Rd NWPrior Lake\, MN 55379 \n\n🗓 When\nSecond and last Thursday of each month (2026) \n\n⏰ Time\n5:00–6:00 PM \nHoliday schedules may vary. Thanksgiving and New Year’s Eve meals may be offered as grab-and-go distributions with adjusted times. \n\n🍽 2026 Dates\nServing time is 5:00–6:00 PM unless noted. \n\n\nJanuary: 8\, 29 \n\n\nFebruary: 12\, 26 (Red Cross Mobile Blood Drive on campus Feb 26\, noon–6 PM) \n\n\nMarch: 12\, 26 \n\n\nApril: 9\, 30 \n\n\nMay: 14\, 28 \n\n\nJune: 11\, 25 \n\n\nJuly: 9\, 30 \n\n\nAugust: 13\, 27 \n\n\nSeptember: 10\, 24 \n\n\nOctober: 8\, 29 \n\n\nNovember: 12\, 26 (Thanksgiving grab-and-go; registration required) \n\n\nDecember: 10\, 31 (New Year’s grab-and-go; registration required)
URL:https://priorlakeevents.com/event/community-plate-second-and-last-thursday-monthly-2026-2/2026-08-13/
LOCATION:Shepherd of the Lake Lutheran Church\, 3611 N Berens Rd NW\, Prior Lake\, MN\, United States
CATEGORIES:Community
ATTACH;FMTTYPE=image/jpeg:https://priorlakeevents.com/wp-content/uploads/2026/01/winter-flyer.jpg
ORGANIZER;CN="Smoke Signals":MAILTO:robbfrank8@comcast.net
END:VEVENT
BEGIN:VEVENT
DTSTART;TZID=America/Chicago:20260814T193000
DTEND;TZID=America/Chicago:20260814T223000
DTSTAMP:20260423T012449
CREATED:20260413T122542Z
LAST-MODIFIED:20260413T122544Z
UID:10003364-1786735800-1786746600@priorlakeevents.com
SUMMARY:Empire of the Sun at Mystic Lake Amphitheater
DESCRIPTION:Empire of the Sun brings the Ask That God: Afterlife North American Tour to Mystic Lake Amphitheater in Shakopee on August 14\, 2026 at 7:30 PM.
URL:https://priorlakeevents.com/event/empire-of-the-sun-at-mystic-lake-amphitheater-2/
LOCATION:Mystic Lake Amphitheater\, 712 Canterbury Rd\, Shakopee\, 55379\, United States
CATEGORIES:Live Music
END:VEVENT
BEGIN:VEVENT
DTSTART;TZID=America/Chicago:20260816T183000
DTEND;TZID=America/Chicago:20260816T213000
DTSTAMP:20260423T012449
CREATED:20260413T122545Z
LAST-MODIFIED:20260413T122547Z
UID:10003365-1786905000-1786915800@priorlakeevents.com
SUMMARY:Lynyrd Skynyrd x Foreigner at Mystic Lake Amphitheater
DESCRIPTION:Lynyrd Skynyrd x Foreigner brings the Double Trouble Double Vision Tour to Mystic Lake Amphitheater in Shakopee on August 16\, 2026 at 6:30 PM.
URL:https://priorlakeevents.com/event/lynyrd-skynyrd-x-foreigner-at-mystic-lake-amphitheater/
LOCATION:Mystic Lake Amphitheater\, 712 Canterbury Rd\, Shakopee\, 55379\, United States
CATEGORIES:Live Music
END:VEVENT
END:VCALENDAR