BEGIN:VCALENDAR
VERSION:2.0
PRODID:-//Prior Lake Events - ECPv6.15.20//NONSGML v1.0//EN
CALSCALE:GREGORIAN
METHOD:PUBLISH
X-ORIGINAL-URL:https://priorlakeevents.com
X-WR-CALDESC:Events for Prior Lake Events
REFRESH-INTERVAL;VALUE=DURATION:PT1H
X-Robots-Tag:noindex
X-PUBLISHED-TTL:PT1H
BEGIN:VTIMEZONE
TZID:America/Chicago
BEGIN:DAYLIGHT
TZOFFSETFROM:-0600
TZOFFSETTO:-0500
TZNAME:CDT
DTSTART:20250309T080000
END:DAYLIGHT
BEGIN:STANDARD
TZOFFSETFROM:-0500
TZOFFSETTO:-0600
TZNAME:CST
DTSTART:20251102T070000
END:STANDARD
BEGIN:DAYLIGHT
TZOFFSETFROM:-0600
TZOFFSETTO:-0500
TZNAME:CDT
DTSTART:20260308T080000
END:DAYLIGHT
BEGIN:STANDARD
TZOFFSETFROM:-0500
TZOFFSETTO:-0600
TZNAME:CST
DTSTART:20261101T070000
END:STANDARD
BEGIN:DAYLIGHT
TZOFFSETFROM:-0600
TZOFFSETTO:-0500
TZNAME:CDT
DTSTART:20270314T080000
END:DAYLIGHT
BEGIN:STANDARD
TZOFFSETFROM:-0500
TZOFFSETTO:-0600
TZNAME:CST
DTSTART:20271107T070000
END:STANDARD
END:VTIMEZONE
BEGIN:VEVENT
DTSTART;TZID=America/Chicago:20260825T190000
DTEND;TZID=America/Chicago:20260825T200000
DTSTAMP:20260423T012520
CREATED:20260108T132843Z
LAST-MODIFIED:20260108T150626Z
UID:10002384-1787684400-1787688000@priorlakeevents.com
SUMMARY:Prior Lake City Council Meeting
DESCRIPTION:The City of Prior Lake City Council meets regularly to discuss and act on city business. Meetings are open to the public and residents are encouraged to attend. \nCity Council meetings are held on the second and fourth Tuesday of each month at City Hall. \n🏛️ Work Session: 5:00 PM🕖 City Council Meeting: 7:00 PM📍 Location: Prior Lake City Hall👥 Open to the public \nMeeting agendas and materials are typically available through the city prior to each meeting.
URL:https://priorlakeevents.com/event/city-council-meeting-8/2026-08-25/
LOCATION:City of Prior Lake – City Hall\, 4646 Dakota St SE\, Prior Lake\, MN\, 55372\, United States
CATEGORIES:Government
GEO:44.718271;-93.419505
X-APPLE-STRUCTURED-LOCATION;VALUE=URI;X-ADDRESS=City of Prior Lake – City Hall 4646 Dakota St SE Prior Lake MN 55372 United States;X-APPLE-RADIUS=500;X-TITLE=4646 Dakota St SE:geo:-93.419505,44.718271
END:VEVENT
BEGIN:VEVENT
DTSTART;TZID=America/Chicago:20260825T193000
DTEND;TZID=America/Chicago:20260825T223000
DTSTAMP:20260423T012520
CREATED:20260413T122559Z
LAST-MODIFIED:20260413T122601Z
UID:10003369-1787686200-1787697000@priorlakeevents.com
SUMMARY:RUFUS DU SOL at Mystic Lake Amphitheater
DESCRIPTION:RUFUS DU SOL brings the North America 2026 to Mystic Lake Amphitheater in Shakopee on August 25\, 2026 at 7:30 PM.
URL:https://priorlakeevents.com/event/rufus-du-sol-at-mystic-lake-amphitheater/
LOCATION:Mystic Lake Amphitheater\, 712 Canterbury Rd\, Shakopee\, 55379\, United States
CATEGORIES:Live Music
END:VEVENT
BEGIN:VEVENT
DTSTART;TZID=America/Chicago:20260826T184500
DTEND;TZID=America/Chicago:20260826T214500
DTSTAMP:20260423T012520
CREATED:20260413T122603Z
LAST-MODIFIED:20260413T122605Z
UID:10003370-1787769900-1787780700@priorlakeevents.com
SUMMARY:TOTO + Christopher Cross + The Romantics at Mystic Lake Amphitheater
DESCRIPTION:TOTO + Christopher Cross + The Romantics performs live at Mystic Lake Amphitheater in Shakopee on August 26\, 2026 at 6:45 PM.
URL:https://priorlakeevents.com/event/toto-christopher-cross-the-romantics-at-mystic-lake-amphitheater/
LOCATION:Mystic Lake Amphitheater\, 712 Canterbury Rd\, Shakopee\, 55379\, United States
CATEGORIES:Live Music
END:VEVENT
BEGIN:VEVENT
DTSTART;TZID=America/Chicago:20260827T170000
DTEND;TZID=America/Chicago:20260827T180000
DTSTAMP:20260423T012520
CREATED:20260126T133256Z
LAST-MODIFIED:20260126T133256Z
UID:10002912-1787850000-1787853600@priorlakeevents.com
SUMMARY:COMMUNITY PLATE - SECOND AND LAST THURSDAY MONTHLY 2026
DESCRIPTION:Community Plate is a beautiful opportunity to help meet a basic meal need in the community and to show others love!~ RF \n\n📍 Location\nGreat Room at SOLLC3611 N Berens Rd NWPrior Lake\, MN 55379 \n\n🗓 When\nSecond and last Thursday of each month (2026) \n\n⏰ Time\n5:00–6:00 PM \nHoliday schedules may vary. Thanksgiving and New Year’s Eve meals may be offered as grab-and-go distributions with adjusted times. \n\n🍽 2026 Dates\nServing time is 5:00–6:00 PM unless noted. \n\n\nJanuary: 8\, 29 \n\n\nFebruary: 12\, 26 (Red Cross Mobile Blood Drive on campus Feb 26\, noon–6 PM) \n\n\nMarch: 12\, 26 \n\n\nApril: 9\, 30 \n\n\nMay: 14\, 28 \n\n\nJune: 11\, 25 \n\n\nJuly: 9\, 30 \n\n\nAugust: 13\, 27 \n\n\nSeptember: 10\, 24 \n\n\nOctober: 8\, 29 \n\n\nNovember: 12\, 26 (Thanksgiving grab-and-go; registration required) \n\n\nDecember: 10\, 31 (New Year’s grab-and-go; registration required)
URL:https://priorlakeevents.com/event/community-plate-second-and-last-thursday-monthly-2026/2026-08-27/
LOCATION:Shepherd of the Lake Lutheran Church\, 3611 N Berens Rd NW\, Prior Lake\, MN\, United States
CATEGORIES:Community
ATTACH;FMTTYPE=image/jpeg:https://priorlakeevents.com/wp-content/uploads/2026/01/winter-flyer.jpg
ORGANIZER;CN="Smoke Signals":MAILTO:robbfrank8@comcast.net
END:VEVENT
BEGIN:VEVENT
DTSTART;TZID=America/Chicago:20260827T190000
DTEND;TZID=America/Chicago:20260827T220000
DTSTAMP:20260423T012520
CREATED:20260413T122607Z
LAST-MODIFIED:20260413T122609Z
UID:10003371-1787857200-1787868000@priorlakeevents.com
SUMMARY:Santana & The Doobie Brothers at Mystic Lake Amphitheater
DESCRIPTION:Santana & The Doobie Brothers brings the Oneness Tour 2026 to Mystic Lake Amphitheater in Shakopee on August 27\, 2026 at 7:00 PM.
URL:https://priorlakeevents.com/event/santana-the-doobie-brothers-at-mystic-lake-amphitheater/
LOCATION:Mystic Lake Amphitheater\, 712 Canterbury Rd\, Shakopee\, 55379\, United States
CATEGORIES:Live Music
END:VEVENT
BEGIN:VEVENT
DTSTART;TZID=America/Chicago:20260829T183000
DTEND;TZID=America/Chicago:20260829T213000
DTSTAMP:20260423T012520
CREATED:20260413T122611Z
LAST-MODIFIED:20260413T122612Z
UID:10003372-1788028200-1788039000@priorlakeevents.com
SUMMARY:$uicideboy$ at Mystic Lake Amphitheater
DESCRIPTION:$uicideboy$ brings the Grey Day Tour 2026 to Mystic Lake Amphitheater in Shakopee on August 29\, 2026 at 6:30 PM.
URL:https://priorlakeevents.com/event/uicideboy-at-mystic-lake-amphitheater/
LOCATION:Mystic Lake Amphitheater\, 712 Canterbury Rd\, Shakopee\, 55379\, United States
CATEGORIES:Live Music
END:VEVENT
END:VCALENDAR