BEGIN:VCALENDAR
VERSION:2.0
PRODID:-//Prior Lake Events - ECPv6.15.20//NONSGML v1.0//EN
CALSCALE:GREGORIAN
METHOD:PUBLISH
X-ORIGINAL-URL:https://priorlakeevents.com
X-WR-CALDESC:Events for Prior Lake Events
REFRESH-INTERVAL;VALUE=DURATION:PT1H
X-Robots-Tag:noindex
X-PUBLISHED-TTL:PT1H
BEGIN:VTIMEZONE
TZID:America/Chicago
BEGIN:DAYLIGHT
TZOFFSETFROM:-0600
TZOFFSETTO:-0500
TZNAME:CDT
DTSTART:20250309T080000
END:DAYLIGHT
BEGIN:STANDARD
TZOFFSETFROM:-0500
TZOFFSETTO:-0600
TZNAME:CST
DTSTART:20251102T070000
END:STANDARD
BEGIN:DAYLIGHT
TZOFFSETFROM:-0600
TZOFFSETTO:-0500
TZNAME:CDT
DTSTART:20260308T080000
END:DAYLIGHT
BEGIN:STANDARD
TZOFFSETFROM:-0500
TZOFFSETTO:-0600
TZNAME:CST
DTSTART:20261101T070000
END:STANDARD
BEGIN:DAYLIGHT
TZOFFSETFROM:-0600
TZOFFSETTO:-0500
TZNAME:CDT
DTSTART:20270314T080000
END:DAYLIGHT
BEGIN:STANDARD
TZOFFSETFROM:-0500
TZOFFSETTO:-0600
TZNAME:CST
DTSTART:20271107T070000
END:STANDARD
END:VTIMEZONE
BEGIN:VEVENT
DTSTART;TZID=America/Chicago:20260908T190000
DTEND;TZID=America/Chicago:20260908T200000
DTSTAMP:20260423T024623
CREATED:20260108T132843Z
LAST-MODIFIED:20260108T150850Z
UID:10002444-1788894000-1788897600@priorlakeevents.com
SUMMARY:Prior Lake City Council Meeting
DESCRIPTION:The City of Prior Lake City Council meets regularly to discuss and act on city business. Meetings are open to the public and residents are encouraged to attend. \nCity Council meetings are held on the second and fourth Tuesday of each month at City Hall. \n🏛️ Work Session: 5:00 PM🕖 City Council Meeting: 7:00 PM📍 Location: Prior Lake City Hall👥 Open to the public \nMeeting agendas and materials are typically available through the city prior to each meeting.
URL:https://priorlakeevents.com/event/city-council-meeting-9/2026-09-08/
LOCATION:City of Prior Lake – City Hall\, 4646 Dakota St SE\, Prior Lake\, MN\, 55372\, United States
CATEGORIES:Government
GEO:44.718271;-93.419505
X-APPLE-STRUCTURED-LOCATION;VALUE=URI;X-ADDRESS=City of Prior Lake – City Hall 4646 Dakota St SE Prior Lake MN 55372 United States;X-APPLE-RADIUS=500;X-TITLE=4646 Dakota St SE:geo:-93.419505,44.718271
END:VEVENT
BEGIN:VEVENT
DTSTART;TZID=America/Chicago:20260910T170000
DTEND;TZID=America/Chicago:20260910T180000
DTSTAMP:20260423T024623
CREATED:20260126T133617Z
LAST-MODIFIED:20260126T133725Z
UID:10003032-1789059600-1789063200@priorlakeevents.com
SUMMARY:COMMUNITY PLATE - SECOND AND LAST THURSDAY MONTHLY 2026
DESCRIPTION:Community Plate is a beautiful opportunity to help meet a basic meal need in the community and to show others love!~ RF \n\n📍 Location\nGreat Room at SOLLC3611 N Berens Rd NWPrior Lake\, MN 55379 \n\n🗓 When\nSecond and last Thursday of each month (2026) \n\n⏰ Time\n5:00–6:00 PM \nHoliday schedules may vary. Thanksgiving and New Year’s Eve meals may be offered as grab-and-go distributions with adjusted times. \n\n🍽 2026 Dates\nServing time is 5:00–6:00 PM unless noted. \n\n\nJanuary: 8\, 29 \n\n\nFebruary: 12\, 26 (Red Cross Mobile Blood Drive on campus Feb 26\, noon–6 PM) \n\n\nMarch: 12\, 26 \n\n\nApril: 9\, 30 \n\n\nMay: 14\, 28 \n\n\nJune: 11\, 25 \n\n\nJuly: 9\, 30 \n\n\nAugust: 13\, 27 \n\n\nSeptember: 10\, 24 \n\n\nOctober: 8\, 29 \n\n\nNovember: 12\, 26 (Thanksgiving grab-and-go; registration required) \n\n\nDecember: 10\, 31 (New Year’s grab-and-go; registration required)
URL:https://priorlakeevents.com/event/community-plate-second-and-last-thursday-monthly-2026-2/2026-09-10/
LOCATION:Shepherd of the Lake Lutheran Church\, 3611 N Berens Rd NW\, Prior Lake\, MN\, United States
CATEGORIES:Community
ATTACH;FMTTYPE=image/jpeg:https://priorlakeevents.com/wp-content/uploads/2026/01/winter-flyer.jpg
ORGANIZER;CN="Smoke Signals":MAILTO:robbfrank8@comcast.net
END:VEVENT
END:VCALENDAR