BEGIN:VCALENDAR
VERSION:2.0
PRODID:-//Prior Lake Events - ECPv6.15.20//NONSGML v1.0//EN
CALSCALE:GREGORIAN
METHOD:PUBLISH
X-WR-CALNAME:Prior Lake Events
X-ORIGINAL-URL:https://priorlakeevents.com
X-WR-CALDESC:Events for Prior Lake Events
REFRESH-INTERVAL;VALUE=DURATION:PT1H
X-Robots-Tag:noindex
X-PUBLISHED-TTL:PT1H
BEGIN:VTIMEZONE
TZID:America/Chicago
BEGIN:DAYLIGHT
TZOFFSETFROM:-0600
TZOFFSETTO:-0500
TZNAME:CDT
DTSTART:20250309T080000
END:DAYLIGHT
BEGIN:STANDARD
TZOFFSETFROM:-0500
TZOFFSETTO:-0600
TZNAME:CST
DTSTART:20251102T070000
END:STANDARD
BEGIN:DAYLIGHT
TZOFFSETFROM:-0600
TZOFFSETTO:-0500
TZNAME:CDT
DTSTART:20260308T080000
END:DAYLIGHT
BEGIN:STANDARD
TZOFFSETFROM:-0500
TZOFFSETTO:-0600
TZNAME:CST
DTSTART:20261101T070000
END:STANDARD
BEGIN:DAYLIGHT
TZOFFSETFROM:-0600
TZOFFSETTO:-0500
TZNAME:CDT
DTSTART:20270314T080000
END:DAYLIGHT
BEGIN:STANDARD
TZOFFSETFROM:-0500
TZOFFSETTO:-0600
TZNAME:CST
DTSTART:20271107T070000
END:STANDARD
END:VTIMEZONE
BEGIN:VEVENT
DTSTART;TZID=America/Chicago:20260605T180000
DTEND;TZID=America/Chicago:20260605T200000
DTSTAMP:20260421T095926
CREATED:20260324T152900Z
LAST-MODIFIED:20260324T152900Z
UID:10003301-1780682400-1780689600@priorlakeevents.com
SUMMARY:Music in the Park: The C-Notes
DESCRIPTION:The C-Notes kick off the summer Music in the Park series at Lakefront Park in Prior Lake. Bring a blanket or camp chair and enjoy live music by the lake from 6 to 8 p.m.
URL:https://priorlakeevents.com/event/music-in-the-park-the-c-notes/
LOCATION:Lakefront Park\, 5000 Kop Pkwy SE\, Prior Lake\, MN\, 55372\, United States
CATEGORIES:Live Music,Parks & Recreation
GEO:44.718271;-93.419505
X-APPLE-STRUCTURED-LOCATION;VALUE=URI;X-ADDRESS=Lakefront Park 5000 Kop Pkwy SE Prior Lake MN 55372 United States;X-APPLE-RADIUS=500;X-TITLE=5000 Kop Pkwy SE:geo:-93.419505,44.718271
END:VEVENT
BEGIN:VEVENT
DTSTART;TZID=America/Chicago:20260617T170000
DTEND;TZID=America/Chicago:20260617T200000
DTSTAMP:20260421T095926
CREATED:20260324T152905Z
LAST-MODIFIED:20260324T152905Z
UID:10003303-1781715600-1781726400@priorlakeevents.com
SUMMARY:Prior Lake Soccer Club 50th Anniversary Party
DESCRIPTION:The Prior Lake Soccer Club celebrates 50 years of community soccer (est. 1976) with a party at Lakefront Park. Bring your family\, reconnect with former teammates and coaches\, and help honor five decades of memories on the pitch. The celebration runs from 5 to 8 p.m.
URL:https://priorlakeevents.com/event/prior-lake-soccer-club-50th-anniversary-party/
LOCATION:Lakefront Park\, 5000 Kop Pkwy SE\, Prior Lake\, MN\, 55372\, United States
CATEGORIES:Community,Sports/Live Events
GEO:44.718271;-93.419505
X-APPLE-STRUCTURED-LOCATION;VALUE=URI;X-ADDRESS=Lakefront Park 5000 Kop Pkwy SE Prior Lake MN 55372 United States;X-APPLE-RADIUS=500;X-TITLE=5000 Kop Pkwy SE:geo:-93.419505,44.718271
END:VEVENT
BEGIN:VEVENT
DTSTART;TZID=America/Chicago:20260710T170000
DTEND;TZID=America/Chicago:20260711T230000
DTSTAMP:20260421T095926
CREATED:20251020T123842Z
LAST-MODIFIED:20260320T154912Z
UID:10000350-1783702800-1783810800@priorlakeevents.com
SUMMARY:Prior Lake Rotary's Lakefront Music Fest
DESCRIPTION:The Lakefront Music Fest returns to Lakefront Park in Prior Lake for two nights of live music on July 10 and 11\, 2026. Put on by the Prior Lake Rotary\, this is the longest-running outdoor music festival in the Twin Cities area. \nFriday\, July 10\n\nBilly Idol (headliner)\nGeorge Thorogood & The Destroyers\nJefferson Starship\n\nEmcee: Adam West of KOOL 108 \nSaturday\, July 11\n\nKeith Urban (headliner)\nJackson Dean\nKarley Scott Collins\n\nEmcee: Muss of K102 \nGates open at 5 PM each night. Opening ceremony at approximately 6 PM. Set times are subject to change. \nFor tickets and more info\, visit lakefrontmusicfest.com.
URL:https://priorlakeevents.com/event/prior-lake-rotarys-lakefront-music-fest/
LOCATION:Lakefront Park\, 5000 Kop Pkwy SE\, Prior Lake\, MN\, 55372\, United States
CATEGORIES:Live Music
ORGANIZER;CN="Lakefront Music Fest":MAILTO:noreply@facebookmail.com
GEO:44.718271;-93.419505
X-APPLE-STRUCTURED-LOCATION;VALUE=URI;X-ADDRESS=Lakefront Park 5000 Kop Pkwy SE Prior Lake MN 55372 United States;X-APPLE-RADIUS=500;X-TITLE=5000 Kop Pkwy SE:geo:-93.419505,44.718271
END:VEVENT
END:VCALENDAR