BEGIN:VCALENDAR
VERSION:2.0
PRODID:-//Prior Lake Events - ECPv6.15.20//NONSGML v1.0//EN
CALSCALE:GREGORIAN
METHOD:PUBLISH
X-WR-CALNAME:Prior Lake Events
X-ORIGINAL-URL:https://priorlakeevents.com
X-WR-CALDESC:Events for Prior Lake Events
REFRESH-INTERVAL;VALUE=DURATION:PT1H
X-Robots-Tag:noindex
X-PUBLISHED-TTL:PT1H
BEGIN:VTIMEZONE
TZID:America/Chicago
BEGIN:DAYLIGHT
TZOFFSETFROM:-0600
TZOFFSETTO:-0500
TZNAME:CDT
DTSTART:20240310T080000
END:DAYLIGHT
BEGIN:STANDARD
TZOFFSETFROM:-0500
TZOFFSETTO:-0600
TZNAME:CST
DTSTART:20241103T070000
END:STANDARD
BEGIN:DAYLIGHT
TZOFFSETFROM:-0600
TZOFFSETTO:-0500
TZNAME:CDT
DTSTART:20250309T080000
END:DAYLIGHT
BEGIN:STANDARD
TZOFFSETFROM:-0500
TZOFFSETTO:-0600
TZNAME:CST
DTSTART:20251102T070000
END:STANDARD
BEGIN:DAYLIGHT
TZOFFSETFROM:-0600
TZOFFSETTO:-0500
TZNAME:CDT
DTSTART:20260308T080000
END:DAYLIGHT
BEGIN:STANDARD
TZOFFSETFROM:-0500
TZOFFSETTO:-0600
TZNAME:CST
DTSTART:20261101T070000
END:STANDARD
END:VTIMEZONE
BEGIN:VEVENT
DTSTART;TZID=America/Chicago:20251023T103000
DTEND;TZID=America/Chicago:20251023T110000
DTSTAMP:20260421T063308
CREATED:20251009T125452Z
LAST-MODIFIED:20251216T173851Z
UID:10000021-1761215400-1761217200@priorlakeevents.com
SUMMARY:Baby Lap Sit Early Literacy Class at Prior Lake – Large Meeting Room
DESCRIPTION:Babies and their parents/caregivers are welcome to join us for our FREE and FUN story- and play-based early literacy classes that use the five important pre-readings practices of “Talk\, Sing\, Read\, Write\, and Play.” \nBest for ages 0-18 months only. Please\, for baby safety on the rug\, no older siblings if possible. \nOur class themes: \n\n9/11: Welcome to Baby Class\n9/18: How Big is baby?\n9/25: Roarin’ Readers\n10/2: Parachute Play Day\n10/9: Sing about me!\n10/23: Giggles to Scribbles\n10/30: Talk-a-Doodle-Doo\n11/6: Peek-a-Boo Baby\n11/13: Gobble-up words\n11/20: Meet Libby – Puppet Palooza\nLook for special events in December!\n\nLooking for classes for older kids? We also have a Toddler/Preschool class on Mondays at 10:30am. \nStorytimes led by library staff trained in the Every Child Ready to Read curriculum are “early literacy classes” – all the fun and learning of storytime\, but with tips and guidance on easy ways to help your child develop pre-reading skills. \n  \n 
URL:https://priorlakeevents.com/event/baby-lap-sit-early-literacy-class-at-prior-lake-large-meeting-room-2/
LOCATION:Prior Lake Library\, 16210 Eagle Creek Avenue SE\, Prior Lake\, MN\, 55372\, United States
END:VEVENT
BEGIN:VEVENT
DTSTART;TZID=America/Chicago:20251021T183000
DTEND;TZID=America/Chicago:20251021T190000
DTSTAMP:20260421T063308
CREATED:20251009T125451Z
LAST-MODIFIED:20251216T173853Z
UID:10000020-1761071400-1761073200@priorlakeevents.com
SUMMARY:Pajama Storytime at the Prior Lake Library – Large Meeting Room
DESCRIPTION:Join us at the Prior Lake Library for a family friendly Pajama Storytime! Wear your pajamas and bring your stuffie for a fun time of stories. songs and a surprise visit with Luna\, our reading therapy dog.
URL:https://priorlakeevents.com/event/pajama-storytime-at-the-prior-lake-library-large-meeting-room/
LOCATION:Prior Lake Library\, 16210 Eagle Creek Avenue SE\, Prior Lake\, MN\, 55372\, United States
END:VEVENT
BEGIN:VEVENT
DTSTART;TZID=America/Chicago:20251020T103000
DTEND;TZID=America/Chicago:20251020T110000
DTSTAMP:20260421T063308
CREATED:20251009T125450Z
LAST-MODIFIED:20251216T173854Z
UID:10000018-1760956200-1760958000@priorlakeevents.com
SUMMARY:Toddler/Preschool Early Literacy Class at Prior Lake Library – Large Meeting Room
DESCRIPTION:Welcome Prior Lake kids & caregivers! Join us at the library for a special event celebrating our fall family early literacy classes on Mondays at 10:30!  \nSing and dance in dance instructor Nela's lively parent-child program where you'll groove to the beats of Salsa\, Bachata\, and Merengue\, learning vibrant dance moves alongside your family. Get ready to bond\, laugh\, and enjoy the rhythms of Latin dance together! \nAll ages are welcome and registration is not required. \nFunded by Minnesota's Arts & Cultural Heritage (Legacy) Fund. Special event funded by the Friends of the Prior Lake Library. \nOur class themes: \n\n9/8: Spotlight Event!\n9/15: Airplanes\, Apples and Animals\n9/22: Bubbles and Balls\n9/29: Cold and Hot\n10/6: Dinosaur Dig\n10/13: Special event-Wendy's Wiggle\, Jiggle & Jam\n10/20: Fast\, Slow\, and In-Between\n10/27: Grandma's Glasses\n11/3: Feelings – Happy & Sad\n11/10: Ice\, Ice Baby\n11/17: Jellyfish Houses\n11/24: Kites Fly High in the Sky\n12/1: Library Loonies\n12/8: Mailbox Surprise\n12/15: New Shoes\, Red Shoes\n\nLooking for classes for other ages? We also have Baby Lap Sit classes on Thursdays at 10:30 am. 
URL:https://priorlakeevents.com/event/toddler-preschool-early-literacy-class-at-prior-lake-library-large-meeting-room-2/
LOCATION:Prior Lake Library\, 16210 Eagle Creek Avenue SE\, Prior Lake\, MN\, 55372\, United States
CATEGORIES:Storytimes & Early Literacy Classes
END:VEVENT
BEGIN:VEVENT
DTSTART;TZID=America/Chicago:20251018T100000
DTEND;TZID=America/Chicago:20251018T110000
DTSTAMP:20260421T063308
CREATED:20251009T125450Z
LAST-MODIFIED:20251216T173856Z
UID:10000017-1760781600-1760785200@priorlakeevents.com
SUMMARY:Waggin' Tales Reading Time with Perfect Pitch – Small Meeting Room
DESCRIPTION:Read to certified therapy dog\, Perfect Pitch! Call 952-447-3375 to check dates and times.  \nKids or adults can spend time practicing reading to a trained therapy dog with a good ear for stories. Bring your own book\, or pick one of ours. All ages are welcome! Best for beginning readers or children and adults looking to gain confidence in reading aloud. 
URL:https://priorlakeevents.com/event/waggin-tales-reading-time-with-perfect-pitch-small-meeting-room/
LOCATION:Prior Lake Library\, 16210 Eagle Creek Avenue SE\, Prior Lake\, MN\, 55372\, United States
CATEGORIES:Special Events
END:VEVENT
BEGIN:VEVENT
DTSTART;TZID=America/Chicago:20251016T163000
DTEND;TZID=America/Chicago:20251016T173000
DTSTAMP:20260421T063308
CREATED:20251009T125450Z
LAST-MODIFIED:20251216T173858Z
UID:10000016-1760632200-1760635800@priorlakeevents.com
SUMMARY:Teen Thursdays at Prior Lake TeenTober Event Guess the Shredded Book! – Small Meeting Room
DESCRIPTION:For ages 12-18. Drop in and hang out during this passive teen program. \nHow well do you know your books? Stop by the Prior Lake library to see what books we have shredded.  \nJoin us on select Thursdays from 4:30-5:30 for a fun activity specifically for teens. See our full schedule here! \n 
URL:https://priorlakeevents.com/event/teen-thursdays-at-prior-lake-teentober-event-guess-the-shredded-book-small-meeting-room/
LOCATION:Prior Lake Library\, 16210 Eagle Creek Avenue SE\, Prior Lake\, MN\, 55372\, United States
CATEGORIES:Arts/Entertainment|Games/Gaming|Special Events
END:VEVENT
BEGIN:VEVENT
DTSTART;TZID=America/Chicago:20251013T103000
DTEND;TZID=America/Chicago:20251013T111500
DTSTAMP:20260421T063308
CREATED:20251009T125449Z
LAST-MODIFIED:20251216T173901Z
UID:10000014-1760351400-1760354100@priorlakeevents.com
SUMMARY:Early Literacy Spotlight Event: Wendy's Wiggle\, Jiggle & Jam at the Prior Lake Library! – Large Meeting Room
DESCRIPTION:Welcome Prior Lake kids & caregivers! Join us at the library for a special education week event on Monday\, October 13 at 10:30 am! \nThe amazing Wendy of Wendy’ s Wiggle\, Jiggle & Jam will get kids singing\, dancing\, and having fun in this highly interactive show. \nAll ages are welcome and registration is not required. \nSpecial thanks to the Friends of the Prior Lake Library for their financial support. \n 
URL:https://priorlakeevents.com/event/early-literacy-spotlight-event-wendys-wiggle-jiggle-jam-at-the-prior-lake-library-large-meeting-room/
LOCATION:Prior Lake Library\, 16210 Eagle Creek Avenue SE\, Prior Lake\, MN\, 55372\, United States
CATEGORIES:Arts/Entertainment|Special Events|Storytimes & Early Literacy Classes
ATTACH;FMTTYPE=image/png:https://priorlakeevents.com/wp-content/uploads/2025/10/1759426763-iJLByw-e1760015939857.png
END:VEVENT
BEGIN:VEVENT
DTSTART;TZID=America/Chicago:20251013T103000
DTEND;TZID=America/Chicago:20251013T110000
DTSTAMP:20260421T063308
CREATED:20251009T125445Z
LAST-MODIFIED:20251216T173929Z
UID:10000013-1760351400-1760353200@priorlakeevents.com
SUMMARY:Toddler/Preschool Early Literacy Class at Prior Lake Library – Large Meeting Room
DESCRIPTION:Welcome Prior Lake kids & caregivers! Join us at the library for a special event celebrating our fall family early literacy classes on Mondays at 10:30! \nSing and dance in dance instructor Nela’s lively parent-child program where you’ll groove to the beats of Salsa\, Bachata\, and Merengue\, learning vibrant dance moves alongside your family. Get ready to bond\, laugh\, and enjoy the rhythms of Latin dance together! \nAll ages are welcome and registration is not required. \nFunded by Minnesota’s Arts & Cultural Heritage (Legacy) Fund. Special event funded by the Friends of the Prior Lake Library. \nOur class themes: \n\n9/8: Spotlight Event!\n9/15: Airplanes\, Apples and Animals\n9/22: Bubbles and Balls\n9/29: Cold and Hot\n10/6: Dinosaur Dig\n10/13: Special event-Wendy’s Wiggle\, Jiggle & Jam\n10/20: Fast\, Slow\, and In-Between\n10/27: Grandma’s Glasses\n11/3: Feelings – Happy & Sad\n11/10: Ice\, Ice Baby\n11/17: Jellyfish Houses\n11/24: Kites Fly High in the Sky\n12/1: Library Loonies\n12/8: Mailbox Surprise\n12/15: New Shoes\, Red Shoes\n\nLooking for classes for other ages? We also have Baby Lap Sit classes on Thursdays at 10:30 am.
URL:https://priorlakeevents.com/event/toddler-preschool-early-literacy-class-at-prior-lake-library-large-meeting-room/
LOCATION:Prior Lake Library\, 16210 Eagle Creek Avenue SE\, Prior Lake\, MN\, 55372\, United States
CATEGORIES:Storytimes & Early Literacy Classes
END:VEVENT
BEGIN:VEVENT
DTSTART;TZID=America/Chicago:20251011T100000
DTEND;TZID=America/Chicago:20251011T113000
DTSTAMP:20260421T063308
CREATED:20251009T125445Z
LAST-MODIFIED:20251216T173929Z
UID:10000012-1760176800-1760182200@priorlakeevents.com
SUMMARY:Waggin' Tales Reading Time with Luna – Small Meeting Room
DESCRIPTION:Read to certified therapy dog\, Luna! Call 952-447-3375 to check dates and times. \nKids or adults can spend time practicing reading to a trained therapy dog with a good ear for stories. Bring your own books\, or pick one of ours. All ages are welcome! Best for beginning readers or children and adults looking to gain confidence in reading aloud.
URL:https://priorlakeevents.com/event/waggin-tales-reading-time-with-luna-small-meeting-room/
LOCATION:Prior Lake Library\, 16210 Eagle Creek Avenue SE\, Prior Lake\, MN\, 55372\, United States
CATEGORIES:Special Events
END:VEVENT
BEGIN:VEVENT
DTSTART;TZID=America/Chicago:20251009T163000
DTEND;TZID=America/Chicago:20251009T173000
DTSTAMP:20260421T063308
CREATED:20251009T125445Z
LAST-MODIFIED:20251216T173930Z
UID:10000011-1760027400-1760031000@priorlakeevents.com
SUMMARY:Teen Thursdays at Prior Lake Oregon Trail Live Action Game – Small Meeting Room
DESCRIPTION:For ages 12-18 Can you survive the journey west? Join us at the library for a group-friendly live action version of the 90s computer game. You will need to gather supplies\, face unpredictable challenges and make tough choices as you head west. Adventure (and maybe dysentery) awaits! \nJoin us select Thursdays for a fun activity specifically for teens. See our full schedule here!
URL:https://priorlakeevents.com/event/teen-thursdays-at-prior-lake-oregon-trail-live-action-game-small-meeting-room/
LOCATION:Prior Lake Library\, 16210 Eagle Creek Avenue SE\, Prior Lake\, MN\, 55372\, United States
CATEGORIES:Arts/Entertainment|Games/Gaming|Special Events
END:VEVENT
BEGIN:VEVENT
DTSTART;TZID=America/Chicago:20251009T103000
DTEND;TZID=America/Chicago:20251009T110000
DTSTAMP:20260421T063308
CREATED:20251009T125444Z
LAST-MODIFIED:20251216T173931Z
UID:10000010-1760005800-1760007600@priorlakeevents.com
SUMMARY:Baby Lap Sit Early Literacy Class at Prior Lake – Large Meeting Room
DESCRIPTION:Babies and their parents/caregivers are welcome to join us for our FREE and FUN story- and play-based early literacy classes that use the five important pre-readings practices of “Talk\, Sing\, Read\, Write\, and Play.” \nBest for ages 0-18 months only. Please\, for baby safety on the rug\, no older siblings if possible. \nOur class themes: \n\n9/11: Welcome to Baby Class\n9/18: How Big is baby?\n9/25: Roarin’ Readers\n10/2: Parachute Play Day\n10/9: Sing about me!\n10/23: Giggles to Scribbles\n10/30: Talk-a-Doodle-Doo\n11/6: Peek-a-Boo Baby\n11/13: Gobble-up words\n11/20: Meet Libby – Puppet Palooza\nLook for special events in December!\n\nLooking for classes for older kids? We also have a Toddler/Preschool class on Mondays at 10:30am. \nStorytimes led by library staff trained in the Every Child Ready to Read curriculum are “early literacy classes” – all the fun and learning of storytime\, but with tips and guidance on easy ways to help your child develop pre-reading skills. \n  \n 
URL:https://priorlakeevents.com/event/baby-lap-sit-early-literacy-class-at-prior-lake-large-meeting-room/
LOCATION:Prior Lake Library\, 16210 Eagle Creek Avenue SE\, Prior Lake\, MN\, 55372\, United States
CATEGORIES:Storytimes & Early Literacy Classes
END:VEVENT
BEGIN:VEVENT
DTSTART;TZID=America/Chicago:20251008T183000
DTEND;TZID=America/Chicago:20251008T200000
DTSTAMP:20260421T063308
CREATED:20251009T125444Z
LAST-MODIFIED:20251216T173931Z
UID:10000009-1759948200-1759953600@priorlakeevents.com
SUMMARY:Pagers Book Club – Small Meeting Room
DESCRIPTION:This library-sponsored book club for adults meets at the Prior Lake Library on the second Wednesday of the month. \nPlease call the Prior Lake Library at 952-447-3375 for more information..
URL:https://priorlakeevents.com/event/pagers-book-club-small-meeting-room/
LOCATION:Prior Lake Library\, 16210 Eagle Creek Avenue SE\, Prior Lake\, MN\, 55372\, United States
CATEGORIES:Books/Authors
END:VEVENT
END:VCALENDAR