BEGIN:VCALENDAR
VERSION:2.0
PRODID:-//Prior Lake Events - ECPv6.15.20//NONSGML v1.0//EN
CALSCALE:GREGORIAN
METHOD:PUBLISH
X-ORIGINAL-URL:https://priorlakeevents.com
X-WR-CALDESC:Events for Prior Lake Events
REFRESH-INTERVAL;VALUE=DURATION:PT1H
X-Robots-Tag:noindex
X-PUBLISHED-TTL:PT1H
BEGIN:VTIMEZONE
TZID:America/Chicago
BEGIN:DAYLIGHT
TZOFFSETFROM:-0600
TZOFFSETTO:-0500
TZNAME:CDT
DTSTART:20250309T080000
END:DAYLIGHT
BEGIN:STANDARD
TZOFFSETFROM:-0500
TZOFFSETTO:-0600
TZNAME:CST
DTSTART:20251102T070000
END:STANDARD
BEGIN:DAYLIGHT
TZOFFSETFROM:-0600
TZOFFSETTO:-0500
TZNAME:CDT
DTSTART:20260308T080000
END:DAYLIGHT
BEGIN:STANDARD
TZOFFSETFROM:-0500
TZOFFSETTO:-0600
TZNAME:CST
DTSTART:20261101T070000
END:STANDARD
BEGIN:DAYLIGHT
TZOFFSETFROM:-0600
TZOFFSETTO:-0500
TZNAME:CDT
DTSTART:20270314T080000
END:DAYLIGHT
BEGIN:STANDARD
TZOFFSETFROM:-0500
TZOFFSETTO:-0600
TZNAME:CST
DTSTART:20271107T070000
END:STANDARD
END:VTIMEZONE
BEGIN:VEVENT
DTSTART;TZID=America/Chicago:20260516T110000
DTEND;TZID=America/Chicago:20260516T200000
DTSTAMP:20260423T112534
CREATED:20260415T200758Z
LAST-MODIFIED:20260415T201630Z
UID:10003389-1778929200-1778961600@priorlakeevents.com
SUMMARY:Shakopee Spring Food Truck Festival
DESCRIPTION:Enjoy over 30 food trucks serving everything from savory bites to sweet treats at the Shakopee Spring Food Truck Festival! This free\, family-friendly event in Shakopee features live music\, activities for kids\, local vendors\, and domestic beers available for purchase. \nWhether you’re a foodie or just looking for a great day out near Prior Lake\, this festival at The Landing is a must-attend.
URL:https://priorlakeevents.com/event/shakopee-spring-food-truck-festival/
LOCATION:The Landing\, 2187 County Road 101\, Shakopee\, MN\, United States
ATTACH;FMTTYPE=image/jpeg:https://priorlakeevents.com/wp-content/uploads/2026/04/the-landing-food-truck-festival.jpg
END:VEVENT
END:VCALENDAR